BEGIN:VCALENDAR
VERSION:2.0
PRODID:-//Mag Bay Sport Fishing Lodge - ECPv6.15.11//NONSGML v1.0//EN
CALSCALE:GREGORIAN
METHOD:PUBLISH
X-WR-CALNAME:Mag Bay Sport Fishing Lodge
X-ORIGINAL-URL:https://magbaylodge.com
X-WR-CALDESC:Events for Mag Bay Sport Fishing Lodge
REFRESH-INTERVAL;VALUE=DURATION:PT1H
X-Robots-Tag:noindex
X-PUBLISHED-TTL:PT1H
BEGIN:VTIMEZONE
TZID:UTC
BEGIN:STANDARD
TZOFFSETFROM:+0000
TZOFFSETTO:+0000
TZNAME:UTC
DTSTART:20200101T000000
END:STANDARD
END:VTIMEZONE
BEGIN:VEVENT
DTSTART;TZID=UTC:20210612T080000
DTEND;TZID=UTC:20210617T170000
DTSTAMP:20260422T062041
CREATED:20210507T160330Z
LAST-MODIFIED:20210519T195150Z
UID:5995-1623484800-1623949200@magbaylodge.com
SUMMARY:David Brown plus guests
DESCRIPTION:David Brown plus 3 guests \n5 night Pro Cat 36′ Fishing Package\nSat Jun 12 2021 – Thu Jun 17 2021′ \nAlaska Flight: 258 Loreto\, GTO on Sat\, Jun 12\, 2021 12:45 PM\nAlaska Flight: 255Departs Loreto\, GTO on Thu\, Jun 17\, 2021 2:10 PM \nd3150bl11500
URL:https://magbaylodge.com/event/david-brown-plus-guests/
LOCATION:Magdalena Bay Fishing\, San Carlos Lodge
END:VEVENT
END:VCALENDAR