BEGIN:VCALENDAR
VERSION:2.0
PRODID:-//Mag Bay Sport Fishing Lodge - ECPv6.15.11//NONSGML v1.0//EN
CALSCALE:GREGORIAN
METHOD:PUBLISH
X-ORIGINAL-URL:https://magbaylodge.com
X-WR-CALDESC:Events for Mag Bay Sport Fishing Lodge
REFRESH-INTERVAL;VALUE=DURATION:PT1H
X-Robots-Tag:noindex
X-PUBLISHED-TTL:PT1H
BEGIN:VTIMEZONE
TZID:UTC
BEGIN:STANDARD
TZOFFSETFROM:+0000
TZOFFSETTO:+0000
TZNAME:UTC
DTSTART:20200101T000000
END:STANDARD
END:VTIMEZONE
BEGIN:VEVENT
DTSTART;TZID=UTC:20210702T080000
DTEND;TZID=UTC:20210705T170000
DTSTAMP:20260422T062122
CREATED:20210701T211615Z
LAST-MODIFIED:20210701T211650Z
UID:6091-1625212800-1625504400@magbaylodge.com
SUMMARY:Brian Watkins +1
DESCRIPTION:Driving themselves arrive Friday July 2 depart Monday July 5 \n2 days panga offshore – diving – 3 nights (no food or transfers) \nPaid in full
URL:https://magbaylodge.com/event/brian-watkins-1/
END:VEVENT
END:VCALENDAR