BEGIN:VCALENDAR
VERSION:2.0
PRODID:-//Mag Bay Sport Fishing Lodge - ECPv6.15.11//NONSGML v1.0//EN
CALSCALE:GREGORIAN
METHOD:PUBLISH
X-WR-CALNAME:Mag Bay Sport Fishing Lodge
X-ORIGINAL-URL:https://magbaylodge.com
X-WR-CALDESC:Events for Mag Bay Sport Fishing Lodge
REFRESH-INTERVAL;VALUE=DURATION:PT1H
X-Robots-Tag:noindex
X-PUBLISHED-TTL:PT1H
BEGIN:VTIMEZONE
TZID:UTC
BEGIN:STANDARD
TZOFFSETFROM:+0000
TZOFFSETTO:+0000
TZNAME:UTC
DTSTART:20200101T000000
END:STANDARD
END:VTIMEZONE
BEGIN:VEVENT
DTSTART;TZID=UTC:20210706T080000
DTEND;TZID=UTC:20210711T170000
DTSTAMP:20260422T074506
CREATED:20210218T221948Z
LAST-MODIFIED:20210702T155656Z
UID:5948-1625558400-1626022800@magbaylodge.com
SUMMARY:Steven Estabrooks and crew
DESCRIPTION:July 6th through July 11th 2021 – All inclusive fishing charter for 4 people. Includes transfer to and from LTO\, 3 days fishing inshore on 1 Panga and 5 days lodging\, meals and non alcoholic drinks included. \nWife VERY ALLERGIC to chicken and peanuts!  No peanuts or peanut products in the house please. Others can eat chicken but she cannot. Shelly es alérgica a los cacahuetes/mani\, no los tiene en la casa ni los usa para cocinar o ella MUERE. Ella no puede comer pollo pero otros invitados pueden. \npaid in full \n  \n 
URL:https://magbaylodge.com/event/steven-estabrooks-and-crew/
CATEGORIES:Lodge,Panga
END:VEVENT
END:VCALENDAR