BEGIN:VCALENDAR
VERSION:2.0
PRODID:-//Mag Bay Sport Fishing Lodge - ECPv6.15.11//NONSGML v1.0//EN
CALSCALE:GREGORIAN
METHOD:PUBLISH
X-WR-CALNAME:Mag Bay Sport Fishing Lodge
X-ORIGINAL-URL:https://magbaylodge.com
X-WR-CALDESC:Events for Mag Bay Sport Fishing Lodge
REFRESH-INTERVAL;VALUE=DURATION:PT1H
X-Robots-Tag:noindex
X-PUBLISHED-TTL:PT1H
BEGIN:VTIMEZONE
TZID:UTC
BEGIN:STANDARD
TZOFFSETFROM:+0000
TZOFFSETTO:+0000
TZNAME:UTC
DTSTART:20200101T000000
END:STANDARD
END:VTIMEZONE
BEGIN:VEVENT
DTSTART;TZID=UTC:20210724T080000
DTEND;TZID=UTC:20210730T170000
DTSTAMP:20260422T074442
CREATED:20210627T164809Z
LAST-MODIFIED:20210627T164809Z
UID:6082-1627113600-1627664400@magbaylodge.com
SUMMARY:BlueGabe July 24-30
DESCRIPTION:Roundtrip airport from Cabo \nPanga inshore \nIsland house
URL:https://magbaylodge.com/event/bluegabe-july-24-30/
END:VEVENT
END:VCALENDAR