BEGIN:VCALENDAR
VERSION:2.0
PRODID:-//Mag Bay Sport Fishing Lodge - ECPv6.15.11//NONSGML v1.0//EN
CALSCALE:GREGORIAN
METHOD:PUBLISH
X-WR-CALNAME:Mag Bay Sport Fishing Lodge
X-ORIGINAL-URL:https://magbaylodge.com
X-WR-CALDESC:Events for Mag Bay Sport Fishing Lodge
REFRESH-INTERVAL;VALUE=DURATION:PT1H
X-Robots-Tag:noindex
X-PUBLISHED-TTL:PT1H
BEGIN:VTIMEZONE
TZID:UTC
BEGIN:STANDARD
TZOFFSETFROM:+0000
TZOFFSETTO:+0000
TZNAME:UTC
DTSTART:20200101T000000
END:STANDARD
END:VTIMEZONE
BEGIN:VEVENT
DTSTART;TZID=UTC:20210907T080000
DTEND;TZID=UTC:20210911T170000
DTSTAMP:20260422T092620
CREATED:20210730T160211Z
LAST-MODIFIED:20210907T143552Z
UID:6128-1631001600-1631379600@magbaylodge.com
SUMMARY:Clinton Osborn Sep 7-11
DESCRIPTION:4 guests- 1 day ProKat and 2 days inshore panga fishing \nIsland House \nArrival Volaris flight 268 arriving at 12:30pm\nVolaris flight 269 1pm departure\nLoreto
URL:https://magbaylodge.com/event/clinton-osborn-sep-7-11/
LOCATION:Magdalena Bay Fishing\, San Carlos Lodge
CATEGORIES:Panga,ProCat
END:VEVENT
BEGIN:VEVENT
DTSTART;TZID=UTC:20210911T080000
DTEND;TZID=UTC:20210916T170000
DTSTAMP:20260422T092620
CREATED:20210519T200739Z
LAST-MODIFIED:20220301T143159Z
UID:6015-1631347200-1631811600@magbaylodge.com
SUMMARY:Kim Stuart
DESCRIPTION:4 night fishing package 3 guests Cape Horn \npaid in full \nMain House \nLAX to LTO 9/11/21\nArrive 12:35 pm\nAlaska Air #258 \nLTO to LAX 9/16/21\nA. 5:05pm\nAlaska Air #255
URL:https://magbaylodge.com/event/kim-stuart/
LOCATION:Magdalena Bay Fishing\, San Carlos Lodge
CATEGORIES:Cape Horn,Lodge
END:VEVENT
BEGIN:VEVENT
DTSTART;TZID=UTC:20210911T080000
DTEND;TZID=UTC:20210918T170000
DTSTAMP:20260422T092620
CREATED:20210607T162922Z
LAST-MODIFIED:20210910T171628Z
UID:6028-1631347200-1631984400@magbaylodge.com
SUMMARY:Mike and Rick
DESCRIPTION:September 11-18th \nArrive 12:35 p.m. on flight Alaska 258. \nAll meals\, including fresh-caught local seafood\, & all non-alcoholic drinks\n• Roundtrip transportation to and from Loreto Airport\n• Boat transportation to island house\n• All bait and tackle\n• Fish freezing and processing\n• Pangas accessible\n• 3 days offshore fishing and 1 day inshore fishing on Cape Horn \npaid in full
URL:https://magbaylodge.com/event/mike-and-rick/
CATEGORIES:Cape Horn
END:VEVENT
END:VCALENDAR