BEGIN:VCALENDAR
VERSION:2.0
PRODID:-//Mag Bay Sport Fishing Lodge - ECPv6.15.11//NONSGML v1.0//EN
CALSCALE:GREGORIAN
METHOD:PUBLISH
X-WR-CALNAME:Mag Bay Sport Fishing Lodge
X-ORIGINAL-URL:https://magbaylodge.com
X-WR-CALDESC:Events for Mag Bay Sport Fishing Lodge
REFRESH-INTERVAL;VALUE=DURATION:PT1H
X-Robots-Tag:noindex
X-PUBLISHED-TTL:PT1H
BEGIN:VTIMEZONE
TZID:UTC
BEGIN:STANDARD
TZOFFSETFROM:+0000
TZOFFSETTO:+0000
TZNAME:UTC
DTSTART:20200101T000000
END:STANDARD
END:VTIMEZONE
BEGIN:VEVENT
DTSTART;TZID=UTC:20211009T080000
DTEND;TZID=UTC:20211016T170000
DTSTAMP:20260422T080114
CREATED:20191202T180554Z
LAST-MODIFIED:20210927T191548Z
UID:5261-1633766400-1634403600@magbaylodge.com
SUMMARY:Mason Wilner + 3
DESCRIPTION:Island House\nGuests are providing all food/meals- need stop at grocery store\n2 days Offshore Cape Horn\n2 days Inshore Cape Horn\n1 day x 4 kayaks personal use\nRT transport from Cabo \nSaturday Oct. 9 Arrive Cabo (SJD) at 2:34pm\nSaturday Oct. 16 Depart Magbay @ 7:00 am for flight Cabo (SJD) 1:20 pm
URL:https://magbaylodge.com/event/mason-wilner-3/
CATEGORIES:Cape Horn
END:VEVENT
BEGIN:VEVENT
DTSTART;TZID=UTC:20211010T080000
DTEND;TZID=UTC:20211015T170000
DTSTAMP:20260422T080114
CREATED:20200926T232228Z
LAST-MODIFIED:20210818T045724Z
UID:5790-1633852800-1634317200@magbaylodge.com
SUMMARY:Eric Graff & group
DESCRIPTION:Eric Graff and Group \nstay @ lodge Oct 10 – oct 15th. Transport from Loreto 6 guys total fishing 11-14 \n2 days prokat offshore 2 days 2 pangas inshore \nmeals\, lodging \, non alcoholic beverages included \nJoseph/saltjunkies deposit \nVOLARIS AIR  TJ to LA PAZ  10/10/2021  Y4 580 arrives at 9:16 AM  \,  no luggage 4 passengers \nReturn on 10/15  To La Paz 10 am they are flying out next morning but don’t want to wake up early. \n 
URL:https://magbaylodge.com/event/5790/
CATEGORIES:Lodge,Panga,ProCat
END:VEVENT
END:VCALENDAR