BEGIN:VCALENDAR
VERSION:2.0
PRODID:-//Mag Bay Sport Fishing Lodge - ECPv6.15.11//NONSGML v1.0//EN
CALSCALE:GREGORIAN
METHOD:PUBLISH
X-WR-CALNAME:Mag Bay Sport Fishing Lodge
X-ORIGINAL-URL:https://magbaylodge.com
X-WR-CALDESC:Events for Mag Bay Sport Fishing Lodge
REFRESH-INTERVAL;VALUE=DURATION:PT1H
X-Robots-Tag:noindex
X-PUBLISHED-TTL:PT1H
BEGIN:VTIMEZONE
TZID:UTC
BEGIN:STANDARD
TZOFFSETFROM:+0000
TZOFFSETTO:+0000
TZNAME:UTC
DTSTART:20200101T000000
END:STANDARD
END:VTIMEZONE
BEGIN:VEVENT
DTSTART;TZID=UTC:20211114T080000
DTEND;TZID=UTC:20211118T170000
DTSTAMP:20260422T062847
CREATED:20211105T174202Z
LAST-MODIFIED:20211105T174559Z
UID:6303-1636876800-1637254800@magbaylodge.com
SUMMARY:Gary Graham
DESCRIPTION:Gary Graham + 3 people\nDriving themselves\n4 nights lodging@ Lodge/meals\nInshore panga 15th\, 16th\, 17th
URL:https://magbaylodge.com/event/gary-graham/
LOCATION:Magdalena Bay Fishing\, San Carlos Lodge
CATEGORIES:Lodge,Panga
END:VEVENT
BEGIN:VEVENT
DTSTART;TZID=UTC:20211115T080000
DTEND;TZID=UTC:20211122T170000
DTSTAMP:20260422T062847
CREATED:20190717T211326Z
LAST-MODIFIED:20211104T185219Z
UID:5073-1636963200-1637600400@magbaylodge.com
SUMMARY:Sportfishing Magazine and Hobie Kayaks
DESCRIPTION:Sportfishing Magazine and Hobie Kayaks
URL:https://magbaylodge.com/event/sportfishing-magazine-and-hobie-kayaks/
CATEGORIES:Panga
END:VEVENT
BEGIN:VEVENT
DTSTART;TZID=UTC:20211118T080000
DTEND;TZID=UTC:20211124T170000
DTSTAMP:20260422T062847
CREATED:20201029T204721Z
LAST-MODIFIED:20211122T172233Z
UID:5831-1637222400-1637773200@magbaylodge.com
SUMMARY:Chris Varjan and crew
DESCRIPTION:Arrive Nov 18th Cabo\nDepart Nov 24th Cabo\n5 days offshore ProKat and Cape Horn\nAll inclusive- lodging\, meals\, non-alcoholic drinks\nStaying at lodge but may move to island house
URL:https://magbaylodge.com/event/chris-varjan-and-crew/
CATEGORIES:Cape Horn,ProCat
END:VEVENT
END:VCALENDAR