BEGIN:VCALENDAR
VERSION:2.0
PRODID:-//Mag Bay Sport Fishing Lodge - ECPv6.15.11//NONSGML v1.0//EN
CALSCALE:GREGORIAN
METHOD:PUBLISH
X-WR-CALNAME:Mag Bay Sport Fishing Lodge
X-ORIGINAL-URL:https://magbaylodge.com
X-WR-CALDESC:Events for Mag Bay Sport Fishing Lodge
REFRESH-INTERVAL;VALUE=DURATION:PT1H
X-Robots-Tag:noindex
X-PUBLISHED-TTL:PT1H
BEGIN:VTIMEZONE
TZID:UTC
BEGIN:STANDARD
TZOFFSETFROM:+0000
TZOFFSETTO:+0000
TZNAME:UTC
DTSTART:20210101T000000
END:STANDARD
END:VTIMEZONE
BEGIN:VEVENT
DTSTART;TZID=UTC:20220206T080000
DTEND;TZID=UTC:20220210T170000
DTSTAMP:20260422T015840
CREATED:20220118T044914Z
LAST-MODIFIED:20220124T205142Z
UID:6423-1644134400-1644512400@magbaylodge.com
SUMMARY:Hillary Young and Party
DESCRIPTION:3 adults \n3 Children \nMain House Lodging only \nAirbnb- HMNKNHR53C \n 
URL:https://magbaylodge.com/event/details-to-follow/
END:VEVENT
BEGIN:VEVENT
DTSTART;TZID=UTC:20220209T080000
DTEND;TZID=UTC:20220212T170000
DTSTAMP:20260422T015840
CREATED:20220125T210054Z
LAST-MODIFIED:20220125T210326Z
UID:6477-1644393600-1644685200@magbaylodge.com
SUMMARY:Morgan
DESCRIPTION:Arrives February 9th \nDepartures February 12th \nNeeds transportation to and from airport Loreto \nAll meals and drinks (non-alcoholic) \nIsland house \n 
URL:https://magbaylodge.com/event/morgan/
CATEGORIES:Island House
END:VEVENT
END:VCALENDAR