BEGIN:VCALENDAR
VERSION:2.0
PRODID:-//Mag Bay Sport Fishing Lodge - ECPv6.15.11//NONSGML v1.0//EN
CALSCALE:GREGORIAN
METHOD:PUBLISH
X-ORIGINAL-URL:https://magbaylodge.com
X-WR-CALDESC:Events for Mag Bay Sport Fishing Lodge
REFRESH-INTERVAL;VALUE=DURATION:PT1H
X-Robots-Tag:noindex
X-PUBLISHED-TTL:PT1H
BEGIN:VTIMEZONE
TZID:UTC
BEGIN:STANDARD
TZOFFSETFROM:+0000
TZOFFSETTO:+0000
TZNAME:UTC
DTSTART:20210101T000000
END:STANDARD
END:VTIMEZONE
BEGIN:VEVENT
DTSTART;TZID=UTC:20220209T080000
DTEND;TZID=UTC:20220212T170000
DTSTAMP:20260422T015904
CREATED:20220125T210054Z
LAST-MODIFIED:20220125T210326Z
UID:6477-1644393600-1644685200@magbaylodge.com
SUMMARY:Morgan
DESCRIPTION:Arrives February 9th \nDepartures February 12th \nNeeds transportation to and from airport Loreto \nAll meals and drinks (non-alcoholic) \nIsland house \n 
URL:https://magbaylodge.com/event/morgan/
CATEGORIES:Island House
END:VEVENT
BEGIN:VEVENT
DTSTART;TZID=UTC:20220211T080000
DTEND;TZID=UTC:20220213T170000
DTSTAMP:20260422T015904
CREATED:20220210T221431Z
LAST-MODIFIED:20220210T221431Z
UID:6516-1644566400-1644771600@magbaylodge.com
SUMMARY:Elizabeth Brady and Party
DESCRIPTION:7 guests \n2 pets \nMain House \nAirbnb – HMYH33JAW2
URL:https://magbaylodge.com/event/elizabeth-brady-and-party/
END:VEVENT
BEGIN:VEVENT
DTSTART;TZID=UTC:20220212T080000
DTEND;TZID=UTC:20220214T170000
DTSTAMP:20260422T015904
CREATED:20220125T210933Z
LAST-MODIFIED:20220125T210933Z
UID:6479-1644652800-1644858000@magbaylodge.com
SUMMARY:April
DESCRIPTION:Island House \nAirBNB
URL:https://magbaylodge.com/event/april/
END:VEVENT
END:VCALENDAR