BEGIN:VCALENDAR
VERSION:2.0
PRODID:-//Mag Bay Sport Fishing Lodge - ECPv6.15.11//NONSGML v1.0//EN
CALSCALE:GREGORIAN
METHOD:PUBLISH
X-ORIGINAL-URL:https://magbaylodge.com
X-WR-CALDESC:Events for Mag Bay Sport Fishing Lodge
REFRESH-INTERVAL;VALUE=DURATION:PT1H
X-Robots-Tag:noindex
X-PUBLISHED-TTL:PT1H
BEGIN:VTIMEZONE
TZID:UTC
BEGIN:STANDARD
TZOFFSETFROM:+0000
TZOFFSETTO:+0000
TZNAME:UTC
DTSTART:20210101T000000
END:STANDARD
END:VTIMEZONE
BEGIN:VEVENT
DTSTART;TZID=UTC:20220806T080000
DTEND;TZID=UTC:20220811T170000
DTSTAMP:20260421T164646
CREATED:20211124T204020Z
LAST-MODIFIED:20220301T192439Z
UID:6325-1659772800-1660237200@magbaylodge.com
SUMMARY:Juan Rodriguez and Party
DESCRIPTION:Arriving August 6th 2:15 pm needs transportation from Loreto \nDeparting August 11th 3:25 pm needs transportation \nAlaska Flight 342 \nParty of 3 could change to party of 5. \nOffshore fishing \nFishing on August 7th\, 8th\, 9th \nMain House \n(all waivers signed) \n(Paid in full)
URL:https://magbaylodge.com/event/juan-rodriguez-and-party/
CATEGORIES:Boston Whaler
END:VEVENT
END:VCALENDAR