BEGIN:VCALENDAR
VERSION:2.0
PRODID:-//Mag Bay Sport Fishing Lodge - ECPv6.15.11//NONSGML v1.0//EN
CALSCALE:GREGORIAN
METHOD:PUBLISH
X-WR-CALNAME:Mag Bay Sport Fishing Lodge
X-ORIGINAL-URL:https://magbaylodge.com
X-WR-CALDESC:Events for Mag Bay Sport Fishing Lodge
REFRESH-INTERVAL;VALUE=DURATION:PT1H
X-Robots-Tag:noindex
X-PUBLISHED-TTL:PT1H
BEGIN:VTIMEZONE
TZID:UTC
BEGIN:STANDARD
TZOFFSETFROM:+0000
TZOFFSETTO:+0000
TZNAME:UTC
DTSTART:20210101T000000
END:STANDARD
END:VTIMEZONE
BEGIN:VEVENT
DTSTART;TZID=UTC:20221022T080000
DTEND;TZID=UTC:20221027T170000
DTSTAMP:20260421T134556
CREATED:20210804T161939Z
LAST-MODIFIED:20220408T155648Z
UID:6134-1666425600-1666890000@magbaylodge.com
SUMMARY:Richard King + 4
DESCRIPTION:Arrive Oct 22\n5 guests+ lodging/meals+ alcohol\n4 bottles tequila+ 10 24-pack beer\nFish 4 days total\n2 days Prokat Offshore\n1 day Prokat Inshore\n1 day Panga Mangrove (2 pangas)\nDepart Oct 27 \nIsland house \n(paid in full) \n  \nFlight info \nVolaris 268 \nTijuana to Loreto / Saturday October 22nd \n10:50am Depart / Arrive 1:30pm \n  \nVolaris 269 \nLoreto to Tijuana / Thursday October 27th \n2:52pm Depart / Arrive 3:27pm
URL:https://magbaylodge.com/event/richard-king-4/
LOCATION:Magdalena Bay Fishing\, San Carlos Lodge
CATEGORIES:Island House,Panga,ProCat
END:VEVENT
BEGIN:VEVENT
DTSTART;TZID=UTC:20221023T080000
DTEND;TZID=UTC:20221030T170000
DTSTAMP:20260421T134556
CREATED:20220108T013621Z
LAST-MODIFIED:20220127T182255Z
UID:6409-1666512000-1667149200@magbaylodge.com
SUMMARY:Seth Bricel
DESCRIPTION:October 23\, 2022\, to October 30\, 2022 \nFishing on October 24\, 25\, and 26 Panga and Kayaks \nParty of 3 \nCapehorn fishing on October 27\, 28\, 29 \nLodging- Main House \nAll-Inclusive meals and drinks (non-alcoholic) \n 
URL:https://magbaylodge.com/event/seth-bricel/
CATEGORIES:Cape Horn,Lodge
END:VEVENT
BEGIN:VEVENT
DTSTART;TZID=UTC:20221025T080000
DTEND;TZID=UTC:20221029T170000
DTSTAMP:20260421T134556
CREATED:20220620T235221Z
LAST-MODIFIED:20221024T161645Z
UID:6740-1666684800-1667062800@magbaylodge.com
SUMMARY:Luis Garcia
DESCRIPTION:Fishing offshore October 26\, 27\, 28\nParty of 4 maybe 5\nBoston Whaler\nNo Lodging\, no transportation\, no food no drinks.
URL:https://magbaylodge.com/event/luis-garcia/
CATEGORIES:Boston Whaler
END:VEVENT
END:VCALENDAR