BEGIN:VCALENDAR
VERSION:2.0
PRODID:-//Mag Bay Sport Fishing Lodge - ECPv6.15.11//NONSGML v1.0//EN
CALSCALE:GREGORIAN
METHOD:PUBLISH
X-ORIGINAL-URL:https://magbaylodge.com
X-WR-CALDESC:Events for Mag Bay Sport Fishing Lodge
REFRESH-INTERVAL;VALUE=DURATION:PT1H
X-Robots-Tag:noindex
X-PUBLISHED-TTL:PT1H
BEGIN:VTIMEZONE
TZID:UTC
BEGIN:STANDARD
TZOFFSETFROM:+0000
TZOFFSETTO:+0000
TZNAME:UTC
DTSTART:20210101T000000
END:STANDARD
END:VTIMEZONE
BEGIN:VEVENT
DTSTART;TZID=UTC:20221127T080000
DTEND;TZID=UTC:20221204T170000
DTSTAMP:20260421T100931
CREATED:20211222T022238Z
LAST-MODIFIED:20211224T185904Z
UID:6372-1669536000-1670173200@magbaylodge.com
SUMMARY:Toby Taylor and Crew
DESCRIPTION:Arriving November 27  Departing December 4 \nPick up from Loreto airport and return to Loreto airport \nShuttle to the island houses \n3 Boats\, Both Boston Whalers\, and ProKat \n5 days of fishing on 11/28\, 11/29\, 11/30\, 12/1\, 12/2 \nBoth Island houses \nParty of 9 \nAll-inclusive\, meals\, drinks (non-alcoholic) \n  \n 
URL:https://magbaylodge.com/event/toby-taylor-and-crew/
CATEGORIES:Boston Whaler,Island House,ProCat
END:VEVENT
BEGIN:VEVENT
DTSTART;TZID=UTC:20221204T080000
DTEND;TZID=UTC:20221208T170000
DTSTAMP:20260421T100931
CREATED:20211201T033420Z
LAST-MODIFIED:20220124T185537Z
UID:6335-1670140800-1670518800@magbaylodge.com
SUMMARY:Clint Osborn Dec 4-8
DESCRIPTION:Arrive Dec 4th Depart Dec 8th 2022 \nPick up and Return to Loreto \nAll Inclusive meals and lodging for 4 nights at main home in San Carlos for 6 people \nFish 2 Days ProKat Offshore \n1 Day 2 Pangas Inshore \nMain House
URL:https://magbaylodge.com/event/clint-osborn-dec-4-8/
CATEGORIES:ProCat
END:VEVENT
BEGIN:VEVENT
DTSTART;TZID=UTC:20221204T080000
DTEND;TZID=UTC:20221210T080000
DTSTAMP:20260421T100931
CREATED:20211231T025353Z
LAST-MODIFIED:20221204T225423Z
UID:6395-1670140800-1670659200@magbaylodge.com
SUMMARY:Julie Hatcher and Party
DESCRIPTION:Arriving December 4\, 2022 \nDeparting December 10\, 2022 \nPick up and Drop off Loreto Airport \nIsland House \nAll-inclusive (non-alcoholic drinks) \n3 days offshore \n2 days inshore fishing for 4 people. \nFishing on December 5\, 6\, 7\, 8\, and 9 \nFish out of two pangas (2 people per panga). \nOne panga would solely be flyfishing and the other would be a combination of flyfishing and conventional gear. \n  \n(Julie and Stehpen signed waivers)
URL:https://magbaylodge.com/event/julie-hatcher-and-party/
CATEGORIES:Panga,ProCat
END:VEVENT
END:VCALENDAR