BEGIN:VCALENDAR
VERSION:2.0
PRODID:-//Mag Bay Sport Fishing Lodge - ECPv6.15.11//NONSGML v1.0//EN
CALSCALE:GREGORIAN
METHOD:PUBLISH
X-WR-CALNAME:Mag Bay Sport Fishing Lodge
X-ORIGINAL-URL:https://magbaylodge.com
X-WR-CALDESC:Events for Mag Bay Sport Fishing Lodge
REFRESH-INTERVAL;VALUE=DURATION:PT1H
X-Robots-Tag:noindex
X-PUBLISHED-TTL:PT1H
BEGIN:VTIMEZONE
TZID:UTC
BEGIN:STANDARD
TZOFFSETFROM:+0000
TZOFFSETTO:+0000
TZNAME:UTC
DTSTART:20210101T000000
END:STANDARD
END:VTIMEZONE
BEGIN:VEVENT
DTSTART;TZID=UTC:20221217T080000
DTEND;TZID=UTC:20221221T170000
DTSTAMP:20260421T100813
CREATED:20220204T230512Z
LAST-MODIFIED:20220204T231231Z
UID:6510-1671264000-1671642000@magbaylodge.com
SUMMARY:Kyle Christiansen and Party
DESCRIPTION:Arriving December 17\, 2022 \nDeparture December 21\, 2022 \nProcat and Boston Whaler \nFishing on 12/18\,12/19\,12/20 \nBoth Island house \nTransportation to and from the airport \nAll-inclusive meals and drinks (non-alcoholic)
URL:https://magbaylodge.com/event/kyle-christiansen-and-party/
CATEGORIES:Boston Whaler,ProCat
END:VEVENT
BEGIN:VEVENT
DTSTART;TZID=UTC:20221219T080000
DTEND;TZID=UTC:20221224T170000
DTSTAMP:20260421T100813
CREATED:20220304T012944Z
LAST-MODIFIED:20221204T225540Z
UID:6618-1671436800-1671901200@magbaylodge.com
SUMMARY:Janet and Marty Downey
DESCRIPTION:Arriving December 19\, 2022 \nDeparture December 25\, 2022 \nTransportation to and from Airport \nOffshore Fishing December 21\, 22\, 23\, 24 \nJuan as captain \nMain house December 19\, 20 \nIsland House December 21\, 22\, 23\, 24 \nBoston Whaler (potentially)
URL:https://magbaylodge.com/event/janey-and-marty-downey/
CATEGORIES:Boston Whaler,Island House,KH
END:VEVENT
END:VCALENDAR