BEGIN:VCALENDAR
VERSION:2.0
PRODID:-//Mag Bay Sport Fishing Lodge - ECPv6.15.11//NONSGML v1.0//EN
CALSCALE:GREGORIAN
METHOD:PUBLISH
X-WR-CALNAME:Mag Bay Sport Fishing Lodge
X-ORIGINAL-URL:https://magbaylodge.com
X-WR-CALDESC:Events for Mag Bay Sport Fishing Lodge
REFRESH-INTERVAL;VALUE=DURATION:PT1H
X-Robots-Tag:noindex
X-PUBLISHED-TTL:PT1H
BEGIN:VTIMEZONE
TZID:UTC
BEGIN:STANDARD
TZOFFSETFROM:+0000
TZOFFSETTO:+0000
TZNAME:UTC
DTSTART:20210101T000000
END:STANDARD
END:VTIMEZONE
BEGIN:VEVENT
DTSTART;TZID=UTC:20221224T080000
DTEND;TZID=UTC:20221227T170000
DTSTAMP:20260421T100752
CREATED:20221221T005622Z
LAST-MODIFIED:20221221T005622Z
UID:6953-1671868800-1672160400@magbaylodge.com
SUMMARY:Edward Wen
DESCRIPTION:Arrive December 24\, 2022 \nDeparture December 27\, 2022 \nfishing 25\, 26\, and 27 \n2 days cape horn one panga \n2 days offshore cape horn\n1-day surf camp plus fishing\nneeds to rent surfboard if possible\nstay at B and B with 2 rooms\nCharter w/ MagBay Lodge SA de CV\nall meals and non-alcoholic drinks included
URL:https://magbaylodge.com/event/edward-wen/
CATEGORIES:Cape Horn,Isabel,Panga
END:VEVENT
END:VCALENDAR