BEGIN:VCALENDAR
VERSION:2.0
PRODID:-//Mag Bay Sport Fishing Lodge - ECPv6.15.11//NONSGML v1.0//EN
CALSCALE:GREGORIAN
METHOD:PUBLISH
X-ORIGINAL-URL:https://magbaylodge.com
X-WR-CALDESC:Events for Mag Bay Sport Fishing Lodge
REFRESH-INTERVAL;VALUE=DURATION:PT1H
X-Robots-Tag:noindex
X-PUBLISHED-TTL:PT1H
BEGIN:VTIMEZONE
TZID:UTC
BEGIN:STANDARD
TZOFFSETFROM:+0000
TZOFFSETTO:+0000
TZNAME:UTC
DTSTART:20220101T000000
END:STANDARD
END:VTIMEZONE
BEGIN:VEVENT
DTSTART;TZID=UTC:20230106T080000
DTEND;TZID=UTC:20230113T170000
DTSTAMP:20260421T100922
CREATED:20220822T234058Z
LAST-MODIFIED:20221204T225713Z
UID:6798-1672992000-1673629200@magbaylodge.com
SUMMARY:Toby's Group
DESCRIPTION:
URL:https://magbaylodge.com/event/tobys-group/
CATEGORIES:KH
END:VEVENT
BEGIN:VEVENT
DTSTART;TZID=UTC:20230110T080000
DTEND;TZID=UTC:20230114T170000
DTSTAMP:20260421T100922
CREATED:20220123T051837Z
LAST-MODIFIED:20221204T225743Z
UID:6442-1673337600-1673715600@magbaylodge.com
SUMMARY:Sean Strahlo and Party
DESCRIPTION:Arriving January 10\, 2023 \nDeparture January 14\, 2023 \nTransporation to and from Loerto airport \nParty of 4 \nAll-inclusive meals\, and drink (non-alcoholic) \nMain house \nBoston Whaler \nFishing 1/11/23\, 11/12/23\, and 1/13/23 \nFishing for striped marlin\, looking to bait ball to photograph fish
URL:https://magbaylodge.com/event/sean-strahlo-and-party/
CATEGORIES:Boston Whaler,Lodge,ProCat
END:VEVENT
END:VCALENDAR