BEGIN:VCALENDAR
VERSION:2.0
PRODID:-//Mag Bay Sport Fishing Lodge - ECPv6.15.11//NONSGML v1.0//EN
CALSCALE:GREGORIAN
METHOD:PUBLISH
X-ORIGINAL-URL:https://magbaylodge.com
X-WR-CALDESC:Events for Mag Bay Sport Fishing Lodge
REFRESH-INTERVAL;VALUE=DURATION:PT1H
X-Robots-Tag:noindex
X-PUBLISHED-TTL:PT1H
BEGIN:VTIMEZONE
TZID:UTC
BEGIN:STANDARD
TZOFFSETFROM:+0000
TZOFFSETTO:+0000
TZNAME:UTC
DTSTART:20220101T000000
END:STANDARD
END:VTIMEZONE
BEGIN:VEVENT
DTSTART;TZID=UTC:20231107T080000
DTEND;TZID=UTC:20231112T170000
DTSTAMP:20260421T100948
CREATED:20220407T213906Z
LAST-MODIFIED:20230815T200323Z
UID:6666-1699344000-1699808400@magbaylodge.com
SUMMARY:Gerry Klaus
DESCRIPTION:Arriving November 7\, 2023 \nDeparture November 12\, 2023 \nTransport to and from airport \n3 days fishing \n11/8 offshore \n11/9 inshore \n11/10 offshore \nProcat \nLodging- Main House \nMeals and drinks (non-alcoholic) \nParty of 5
URL:https://magbaylodge.com/event/gerry-klaus/
CATEGORIES:Lodge,ProCat
END:VEVENT
BEGIN:VEVENT
DTSTART;TZID=UTC:20231108T080000
DTEND;TZID=UTC:20231113T170000
DTSTAMP:20260421T100948
CREATED:20230516T203232Z
LAST-MODIFIED:20230815T200052Z
UID:56205-1699430400-1699894800@magbaylodge.com
SUMMARY:Joe Mclean
DESCRIPTION:Arrival October Nov 8\, 2023\nDeparture November 13\, 2023\nFishing 4 days total\n3 Days Offshore whaler\n1 day south inshore Whaler\nStaying Bed n Breakfast\nGroup of 4 people\npickup in loreto on oct Nov 8 th – return on the nov 13th\nincludes all meals and non alcoholic beverages\nDPD
URL:https://magbaylodge.com/event/joe-mclean-2/
END:VEVENT
BEGIN:VEVENT
DTSTART;TZID=UTC:20231112T080000
DTEND;TZID=UTC:20231117T170000
DTSTAMP:20260421T100948
CREATED:20221123T171006Z
LAST-MODIFIED:20221123T171006Z
UID:6899-1699776000-1700240400@magbaylodge.com
SUMMARY:Big Dog Tackle
DESCRIPTION:Boston Whaler\, Boston Conquest\, ProKat – casona and isabel
URL:https://magbaylodge.com/event/big-dog-tackle-3/
CATEGORIES:Boston Whaler,Conquest,Isabel,Lodge,ProCat
END:VEVENT
END:VCALENDAR