BEGIN:VCALENDAR
VERSION:2.0
PRODID:-//Mag Bay Sport Fishing Lodge - ECPv6.15.11//NONSGML v1.0//EN
CALSCALE:GREGORIAN
METHOD:PUBLISH
X-WR-CALNAME:Mag Bay Sport Fishing Lodge
X-ORIGINAL-URL:https://magbaylodge.com
X-WR-CALDESC:Events for Mag Bay Sport Fishing Lodge
REFRESH-INTERVAL;VALUE=DURATION:PT1H
X-Robots-Tag:noindex
X-PUBLISHED-TTL:PT1H
BEGIN:VTIMEZONE
TZID:UTC
BEGIN:STANDARD
TZOFFSETFROM:+0000
TZOFFSETTO:+0000
TZNAME:UTC
DTSTART:20220101T000000
END:STANDARD
END:VTIMEZONE
BEGIN:VEVENT
DTSTART;TZID=UTC:20231104T080000
DTEND;TZID=UTC:20231108T170000
DTSTAMP:20260423T154109
CREATED:20231027T222625Z
LAST-MODIFIED:20231027T222759Z
UID:56627-1699084800-1699462800@magbaylodge.com
SUMMARY:Chad Lyon
DESCRIPTION:Charter w/ MagBay Lodge SA de CV\nTrip for 4 Anglers Cape Horn\nPickup in Cabo Nov 4th 2023\nStay at B&B 4th\, 5th\, 6th\, 7th\nReturn to Cabo on the 8th\nFish Offshore 3 days\nPrice Includes\, meals and drinks\nDoes not include Tips\, Fishing License\, or Alcoholic Beverages.
URL:https://magbaylodge.com/event/chad-lyon/
CATEGORIES:Cape Horn
END:VEVENT
END:VCALENDAR