BEGIN:VCALENDAR
VERSION:2.0
PRODID:-//Mag Bay Sport Fishing Lodge - ECPv6.15.11//NONSGML v1.0//EN
CALSCALE:GREGORIAN
METHOD:PUBLISH
X-WR-CALNAME:Mag Bay Sport Fishing Lodge
X-ORIGINAL-URL:https://magbaylodge.com
X-WR-CALDESC:Events for Mag Bay Sport Fishing Lodge
REFRESH-INTERVAL;VALUE=DURATION:PT1H
X-Robots-Tag:noindex
X-PUBLISHED-TTL:PT1H
BEGIN:VTIMEZONE
TZID:UTC
BEGIN:STANDARD
TZOFFSETFROM:+0000
TZOFFSETTO:+0000
TZNAME:UTC
DTSTART:20200101T000000
END:STANDARD
END:VTIMEZONE
BEGIN:VEVENT
DTSTART;TZID=UTC:20210925T080000
DTEND;TZID=UTC:20211002T170000
DTSTAMP:20260422T040509
CREATED:20201221T152555Z
LAST-MODIFIED:20210930T212418Z
UID:5890-1632556800-1633194000@magbaylodge.com
SUMMARY:Barry Cooney and Crew
DESCRIPTION:Barry Cooney + 5 people arriving on September 25th and leaving October 2nd 2021. All inclusive trip. Includes airport transfers\, fish processing\, tackle and all meals. Does not include alcoholic beverages. Staying at Island House \n7 nights @ Island House. Fishing ProKat Offshore Sep 26\, 27\, 28\, 29\, 30. Rest day Oct 1. \nArrive September 25th LAX to Loreto\nLoreto Arrival 2:40 pm\n6 guests +luggage \nArrive Oct 2 Loreto departure 4 pm \n 
URL:https://magbaylodge.com/event/barry-cooney-and-crew/
CATEGORIES:Island House,ProCat
END:VEVENT
BEGIN:VEVENT
DTSTART;TZID=UTC:20211016T080000
DTEND;TZID=UTC:20211020T170000
DTSTAMP:20260422T040509
CREATED:20210621T211002Z
LAST-MODIFIED:20210928T161850Z
UID:6073-1634371200-1634749200@magbaylodge.com
SUMMARY:Scott Wakefield
DESCRIPTION:No transport needed- driving selves\nFishing 17\,18\,19\, 20 on Boston Whaler Conquest\nDefinitely 3 guests but possibly 4\nLodging at Island House + meals for Oct-16th-20th\nWill drive home after fishing on 20th \n 
URL:https://magbaylodge.com/event/scott-wakefield-2/
LOCATION:Magdalena Bay Fishing\, San Carlos Lodge
CATEGORIES:Boston Whaler,Island House
END:VEVENT
BEGIN:VEVENT
DTSTART;TZID=UTC:20211020T080000
DTEND;TZID=UTC:20211025T170000
DTSTAMP:20260422T040509
CREATED:20201214T153720Z
LAST-MODIFIED:20211018T164724Z
UID:5885-1634716800-1635181200@magbaylodge.com
SUMMARY:Dennis Land + 3
DESCRIPTION: Dennis land and crew (4 anglers).\nAll inclusive Includes lodging\, meals\, fish processing.\nArrive October 20 2021\nDepart October 25th 2021\nFishing offshore ProKat Oct 21\, 22\, 23\nFishing offshore Boston Whaler Outrage Oct 24- already arranged with Capitan Marco \nWaiting on waivers and flight info \n  \npaid in full
URL:https://magbaylodge.com/event/dennis-land-3/
LOCATION:Casa Magdalena Island House\, Isla Magdalena\, ADOLFO LOPEZ MATEO\, Baja California Sur\, 23710\, Mexico
CATEGORIES:Boston Whaler,Island House,ProCat
END:VEVENT
BEGIN:VEVENT
DTSTART;TZID=UTC:20211031T080000
DTEND;TZID=UTC:20211105T170000
DTSTAMP:20260422T040509
CREATED:20200314T145036Z
LAST-MODIFIED:20211028T221044Z
UID:5440-1635667200-1636131600@magbaylodge.com
SUMMARY:Marco & Cristy
DESCRIPTION:Pickup and drop off in Cabo \nArrive 10/31/2021 \nDepart 11/5/2021. \nAll inclusive includes airport transfer\, meals\, non alcoholic beverages\, lodging for 5 nights. \nFishing ProKat 3 days offshore
URL:https://magbaylodge.com/event/marco-cristy/
CATEGORIES:Island House,KH,ProCat
END:VEVENT
END:VCALENDAR