BEGIN:VCALENDAR
VERSION:2.0
PRODID:-//Mag Bay Sport Fishing Lodge - ECPv6.15.11//NONSGML v1.0//EN
CALSCALE:GREGORIAN
METHOD:PUBLISH
X-WR-CALNAME:Mag Bay Sport Fishing Lodge
X-ORIGINAL-URL:https://magbaylodge.com
X-WR-CALDESC:Events for Mag Bay Sport Fishing Lodge
REFRESH-INTERVAL;VALUE=DURATION:PT1H
X-Robots-Tag:noindex
X-PUBLISHED-TTL:PT1H
BEGIN:VTIMEZONE
TZID:UTC
BEGIN:STANDARD
TZOFFSETFROM:+0000
TZOFFSETTO:+0000
TZNAME:UTC
DTSTART:20210101T000000
END:STANDARD
END:VTIMEZONE
BEGIN:VEVENT
DTSTART;TZID=UTC:20220204T080000
DTEND;TZID=UTC:20220205T170000
DTSTAMP:20260421T215335
CREATED:20220125T211505Z
LAST-MODIFIED:20220125T213052Z
UID:6481-1643961600-1644080400@magbaylodge.com
SUMMARY:Eduardo
DESCRIPTION:Island House
URL:https://magbaylodge.com/event/eduardo/
CATEGORIES:Island House
END:VEVENT
BEGIN:VEVENT
DTSTART;TZID=UTC:20220209T080000
DTEND;TZID=UTC:20220212T170000
DTSTAMP:20260421T215335
CREATED:20220125T210054Z
LAST-MODIFIED:20220125T210326Z
UID:6477-1644393600-1644685200@magbaylodge.com
SUMMARY:Morgan
DESCRIPTION:Arrives February 9th \nDepartures February 12th \nNeeds transportation to and from airport Loreto \nAll meals and drinks (non-alcoholic) \nIsland house \n 
URL:https://magbaylodge.com/event/morgan/
CATEGORIES:Island House
END:VEVENT
BEGIN:VEVENT
DTSTART;TZID=UTC:20220222T080000
DTEND;TZID=UTC:20220224T170000
DTSTAMP:20260421T215335
CREATED:20211013T185931Z
LAST-MODIFIED:20220125T203753Z
UID:6231-1645516800-1645722000@magbaylodge.com
SUMMARY:Kenneth Ortiz
DESCRIPTION:Arriving 2/22/22 Departure 2/24/2022 \nscheduled to arrive in Loreto on Tuesday Feb 22 at 3:30pm \nNeeds transportation to and from Loerto Airport 12 passenger van \n2 Nights lodging @ Casa Magdalena\n8 guests \nAll inclusive\, Meals + non-alcoholic drinks \n1 day whale watching\, 2 pangas \nIsland House \n  \n(all waivers signed)
URL:https://magbaylodge.com/event/kenneth-ortiz/
CATEGORIES:Island House,Panga,Whale Watching
END:VEVENT
END:VCALENDAR