BEGIN:VCALENDAR
VERSION:2.0
PRODID:-//Mag Bay Sport Fishing Lodge - ECPv6.15.11//NONSGML v1.0//EN
CALSCALE:GREGORIAN
METHOD:PUBLISH
X-WR-CALNAME:Mag Bay Sport Fishing Lodge
X-ORIGINAL-URL:https://magbaylodge.com
X-WR-CALDESC:Events for Mag Bay Sport Fishing Lodge
REFRESH-INTERVAL;VALUE=DURATION:PT1H
X-Robots-Tag:noindex
X-PUBLISHED-TTL:PT1H
BEGIN:VTIMEZONE
TZID:UTC
BEGIN:STANDARD
TZOFFSETFROM:+0000
TZOFFSETTO:+0000
TZNAME:UTC
DTSTART:20210101T000000
END:STANDARD
END:VTIMEZONE
BEGIN:VEVENT
DTSTART;TZID=UTC:20221002T080000
DTEND;TZID=UTC:20221007T170000
DTSTAMP:20260421T101026
CREATED:20220221T175614Z
LAST-MODIFIED:20220221T175614Z
UID:6542-1664697600-1665162000@magbaylodge.com
SUMMARY:Kyle Scalis
DESCRIPTION:Arriving October 2\, 2022 \nDeparture on October 7\, 2022 \nTransportation to and from Loreto Airport \nFishing offshore on the Boston Whaler on October 3\, 4\,  fishing inshore on October 5 \nIsland house \nAll-inclusive meals and drinks (non-alcoholic) \nParty of 4 \ninterested in fishing wahoo marlin dorado
URL:https://magbaylodge.com/event/kyle-scalis/
CATEGORIES:Boston Whaler,Island House
END:VEVENT
BEGIN:VEVENT
DTSTART;TZID=UTC:20221008T080000
DTEND;TZID=UTC:20221014T170000
DTSTAMP:20260421T101026
CREATED:20211227T033023Z
LAST-MODIFIED:20220124T184831Z
UID:6384-1665216000-1665766800@magbaylodge.com
SUMMARY:Wahoo Junkies
DESCRIPTION:Prokat and Boston Whaler full \nIsland House \nAll-inclusive \n 
URL:https://magbaylodge.com/event/wahoo-junkies/
CATEGORIES:Boston Whaler,Island House,ProCat
END:VEVENT
BEGIN:VEVENT
DTSTART;TZID=UTC:20221022T080000
DTEND;TZID=UTC:20221027T170000
DTSTAMP:20260421T101026
CREATED:20210804T161939Z
LAST-MODIFIED:20220408T155648Z
UID:6134-1666425600-1666890000@magbaylodge.com
SUMMARY:Richard King + 4
DESCRIPTION:Arrive Oct 22\n5 guests+ lodging/meals+ alcohol\n4 bottles tequila+ 10 24-pack beer\nFish 4 days total\n2 days Prokat Offshore\n1 day Prokat Inshore\n1 day Panga Mangrove (2 pangas)\nDepart Oct 27 \nIsland house \n(paid in full) \n  \nFlight info \nVolaris 268 \nTijuana to Loreto / Saturday October 22nd \n10:50am Depart / Arrive 1:30pm \n  \nVolaris 269 \nLoreto to Tijuana / Thursday October 27th \n2:52pm Depart / Arrive 3:27pm
URL:https://magbaylodge.com/event/richard-king-4/
LOCATION:Magdalena Bay Fishing\, San Carlos Lodge
CATEGORIES:Island House,Panga,ProCat
END:VEVENT
END:VCALENDAR