BEGIN:VCALENDAR
VERSION:2.0
PRODID:-//Mag Bay Sport Fishing Lodge - ECPv6.15.11//NONSGML v1.0//EN
CALSCALE:GREGORIAN
METHOD:PUBLISH
X-WR-CALNAME:Mag Bay Sport Fishing Lodge
X-ORIGINAL-URL:https://magbaylodge.com
X-WR-CALDESC:Events for Mag Bay Sport Fishing Lodge
REFRESH-INTERVAL;VALUE=DURATION:PT1H
X-Robots-Tag:noindex
X-PUBLISHED-TTL:PT1H
BEGIN:VTIMEZONE
TZID:UTC
BEGIN:STANDARD
TZOFFSETFROM:+0000
TZOFFSETTO:+0000
TZNAME:UTC
DTSTART:20180101T000000
END:STANDARD
END:VTIMEZONE
BEGIN:VEVENT
DTSTART;TZID=UTC:20201006T080000
DTEND;TZID=UTC:20201011T170000
DTSTAMP:20260420T215025
CREATED:20200903T170119Z
LAST-MODIFIED:20200903T170119Z
UID:5765-1601971200-1602435600@magbaylodge.com
SUMMARY:Jake Pose 2 Crew
DESCRIPTION:Jake Pose 2 crew. All inclusive 3 days fishing\, 5 nights. Charter pickup in Todos Santos on October 6th and return date pending. \n  \npndd3700b3700
URL:https://magbaylodge.com/event/jake-pose-2-crew/
CATEGORIES:Lodge,ProCat
END:VEVENT
BEGIN:VEVENT
DTSTART;TZID=UTC:20201004T080000
DTEND;TZID=UTC:20201007T170000
DTSTAMP:20260420T215025
CREATED:20200916T151013Z
LAST-MODIFIED:20200916T151013Z
UID:5778-1601798400-1602090000@magbaylodge.com
SUMMARY:Kyle Christensen and Crew
DESCRIPTION:Final Confirmation of trip Details:\nPickup Cabo Oct\, 4th at 12:30 PM\nFish Monday Oct 5th\, Tuesday 6th\, and 1/2 day Wednesday the 7th in 2 pangas.\nReturn to Cabo on the 7th upon return from inshore fishing.\nAll inclusive meals and lodging for 6 people the entire time.\npd9650b0
URL:https://magbaylodge.com/event/kyle-christensen-and-crew/
CATEGORIES:Lodge,Panga
END:VEVENT
BEGIN:VEVENT
DTSTART;TZID=UTC:20201001T080000
DTEND;TZID=UTC:20201006T170000
DTSTAMP:20260420T215025
CREATED:20191024T210137Z
LAST-MODIFIED:20191024T210137Z
UID:5208-1601539200-1602003600@magbaylodge.com
SUMMARY:Kristen and crew
DESCRIPTION:
URL:https://magbaylodge.com/event/kristen-and-crew-2/
CATEGORIES:Cape Horn,KH,ProCat
END:VEVENT
BEGIN:VEVENT
DTSTART;TZID=UTC:20200926T080000
DTEND;TZID=UTC:20201001T170000
DTSTAMP:20260420T215025
CREATED:20200602T211739Z
LAST-MODIFIED:20200713T160449Z
UID:5458-1601107200-1601571600@magbaylodge.com
SUMMARY:Mark Bonsack and Crew
DESCRIPTION:Details:\nArrive to Mag Bay September 26th\nFish 27\,th\, 28th\, 29th\, 30th\nDepart the 1st of October. \nFocus Wahoo and Blue Marlin (lots of other species always mixed in)\nIncludes 4 days offshore – 2 days at the ridge (if it’s happening)\, 2 days outside special spots\n         2 Days ProKat 2 Days Cape Horn (most likely) – will arrange with other group\nIncludes\n•	all meals and non-alcoholic drinks\n•	4 days offshore fishing\n•	All required tackle\n•	Lodging 5 nights\n•	Fish processing and packaging \nDoes not Include\n•	Tips\n•	Alcoholic Drinks \nd3000bl5950
URL:https://magbaylodge.com/event/mark-bonsack-and-crew/
CATEGORIES:Cape Horn
END:VEVENT
BEGIN:VEVENT
DTSTART;TZID=UTC:20200926T080000
DTEND;TZID=UTC:20201001T170000
DTSTAMP:20260420T215025
CREATED:20200528T165411Z
LAST-MODIFIED:20200528T165545Z
UID:5451-1601107200-1601571600@magbaylodge.com
SUMMARY:Mark Bonsack
DESCRIPTION:Details:\nArrive to Mag Bay September 26th\nFish 27\,th\, 28th\, 29th\, 30th\nDepart the 1st of October \n2 Days Ridge\, 2 Days special spots outside
URL:https://magbaylodge.com/event/mark-bonsack/
CATEGORIES:ProCat
END:VEVENT
BEGIN:VEVENT
DTSTART;TZID=UTC:20200924T080000
DTEND;TZID=UTC:20201001T170000
DTSTAMP:20260420T215025
CREATED:20200303T005737Z
LAST-MODIFIED:20200303T005737Z
UID:5421-1600934400-1601571600@magbaylodge.com
SUMMARY:Michael Strupp and crew
DESCRIPTION:cape horn   arrive septemebetr 24th to loreto\, (switch houses) depart the 1st of October – wants wahoo tuna etc not worried about marlin\nall inclusive pickup at loreto  includes 3 days fishing offshore and 6 nights \nd2520bl5880  —5916
URL:https://magbaylodge.com/event/michael-strupp-and-crew/
CATEGORIES:Cape Horn,KH,Profe House
END:VEVENT
BEGIN:VEVENT
DTSTART;VALUE=DATE:20200921
DTEND;VALUE=DATE:20200927
DTSTAMP:20260420T215025
CREATED:20191002T202128Z
LAST-MODIFIED:20191002T202128Z
UID:5138-1600646400-1601164799@magbaylodge.com
SUMMARY:Tom Concannon  and Crew
DESCRIPTION:Pickup on the 21st\nReturn on the 26th\nFish 3 Days\n5 nights lodging\, transportation to and from the Loreto airport\, 3 days of fishing on the pro-cat\, all necessary bait and tackle\, basic meals at the lodge or on the boat for the duration\, clean water to drink\,\nall necessary linens\, cleaning fee upon departure. \nd3800bl9100ht21
URL:https://magbaylodge.com/event/tom-concannon-and-crew/
CATEGORIES:ProCat
END:VEVENT
BEGIN:VEVENT
DTSTART;TZID=UTC:20200919T080000
DTEND;TZID=UTC:20200924T170000
DTSTAMP:20260420T215025
CREATED:20200601T205742Z
LAST-MODIFIED:20200601T205742Z
UID:5456-1600502400-1600966800@magbaylodge.com
SUMMARY:Dawn Odasz
DESCRIPTION:3 days offshore capehorn 2 people only all inclusive\nprofe casa\nd2040bl4760 \nwill stay 2 extra days\, arrange lodging maybe island confirm with dawn
URL:https://magbaylodge.com/event/dawn-odasz/
CATEGORIES:Cape Horn,Profe House
END:VEVENT
BEGIN:VEVENT
DTSTART;TZID=UTC:20200912T080000
DTEND;TZID=UTC:20200919T170000
DTSTAMP:20260420T215025
CREATED:20191012T152651Z
LAST-MODIFIED:20191012T152651Z
UID:5182-1599897600-1600534800@magbaylodge.com
SUMMARY:Greg Walter and Crew
DESCRIPTION:Greg + 3 others on Proket 4 days offshore 1 day inshore \nDeposit received \nPickup at Loreto on 12/12/20  return to Loreto 12/19/20 \nAll inclusive \n  \nd2400bl11100
URL:https://magbaylodge.com/event/greg-walter-and-crew/
CATEGORIES:KH,ProCat
END:VEVENT
BEGIN:VEVENT
DTSTART;TZID=UTC:20200912T080000
DTEND;TZID=UTC:20200917T170000
DTSTAMP:20260420T215025
CREATED:20200826T174711Z
LAST-MODIFIED:20200831T144913Z
UID:5526-1599897600-1600362000@magbaylodge.com
SUMMARY:John French plus 2
DESCRIPTION:John French plus 2 crew members. September 12th pickup in LTO and return to LTO on 17th. All inclusive \npndd3475b3475
URL:https://magbaylodge.com/event/john-french-plus-2/
CATEGORIES:Cape Horn
END:VEVENT
BEGIN:VEVENT
DTSTART;TZID=UTC:20200905T080000
DTEND;TZID=UTC:20200910T170000
DTSTAMP:20260420T215025
CREATED:20200225T164410Z
LAST-MODIFIED:20200225T164450Z
UID:5413-1599292800-1599757200@magbaylodge.com
SUMMARY:Kush it Guys
DESCRIPTION:
URL:https://magbaylodge.com/event/kush-it-guys/
CATEGORIES:KH,ProCat
END:VEVENT
BEGIN:VEVENT
DTSTART;TZID=UTC:20200904T080000
DTEND;TZID=UTC:20200907T170000
DTSTAMP:20260420T215025
CREATED:20200829T141701Z
LAST-MODIFIED:20200829T142635Z
UID:5551-1599206400-1599498000@magbaylodge.com
SUMMARY:Dive Trip Julian and Crew
DESCRIPTION:pickup on the 4th\, board boat on the 4th evening\, fish 5th and half day 6th return home.  Depart lodge on the 7th. \n  \n  \nd0bl4850
URL:https://magbaylodge.com/event/dive-trip-julian-and-crew/
CATEGORIES:ProCat
END:VEVENT
BEGIN:VEVENT
DTSTART;TZID=UTC:20200825T080000
DTEND;TZID=UTC:20200831T170000
DTSTAMP:20260420T215025
CREATED:20200109T155446Z
LAST-MODIFIED:20200610T175025Z
UID:5309-1598342400-1598893200@magbaylodge.com
SUMMARY:Jim Petrella Denise Petrella Marty
DESCRIPTION:pickup on 8/25/20   3 days fishing inshore \nd1650bl3780
URL:https://magbaylodge.com/event/jim-petrella-denise-petrella-marty/
CATEGORIES:Cape Horn,KH
END:VEVENT
BEGIN:VEVENT
DTSTART;TZID=UTC:20200819T080000
DTEND;TZID=UTC:20200823T170000
DTSTAMP:20260420T215025
CREATED:20200114T160955Z
LAST-MODIFIED:20200114T191804Z
UID:5349-1597824000-1598202000@magbaylodge.com
SUMMARY:Matts's
DESCRIPTION:
URL:https://magbaylodge.com/event/mattss/
CATEGORIES:KH,ProCat
END:VEVENT
BEGIN:VEVENT
DTSTART;TZID=UTC:20200808T080000
DTEND;TZID=UTC:20200815T170000
DTSTAMP:20260420T215025
CREATED:20200114T160917Z
LAST-MODIFIED:20200114T160917Z
UID:5347-1596873600-1597510800@magbaylodge.com
SUMMARY:Lynn Bennett
DESCRIPTION:Pending Deposit
URL:https://magbaylodge.com/event/lynn-bennett/
CATEGORIES:KH,ProCat
END:VEVENT
BEGIN:VEVENT
DTSTART;TZID=UTC:20200730T080000
DTEND;TZID=UTC:20200807T170000
DTSTAMP:20260420T215025
CREATED:20200121T173445Z
LAST-MODIFIED:20200121T190306Z
UID:5353-1596096000-1596819600@magbaylodge.com
SUMMARY:Janet and Marty
DESCRIPTION:pending dep \nd0bl4750-p
URL:https://magbaylodge.com/event/janet-and-marty/
CATEGORIES:KH,Panga
END:VEVENT
BEGIN:VEVENT
DTSTART;TZID=UTC:20200625T080000
DTEND;TZID=UTC:20200629T170000
DTSTAMP:20260420T215025
CREATED:20200110T202222Z
LAST-MODIFIED:20200110T202252Z
UID:5315-1593072000-1593450000@magbaylodge.com
SUMMARY:Joe McClean and crew
DESCRIPTION:Inshore pending dep \n3 days inshore (maybe pickup cabo)
URL:https://magbaylodge.com/event/joe-mcclean-and-crew/
CATEGORIES:KH,Panga
END:VEVENT
BEGIN:VEVENT
DTSTART;TZID=UTC:20200625T080000
DTEND;TZID=UTC:20200629T170000
DTSTAMP:20260420T215025
CREATED:20191227T174906Z
LAST-MODIFIED:20191227T214132Z
UID:5299-1593072000-1593450000@magbaylodge.com
SUMMARY:Joe Mclean and Crew
DESCRIPTION:for June 25-29   inshore pangas 2 per panga work out the final details
URL:https://magbaylodge.com/event/joe-mclean-and-crew/
CATEGORIES:Panga
END:VEVENT
BEGIN:VEVENT
DTSTART;TZID=UTC:20200620T080000
DTEND;TZID=UTC:20200625T170000
DTSTAMP:20260420T215025
CREATED:20200215T001642Z
LAST-MODIFIED:20200215T001642Z
UID:5393-1592640000-1593104400@magbaylodge.com
SUMMARY:jason and crew
DESCRIPTION:inshore mangroves 2-3 pangas
URL:https://magbaylodge.com/event/jason-and-crew/
CATEGORIES:KH,Panga
END:VEVENT
BEGIN:VEVENT
DTSTART;TZID=UTC:20200306T080000
DTEND;TZID=UTC:20200312T170000
DTSTAMP:20260420T215025
CREATED:20200205T221853Z
LAST-MODIFIED:20200205T230643Z
UID:5381-1583481600-1584032400@magbaylodge.com
SUMMARY:Janet and Friends
DESCRIPTION:
URL:https://magbaylodge.com/event/janet-and-friends/
END:VEVENT
BEGIN:VEVENT
DTSTART;TZID=UTC:20200303T080000
DTEND;TZID=UTC:20200307T170000
DTSTAMP:20260420T215025
CREATED:20200123T185844Z
LAST-MODIFIED:20200123T185844Z
UID:5370-1583222400-1583600400@magbaylodge.com
SUMMARY:Amy Hansen
DESCRIPTION:casa
URL:https://magbaylodge.com/event/amy-hansen/
CATEGORIES:KH
END:VEVENT
BEGIN:VEVENT
DTSTART;TZID=UTC:20200226T080000
DTEND;TZID=UTC:20200302T170000
DTSTAMP:20260420T215025
CREATED:20200123T185758Z
LAST-MODIFIED:20200123T191057Z
UID:5368-1582704000-1583168400@magbaylodge.com
SUMMARY:Kathryn plus 2
DESCRIPTION:casa
URL:https://magbaylodge.com/event/kathryn-plus-2/
CATEGORIES:KH
END:VEVENT
BEGIN:VEVENT
DTSTART;TZID=UTC:20200222T080000
DTEND;TZID=UTC:20200226T170000
DTSTAMP:20260420T215025
CREATED:20200123T185714Z
LAST-MODIFIED:20200123T191225Z
UID:5366-1582358400-1582736400@magbaylodge.com
SUMMARY:Bob Rosese plus 3
DESCRIPTION:fishing + spearfish \nPickup Loreto on the 22nd return to la paz on the 26th \nall inclusive 3 days fishing mouth (spearfish grouper etc) \nd0bl5085
URL:https://magbaylodge.com/event/bob-rosese-plus-3/
CATEGORIES:Cape Horn,KH
END:VEVENT
BEGIN:VEVENT
DTSTART;TZID=UTC:20200217T080000
DTEND;TZID=UTC:20200221T170000
DTSTAMP:20260420T215025
CREATED:20200123T185610Z
LAST-MODIFIED:20200123T191157Z
UID:5363-1581926400-1582304400@magbaylodge.com
SUMMARY:Rafael plus 2
DESCRIPTION:casa
URL:https://magbaylodge.com/event/radael-plus-2/
CATEGORIES:KH
END:VEVENT
BEGIN:VEVENT
DTSTART;TZID=UTC:20200202T080000
DTEND;TZID=UTC:20200208T170000
DTSTAMP:20260420T215025
CREATED:20200123T185538Z
LAST-MODIFIED:20200123T185538Z
UID:5361-1580630400-1581181200@magbaylodge.com
SUMMARY:King Hom plus 6
DESCRIPTION:custom trip
URL:https://magbaylodge.com/event/king-hom-plus-6/
CATEGORIES:KH
END:VEVENT
BEGIN:VEVENT
DTSTART;TZID=UTC:20200201T080000
DTEND;TZID=UTC:20200202T170000
DTSTAMP:20260420T215025
CREATED:20200123T185452Z
LAST-MODIFIED:20200123T185452Z
UID:5359-1580544000-1580662800@magbaylodge.com
SUMMARY:mandy plus 6
DESCRIPTION:casa
URL:https://magbaylodge.com/event/mandy-plus-6/
CATEGORIES:KH
END:VEVENT
BEGIN:VEVENT
DTSTART;TZID=UTC:20191214T080000
DTEND;TZID=UTC:20191226T170000
DTSTAMP:20260420T215025
CREATED:20190419T204318Z
LAST-MODIFIED:20191127T201935Z
UID:5051-1576310400-1577379600@magbaylodge.com
SUMMARY:Janet and Group
DESCRIPTION:Fly Fishing \nSo the total price:\n12 nights Stay\n2 Days small boat fly-fishing mangroves (2 boats)\n3 days offshore fishing marlin\, tuna etc   – Cape Horn 27.\nTransfers to and from Airport  & Meals
URL:https://magbaylodge.com/event/janet-and-group/
CATEGORIES:Cape Horn,KH
END:VEVENT
BEGIN:VEVENT
DTSTART;TZID=UTC:20191206T080000
DTEND;TZID=UTC:20191206T170000
DTSTAMP:20260420T215025
CREATED:20191202T181219Z
LAST-MODIFIED:20191202T181235Z
UID:5263-1575619200-1575651600@magbaylodge.com
SUMMARY:Chase + 3
DESCRIPTION:pickup from the big yacht steadfast at isla magdalena channel 65a\n2 pangas\, collect $550\npickup at 7am from the yacht to fish inshore mangroves\nReturn to Yacht by 4  pm
URL:https://magbaylodge.com/event/chase-3/
CATEGORIES:Panga
END:VEVENT
BEGIN:VEVENT
DTSTART;TZID=UTC:20191202T080000
DTEND;TZID=UTC:20191208T170000
DTSTAMP:20260420T215025
CREATED:20191119T162552Z
LAST-MODIFIED:20191119T162552Z
UID:5239-1575273600-1575824400@magbaylodge.com
SUMMARY:April & Kenneth Black
DESCRIPTION:Arrive LTO Dec 2nd\nDepart Dec 8th\nall inclusive meals\, 3 days prokat offshore 1 day capehorn inshore \nPIF
URL:https://magbaylodge.com/event/april-kenneth-black/
CATEGORIES:ProCat
END:VEVENT
BEGIN:VEVENT
DTSTART;TZID=UTC:20191201T080000
DTEND;TZID=UTC:20191205T170000
DTSTAMP:20260420T215025
CREATED:20191111T160129Z
LAST-MODIFIED:20191111T160129Z
UID:5230-1575187200-1575565200@magbaylodge.com
SUMMARY:Jim + 2 or 3 Cape Horn
DESCRIPTION:No Transfers\, Arrive on the 1st\, fish 2nd\, 3rd\, and 4th – leave on the 5th \nAll inclusive no transfer include food and meals \nd2040b4760–aa
URL:https://magbaylodge.com/event/jim-2-or-3-cape-horn/
CATEGORIES:Cape Horn
END:VEVENT
END:VCALENDAR