BEGIN:VCALENDAR
VERSION:2.0
PRODID:-//Mag Bay Sport Fishing Lodge - ECPv6.15.11//NONSGML v1.0//EN
CALSCALE:GREGORIAN
METHOD:PUBLISH
X-WR-CALNAME:Mag Bay Sport Fishing Lodge
X-ORIGINAL-URL:https://magbaylodge.com
X-WR-CALDESC:Events for Mag Bay Sport Fishing Lodge
REFRESH-INTERVAL;VALUE=DURATION:PT1H
X-Robots-Tag:noindex
X-PUBLISHED-TTL:PT1H
BEGIN:VTIMEZONE
TZID:UTC
BEGIN:STANDARD
TZOFFSETFROM:+0000
TZOFFSETTO:+0000
TZNAME:UTC
DTSTART:20170101T000000
END:STANDARD
END:VTIMEZONE
BEGIN:VEVENT
DTSTART;TZID=UTC:20191012T080000
DTEND;TZID=UTC:20191017T170000
DTSTAMP:20260422T223200
CREATED:20190115T153503Z
LAST-MODIFIED:20190115T153503Z
UID:4996-1570867200-1571331600@magbaylodge.com
SUMMARY:Kristen and Crew
DESCRIPTION:
URL:https://magbaylodge.com/event/kristen-and-crew/
CATEGORIES:ProCat
END:VEVENT
BEGIN:VEVENT
DTSTART;TZID=UTC:20191005T080000
DTEND;TZID=UTC:20191012T170000
DTSTAMP:20260422T223200
CREATED:20190108T172215Z
LAST-MODIFIED:20191002T221534Z
UID:4966-1570262400-1570899600@magbaylodge.com
SUMMARY:Greg Walter + 2
DESCRIPTION:arrive Oct 5th Leave Oct 12th 2019 \n4 days offshore and 1 day inshore.  I am assuming all inclusive\, so all meals for the three guys. \nd2200bl5200l400l270bl4530
URL:https://magbaylodge.com/event/greg-walter-2/
CATEGORIES:Cape Horn,KH
END:VEVENT
BEGIN:VEVENT
DTSTART;TZID=UTC:20190927T080000
DTEND;TZID=UTC:20190927T170000
DTSTAMP:20260422T223200
CREATED:20190927T151329Z
LAST-MODIFIED:20191003T122811Z
UID:5134-1569571200-1569603600@magbaylodge.com
SUMMARY:Theo Anest and Friends
DESCRIPTION:Arrive Nov 13th to Fish 14-15-16-17-18-19 Depart 20th \nFishing Cape Horn \nDeposit via Salt Junkies Cash transferred 10/3 $1k
URL:https://magbaylodge.com/event/theo-anest-and-friends/
END:VEVENT
BEGIN:VEVENT
DTSTART;TZID=UTC:20190922T080000
DTEND;TZID=UTC:20190925T170000
DTSTAMP:20260422T223200
CREATED:20190906T214034Z
LAST-MODIFIED:20190906T214034Z
UID:5108-1569139200-1569430800@magbaylodge.com
SUMMARY:Mr Matt and Crew
DESCRIPTION:
URL:https://magbaylodge.com/event/mr-matt-and-crew/
CATEGORIES:ProCat
END:VEVENT
BEGIN:VEVENT
DTSTART;TZID=UTC:20190910T080000
DTEND;TZID=UTC:20190912T170000
DTSTAMP:20260422T223200
CREATED:20190716T191826Z
LAST-MODIFIED:20190716T192918Z
UID:5065-1568102400-1568307600@magbaylodge.com
SUMMARY:Gregg and crew Inshore Arrive 10th Depart 12th
DESCRIPTION:1 day inshore\, 2 nights at Lodge \narrives on the 10th fish 11th – leave 12th look for golden trevalle but all species good \n7074904393 \nd375bl875
URL:https://magbaylodge.com/event/gregg-and-crew-inshore-arrive-10th-depart-12th/
CATEGORIES:KH
END:VEVENT
BEGIN:VEVENT
DTSTART;TZID=UTC:20190901T080000
DTEND;TZID=UTC:20190908T170000
DTSTAMP:20260422T223200
CREATED:20190419T175023Z
LAST-MODIFIED:20190419T175023Z
UID:5049-1567324800-1567962000@magbaylodge.com
SUMMARY:Salt Junkies Kayak Trip
DESCRIPTION:
URL:https://magbaylodge.com/event/salt-junkies-kayak-trip/
CATEGORIES:Cape Horn
END:VEVENT
BEGIN:VEVENT
DTSTART;TZID=UTC:20190829T080000
DTEND;TZID=UTC:20190831T170000
DTSTAMP:20260422T223200
CREATED:20190526T171934Z
LAST-MODIFIED:20190526T171934Z
UID:5057-1567065600-1567270800@magbaylodge.com
SUMMARY:Corey Fujita Diving
DESCRIPTION:arrive Aug 29\, dive 30th sleep prokat 3oth dive 32st and return by 5 pm.  depart 31st.
URL:https://magbaylodge.com/event/corey-fujita-diving/
CATEGORIES:ProCat
END:VEVENT
BEGIN:VEVENT
DTSTART;TZID=UTC:20190809T080000
DTEND;TZID=UTC:20190814T170000
DTSTAMP:20260422T223200
CREATED:20190209T211239Z
LAST-MODIFIED:20190209T211446Z
UID:5006-1565337600-1565802000@magbaylodge.com
SUMMARY:Steve and Crew
DESCRIPTION:
URL:https://magbaylodge.com/event/steve-and-crew-2/
CATEGORIES:ProCat
END:VEVENT
BEGIN:VEVENT
DTSTART;TZID=UTC:20190803T080000
DTEND;TZID=UTC:20190808T170000
DTSTAMP:20260422T223200
CREATED:20190209T211722Z
LAST-MODIFIED:20190716T223936Z
UID:5008-1564819200-1565283600@magbaylodge.com
SUMMARY:La Verne and Crew 4 people
DESCRIPTION:pickup on Aug 3rd via Alaska \nps5000bl1800
URL:https://magbaylodge.com/event/la-verne-and-crew-4-people/
CATEGORIES:Cape Horn
END:VEVENT
BEGIN:VEVENT
DTSTART;TZID=UTC:20190401T080000
DTEND;TZID=UTC:20190405T170000
DTSTAMP:20260422T223200
CREATED:20190215T173648Z
LAST-MODIFIED:20190215T173648Z
UID:5011-1554105600-1554483600@magbaylodge.com
SUMMARY:Thomas and Crew 2 people
DESCRIPTION:deposit 500 received \n2 days inshore 1 day offshore all on the capehorn.    5 nights all inclusive \n  \n 
URL:https://magbaylodge.com/event/thomas-and-crew-2-people/
CATEGORIES:Cape Horn
END:VEVENT
BEGIN:VEVENT
DTSTART;TZID=UTC:20190316T080000
DTEND;TZID=UTC:20190323T170000
DTSTAMP:20260422T223200
CREATED:20180906T170422Z
LAST-MODIFIED:20180906T171240Z
UID:4848-1552723200-1553360400@magbaylodge.com
SUMMARY:King Hom Whale Watching for 6
DESCRIPTION:Stay at the Home – meals at home or Lodge\nWhale watching days to be decided\nmaybe one fishing day striper\none island tour day
URL:https://magbaylodge.com/event/king-hom-whale-watching-for-6/
CATEGORIES:KH
END:VEVENT
BEGIN:VEVENT
DTSTART;TZID=UTC:20181122T130000
DTEND;TZID=UTC:20181125T140000
DTSTAMP:20260422T223200
CREATED:20180504T200123Z
LAST-MODIFIED:20180506T193338Z
UID:4729-1542891600-1543154400@magbaylodge.com
SUMMARY:Damasso Group / Joseph
DESCRIPTION:Damasso Sanchez Group.   Salt Junkies Designer. \n3 guys Striper Pending Deposit.
URL:https://magbaylodge.com/event/4729/
END:VEVENT
BEGIN:VEVENT
DTSTART;TZID=UTC:20181117T080000
DTEND;TZID=UTC:20181124T170000
DTSTAMP:20260422T223200
CREATED:20181103T132514Z
LAST-MODIFIED:20181103T135550Z
UID:4924-1542441600-1543078800@magbaylodge.com
SUMMARY:Walter Greg and Friend
DESCRIPTION:2 guys \nAirport Pickup Sat Nov 17th \nFish offshore Sun Nov 18th \nFish Offshore  Mon Nov 19th \nFish Offshore Tuesday Nov 20th \nWednesday rest or maybe fish again inshore or off (we will leave as rest day for now) \nThursday Fish or Panga Inshore \nFriday Fish or Panga Inshore \nSaturday Return to Loreto
URL:https://magbaylodge.com/event/walter-greg-and-friend/
CATEGORIES:KH
END:VEVENT
BEGIN:VEVENT
DTSTART;TZID=UTC:20181115T140000
DTEND;TZID=UTC:20181120T180000
DTSTAMP:20260422T223200
CREATED:20180326T210410Z
LAST-MODIFIED:20180608T135306Z
UID:4665-1542290400-1542736800@magbaylodge.com
SUMMARY:Kevin Renshaw Group
DESCRIPTION:3 Days fishing / 5 nights lodging 8 persons.
URL:https://magbaylodge.com/event/kevin-renshaw-group/
CATEGORIES:Cape Horn,ProCat
END:VEVENT
BEGIN:VEVENT
DTSTART;TZID=UTC:20181109T080000
DTEND;TZID=UTC:20181112T170000
DTSTAMP:20260422T223200
CREATED:20181106T173002Z
LAST-MODIFIED:20181106T173002Z
UID:4927-1541750400-1542042000@magbaylodge.com
SUMMARY:Theo and Friend Flyfishing Marlin
DESCRIPTION:Arrive the 9th\, fish 10th\, 11th\, and 12th leave on the 12th \n  \n$2250 Due
URL:https://magbaylodge.com/event/theo-and-friend-flyfishing-marlin/
CATEGORIES:KH
END:VEVENT
BEGIN:VEVENT
DTSTART;TZID=UTC:20181105T140000
DTEND;TZID=UTC:20181109T170000
DTSTAMP:20260422T223200
CREATED:20180326T211016Z
LAST-MODIFIED:20180608T135341Z
UID:4667-1541426400-1541782800@magbaylodge.com
SUMMARY:Pat Merriman Group
DESCRIPTION:4 guys for 3 days Mag Bay fishing and 4 night lodging \nMonday Nov 5\, 2018 Arrive in the afternoon in our SUV vehicle. (We may need to meet up with you to find the house.)\nTuesday Nov 6 fish on the Kristen.\nWednesday Nov 7 fish on the Kristen\nThursday Nov 8 fish on the Kristen\nFriday Nov 9 drive back to the airport. \n 
URL:https://magbaylodge.com/event/pat-merriman-group/
CATEGORIES:ProCat
END:VEVENT
BEGIN:VEVENT
DTSTART;TZID=UTC:20181101T080000
DTEND;TZID=UTC:20181106T170000
DTSTAMP:20260422T223200
CREATED:20180325T164803Z
LAST-MODIFIED:20180822T221811Z
UID:4650-1541059200-1541523600@magbaylodge.com
SUMMARY:Reale Group
DESCRIPTION:see INV 5269 to add on lures to balance >> have all ready when they arrive \nTrip Details: \nNov 1 – 6\, 2018\nDescription:\nThu\, November 1\, 2018\, 12pm – Tue\, November 6\, 2018\, 1pm\nDescription:\nAirport Pickup Thursday Nov 1st (5 People)\nAirport Return Nov 8th\nFish Friday the 2nd on Prokat\nFish Sunday the 4rd on Prokat\nFish the 6th on ProKat\nFish inshore most likely procat one down day\nRelax the 7th\nReturn to Airport on the 8th \n  \nWe will honor this price this year only for you\, you get the Procat the whole time\, so it’s a great deal. \n  \n  \nWe do not include alcohol. \nBait is simple now\, we run out of san carlos so the bait is right in front of us\, we will definitely get bait unless for some reason there is none.  It does happen\, but fairly rare.  We do have to make bait\, it is not sold in magbay. \nI see in the notes you guys are looking for marlin\, watch the video on the website\, these guys get quite a few and they are just fun easy fishermen who made the video same time last year you are going this year.  We also will target Wahoo and tuna of course as that is our most common target. \nNotes:\n1) want to get marlin if possible as well as wahoo tuna dorado\n2) Prefers to get bait > arrange trip accordingly try to find a wait to pre-bait boat if possible \ndominick 360-923-1479\ncell 360-489-4085\nemail: domreale >> elaermod@hotmail.com\nOrganizer: Magbay Lures\nMagbay Lures
URL:https://magbaylodge.com/event/reale-group/
CATEGORIES:ProCat
END:VEVENT
BEGIN:VEVENT
DTSTART;TZID=UTC:20181029T080000
DTEND;TZID=UTC:20181031T170000
DTSTAMP:20260422T223200
CREATED:20181019T165432Z
LAST-MODIFIED:20181019T170145Z
UID:4898-1540800000-1541005200@magbaylodge.com
SUMMARY:Bruce Wilkonson + 2
DESCRIPTION:Fish for Marlin the 29th and 31st   – staying in Lopez will drive over just have lunch and drinks only \nleaves at 6AM \nMust get bait\, have great gear on board for marlin \n  \nDeposit Paid collect $1200 cash \n 
URL:https://magbaylodge.com/event/bruce-wilkonson-2/
CATEGORIES:Cape Horn
END:VEVENT
BEGIN:VEVENT
DTSTART;TZID=UTC:20181026T080000
DTEND;TZID=UTC:20181101T170000
DTSTAMP:20260422T223200
CREATED:20180325T164514Z
LAST-MODIFIED:20180608T135527Z
UID:4647-1540540800-1541091600@magbaylodge.com
SUMMARY:Atherton Group
DESCRIPTION:Call for details \nOct 26 – Nov 1\, 2018\nDescription: \nOct 26 – Nov 2\, 2018 \nDescription:Arrive to Loreto Friday Oct 26th\nLeave to Fish Saturday Oct 27th\nReturn Refuel drop fish\, shower\, etc Oct 29th\nleave to fish october 29th\nreturn home 1st\nreturn to airport on the 2nd \nNow they have 5 People > if boat is gone call and explain new options \n 
URL:https://magbaylodge.com/event/atherton-group/
CATEGORIES:ProCat
END:VEVENT
BEGIN:VEVENT
DTSTART;TZID=UTC:20181025T080000
DTEND;TZID=UTC:20181105T170000
DTSTAMP:20260422T223200
CREATED:20180719T191534Z
LAST-MODIFIED:20180719T200238Z
UID:4804-1540454400-1541437200@magbaylodge.com
SUMMARY:Sam Shallow and Crew
DESCRIPTION:Arrives Oct 25th Leaves Nove 5th House Rental entire stay entire house
URL:https://magbaylodge.com/event/sam-shallow-and-crew/
CATEGORIES:KH
END:VEVENT
BEGIN:VEVENT
DTSTART;TZID=UTC:20181020T080000
DTEND;TZID=UTC:20181025T170000
DTSTAMP:20260422T223200
CREATED:20180909T164442Z
LAST-MODIFIED:20180909T164442Z
UID:4850-1540022400-1540486800@magbaylodge.com
SUMMARY:Steve and Crew
DESCRIPTION:pickup in Cabo
URL:https://magbaylodge.com/event/steve-and-crew/
CATEGORIES:ProCat
END:VEVENT
BEGIN:VEVENT
DTSTART;TZID=UTC:20181014T080000
DTEND;TZID=UTC:20181018T170000
DTSTAMP:20260422T223200
CREATED:20181008T185301Z
LAST-MODIFIED:20181008T200132Z
UID:4893-1539504000-1539882000@magbaylodge.com
SUMMARY:Bill and Pher
DESCRIPTION:Pickup on Sunday the 14th Retun Thursday the 18th \nIncludes 3 days Fishing on Cape Horn \nIncludes all Meals and non Alcoholic Beverages Includes all tackle Required
URL:https://magbaylodge.com/event/bill-and-pher/
CATEGORIES:KH
END:VEVENT
BEGIN:VEVENT
DTSTART;TZID=UTC:20181011T143000
DTEND;TZID=UTC:20181014T083000
DTSTAMP:20260422T223200
CREATED:20180316T151648Z
LAST-MODIFIED:20180608T135658Z
UID:4409-1539268200-1539505800@magbaylodge.com
SUMMARY:David Funk + 4
DESCRIPTION:Fly to Loreto on Thursday the 11th\, Fish the 12th and the 13th Return to Airport on the 14th.\nThis would be 2 days fishing and 3 nights stay. \n  \nDR – see QB for David Funk
URL:https://magbaylodge.com/event/david-funk-4/
LOCATION:Magdalena Bay Fishing\, San Carlos Lodge
CATEGORIES:ProCat
END:VEVENT
BEGIN:VEVENT
DTSTART;TZID=UTC:20181011T080000
DTEND;TZID=UTC:20181014T170000
DTSTAMP:20260422T223200
CREATED:20180525T144538Z
LAST-MODIFIED:20180914T200052Z
UID:4771-1539244800-1539536400@magbaylodge.com
SUMMARY:Scott and Crew
DESCRIPTION:in progress working on flight details – Scott Mitchel\nWe will be arriving via Calafia Airlines\, flight 791 on October 11th at 16:25 p.m. and departing on Calafia Airlines via flight 792 on October 16th at 1600 p.m.  6 people 5 fishing >>  both striper and capehorn \n  \nTrip Details: \n  \nBooking:                                            Scott & Crew – October 11 to October 16 Pick-up on 11th / Drop-off on 16th \nFlight Information:   Arrival Loreto via Calafia Airlines on Flight CFV-791 on October 11th at 16:25 p.m. (six people) \nDepart Loreto via Calafia Airlines on Flight CFV-792 on October 16th at 16:00 p.m.(six people) \nAccommodations:             5-nights at the The Lodge at Mag Bay for 6-people.  Includes all meals. \nFishing:                                Offshore 2-days on Cape Horn & Striper / 1-day on ProCat – (1-optional day off – activity pending/not included) \nDeposit:                                              $4\,250.00 paid August 30\, 2018.  Balance payable upon arrival. \nAttending:                           Scott Mitchell\, Ken Fornshill\, Bruce Uhthoff\, Gary Galloway\, Mike Okita\, Reid Roan \n  \nNote:  Try to get 2 private rooms if possible – 2 of my party may want to reserve rooms by themselves and they would pay the extra cost.  (Heavy snoring guys)… LOL
URL:https://magbaylodge.com/event/scott-and-crew/
CATEGORIES:Cape Horn
END:VEVENT
BEGIN:VEVENT
DTSTART;TZID=UTC:20181007T080000
DTEND;TZID=UTC:20181011T170000
DTSTAMP:20260422T223200
CREATED:20180325T163037Z
LAST-MODIFIED:20180523T195933Z
UID:4639-1538899200-1539277200@magbaylodge.com
SUMMARY:Aaron Pavlof and Crew
DESCRIPTION:Pickup on 7th\, return on the 11th  (Striper 2 days offshore 1 day inshore)\n\nPaid In Full balance due as per email they choose option \nAaron Pavlof \nEddie Cambell \nGabe Castaneda \nAK 268 Oct 7 \nDepart AK 253 Oct 11
URL:https://magbaylodge.com/event/aaron-pavlof-and-crew/
END:VEVENT
BEGIN:VEVENT
DTSTART;TZID=UTC:20180927T080000
DTEND;TZID=UTC:20181004T170000
DTSTAMP:20260422T223200
CREATED:20180325T153456Z
LAST-MODIFIED:20180608T140011Z
UID:4635-1538035200-1538672400@magbaylodge.com
SUMMARY:Ian Anderson
DESCRIPTION:ian.anderson333@gmail.com \n530-348-2071 \n3 days offshore\, 1 day inshore 5 nights Stay\nIncludes all food and drinks (does not include alcohol)\nIncludes airport transfer both ways\nIncludes all tackle and licenses \n  \nPickup at airport on the 27th and return on the 4th \n  \n  \n\n\n\nDeparting Flight Information\n\n\n\n  \n\n\n\nAlaska Airlines\nFlight 1946\n1h 25m\,  337mi\nConf #WOTPWY\nFrom\nSan Francisco Intl Airport (SFO)\nSan Francisco\,  CA\n2018/09/27 – 09:05 AM\nTo\nLos Angeles Intl Airport (LAX)\nLos Angeles\,  CA\n2018/09/27 – 10:30 AM\nAircraft\nAirbus\nEconomy Class\n\n\n\n  \n\n\n\nAlaska Airlines\nFlight 268\n2h 7m\,  692mi\nConf #WOTPWY\nFrom\nLos Angeles Intl Airport (LAX)\nLos Angeles\,  CA\n2018/09/27 – 12:10 PM\nTo\nLoreto Intl Airport (LTO)\nLoreto\,  Mexico\n2018/09/27 – 03:17 PM\nAircraft\nBoeing 737-900\nEconomy Class\n\n\n\n  \n\n\n\nReturning Flight Information\n\n\n\n  \n\n\n\nAlaska Airlines\nFlight 253\n2h 3m\,  692mi\nConf #WOTPWY\nFrom\nLoreto Intl Airport (LTO)\nLoreto\,  Mexico\n2018/10/04 – 04:17 PM\nTo\nLos Angeles Intl Airport (LAX)\nLos Angeles\,  CA\n2018/10/04 – 05:20 PM\nAircraft\nBoeing 737-900\nEconomy Class\n\n\n\n  \n\n\n\nAlaska Airlines\nFlight 1943\n1h 15m\,  337mi\nConf #WOTPWY\nFrom\nLos Angeles Intl Airport (LAX)\nLos Angeles\,  CA\n2018/10/04 – 07:10 PM\nTo\nSan Francisco Intl Airport (SFO)\nSan Francisco\,  CA\n2018/10/04 – 08:25 PM\nAircraft\nAirbus\nEconomy Class\n\n\n\n  \n\n\n\nPassenger Information\n\n\nPassenger 1: Ian Anderson\nDelivery: Electronic tickets will be issued for this flight\n\n\nPassenger 2: James White\n\n\n\nPassenger 3: Matthew Portillo\n\n\n\nPassenger 4: Aaron Anderson \n 
URL:https://magbaylodge.com/event/ian-anderson/
CATEGORIES:ProCat
END:VEVENT
BEGIN:VEVENT
DTSTART;TZID=UTC:20180920T143000
DTEND;TZID=UTC:20180927T170000
DTSTAMP:20260422T223200
CREATED:20180325T152507Z
LAST-MODIFIED:20180904T194858Z
UID:4633-1537453800-1538067600@magbaylodge.com
SUMMARY:Jim Dean 4 Guys
DESCRIPTION:pickup on the 20st and return on the 27th. 4 Guys all inclusive\, use cape horn for offshore and inshore 3 days offshore 1 day inshore \nPlease confirm 4 days total or 5 days total\n  \n208-859-0132 \njdean@wildwest-marketing.com \n 
URL:https://magbaylodge.com/event/jim-dean-4-guys/
CATEGORIES:Cape Horn
END:VEVENT
BEGIN:VEVENT
DTSTART;TZID=UTC:20180913T080000
DTEND;TZID=UTC:20180916T170000
DTSTAMP:20260422T223200
CREATED:20180530T155330Z
LAST-MODIFIED:20180530T155459Z
UID:4773-1536825600-1537117200@magbaylodge.com
SUMMARY:Jordan- Team
DESCRIPTION:
URL:https://magbaylodge.com/event/jordan-team/
CATEGORIES:ProCat
END:VEVENT
BEGIN:VEVENT
DTSTART;TZID=UTC:20180912T080000
DTEND;TZID=UTC:20180915T170000
DTSTAMP:20260422T223200
CREATED:20180827T150218Z
LAST-MODIFIED:20180827T150218Z
UID:4842-1536739200-1537030800@magbaylodge.com
SUMMARY:Jeff Martin and Amigo
DESCRIPTION:Fish 13th\, 14th\, 15th deposit received 2 guys
URL:https://magbaylodge.com/event/jeff-martin-and-amigo/
CATEGORIES:KH
END:VEVENT
BEGIN:VEVENT
DTSTART;TZID=UTC:20180907T120000
DTEND;TZID=UTC:20180912T120000
DTSTAMP:20260422T223200
CREATED:20180326T205755Z
LAST-MODIFIED:20180327T012823Z
UID:4662-1536321600-1536753600@magbaylodge.com
SUMMARY:Steve Parkford Group
DESCRIPTION:Spear fishing trip. 4 Days Fishing\, 5 Nights Lodging Arrive on the 7th fish 8\,9\,10\,11 Depart on the 12th. 50% deposit received via Wells Fargo.  No accommodating flights to Loreto so they will be flying into La Paz. $200 more for the extra distance to La Paz.
URL:https://magbaylodge.com/event/steve-parkford-group/
CATEGORIES:ProCat
END:VEVENT
END:VCALENDAR