BEGIN:VCALENDAR
VERSION:2.0
PRODID:-//Mag Bay Sport Fishing Lodge - ECPv6.15.11//NONSGML v1.0//EN
CALSCALE:GREGORIAN
METHOD:PUBLISH
X-WR-CALNAME:Mag Bay Sport Fishing Lodge
X-ORIGINAL-URL:https://magbaylodge.com
X-WR-CALDESC:Events for Mag Bay Sport Fishing Lodge
REFRESH-INTERVAL;VALUE=DURATION:PT1H
X-Robots-Tag:noindex
X-PUBLISHED-TTL:PT1H
BEGIN:VTIMEZONE
TZID:UTC
BEGIN:STANDARD
TZOFFSETFROM:+0000
TZOFFSETTO:+0000
TZNAME:UTC
DTSTART:20220101T000000
END:STANDARD
END:VTIMEZONE
BEGIN:VEVENT
DTSTART;TZID=UTC:20231024T080000
DTEND;TZID=UTC:20231029T170000
DTSTAMP:20260420T020223
CREATED:20221123T191923Z
LAST-MODIFIED:20221123T191923Z
UID:6901-1698134400-1698598800@magbaylodge.com
SUMMARY:Big Dog Tackle
DESCRIPTION:casona\, isabel\, both whalers and prokat
URL:https://magbaylodge.com/event/big-dog-tackle-4/
CATEGORIES:Boston Whaler,Conquest,Isabel,ProCat
END:VEVENT
BEGIN:VEVENT
DTSTART;TZID=UTC:20231029T080000
DTEND;TZID=UTC:20231103T170000
DTSTAMP:20260420T020223
CREATED:20220312T003138Z
LAST-MODIFIED:20221204T230004Z
UID:6634-1698566400-1699030800@magbaylodge.com
SUMMARY:Brian Kask
DESCRIPTION:Arrive October 29\, 2023 \nDeparture November 3\, 2023 \nTransportation to and from Loreto Airport \nFishing on October 30\, 31\, and November 1st \nAll-inclusive meals and drinks (non-alcoholic) \nBoston Whaler \nMain House
URL:https://magbaylodge.com/event/brian-kask/
CATEGORIES:KH
END:VEVENT
BEGIN:VEVENT
DTSTART;TZID=UTC:20231031T080000
DTEND;TZID=UTC:20231105T170000
DTSTAMP:20260420T020223
CREATED:20221123T170643Z
LAST-MODIFIED:20221123T170643Z
UID:6896-1698739200-1699203600@magbaylodge.com
SUMMARY:Big Dog Tackle
DESCRIPTION:Boston Whaler\, Boston Conquest\, ProKat – casona and isabel
URL:https://magbaylodge.com/event/big-dog-tackle-2/
CATEGORIES:Boston Whaler,Conquest,Isabel,Lodge,ProCat
END:VEVENT
BEGIN:VEVENT
DTSTART;TZID=UTC:20231104T080000
DTEND;TZID=UTC:20231108T170000
DTSTAMP:20260420T020223
CREATED:20231027T222625Z
LAST-MODIFIED:20231027T222759Z
UID:56627-1699084800-1699462800@magbaylodge.com
SUMMARY:Chad Lyon
DESCRIPTION:Charter w/ MagBay Lodge SA de CV\nTrip for 4 Anglers Cape Horn\nPickup in Cabo Nov 4th 2023\nStay at B&B 4th\, 5th\, 6th\, 7th\nReturn to Cabo on the 8th\nFish Offshore 3 days\nPrice Includes\, meals and drinks\nDoes not include Tips\, Fishing License\, or Alcoholic Beverages.
URL:https://magbaylodge.com/event/chad-lyon/
CATEGORIES:Cape Horn
END:VEVENT
BEGIN:VEVENT
DTSTART;TZID=UTC:20231105T080000
DTEND;TZID=UTC:20231109T170000
DTSTAMP:20260420T020223
CREATED:20230111T174725Z
LAST-MODIFIED:20230111T174730Z
UID:6979-1699171200-1699549200@magbaylodge.com
SUMMARY:Sean Strahlo
DESCRIPTION:Party of 4 \nAll-inclusive meals\, and drink (non-alcoholic) \nIsland house \nBoston Whaler Conquest \nFishing 11/6/23\, 11/7/23\, and 11/8/23 \nFishing for striped marlin\, looking to bait ball to photograph fish
URL:https://magbaylodge.com/event/sean-strahlo/
CATEGORIES:Boston Whaler,Island House
END:VEVENT
BEGIN:VEVENT
DTSTART;TZID=UTC:20231107T080000
DTEND;TZID=UTC:20231112T170000
DTSTAMP:20260420T020223
CREATED:20220407T213906Z
LAST-MODIFIED:20230815T200323Z
UID:6666-1699344000-1699808400@magbaylodge.com
SUMMARY:Gerry Klaus
DESCRIPTION:Arriving November 7\, 2023 \nDeparture November 12\, 2023 \nTransport to and from airport \n3 days fishing \n11/8 offshore \n11/9 inshore \n11/10 offshore \nProcat \nLodging- Main House \nMeals and drinks (non-alcoholic) \nParty of 5
URL:https://magbaylodge.com/event/gerry-klaus/
CATEGORIES:Lodge,ProCat
END:VEVENT
BEGIN:VEVENT
DTSTART;TZID=UTC:20231108T080000
DTEND;TZID=UTC:20231113T170000
DTSTAMP:20260420T020223
CREATED:20230516T203232Z
LAST-MODIFIED:20230815T200052Z
UID:56205-1699430400-1699894800@magbaylodge.com
SUMMARY:Joe Mclean
DESCRIPTION:Arrival October Nov 8\, 2023\nDeparture November 13\, 2023\nFishing 4 days total\n3 Days Offshore whaler\n1 day south inshore Whaler\nStaying Bed n Breakfast\nGroup of 4 people\npickup in loreto on oct Nov 8 th – return on the nov 13th\nincludes all meals and non alcoholic beverages\nDPD
URL:https://magbaylodge.com/event/joe-mclean-2/
END:VEVENT
BEGIN:VEVENT
DTSTART;TZID=UTC:20231112T080000
DTEND;TZID=UTC:20231117T170000
DTSTAMP:20260420T020223
CREATED:20221123T171006Z
LAST-MODIFIED:20221123T171006Z
UID:6899-1699776000-1700240400@magbaylodge.com
SUMMARY:Big Dog Tackle
DESCRIPTION:Boston Whaler\, Boston Conquest\, ProKat – casona and isabel
URL:https://magbaylodge.com/event/big-dog-tackle-3/
CATEGORIES:Boston Whaler,Conquest,Isabel,Lodge,ProCat
END:VEVENT
BEGIN:VEVENT
DTSTART;TZID=UTC:20231116T080000
DTEND;TZID=UTC:20231122T170000
DTSTAMP:20260420T020223
CREATED:20221123T192234Z
LAST-MODIFIED:20221123T192234Z
UID:6903-1700121600-1700672400@magbaylodge.com
SUMMARY:chris varjan and crew
DESCRIPTION:prokat and whaler and some pangas 16-22
URL:https://magbaylodge.com/event/chris-varjan-and-crew-3/
CATEGORIES:Boston Whaler,Lodge,ProCat
END:VEVENT
BEGIN:VEVENT
DTSTART;TZID=UTC:20231116T080000
DTEND;TZID=UTC:20231122T170000
DTSTAMP:20260420T020223
CREATED:20221123T192900Z
LAST-MODIFIED:20221204T230106Z
UID:6905-1700121600-1700672400@magbaylodge.com
SUMMARY:Toby and Crew
DESCRIPTION:island house 2 pangas 2 days\, boston outrage 1 day – flexible
URL:https://magbaylodge.com/event/toby-and-crew/
CATEGORIES:Boston Whaler,Island House,ProCat
END:VEVENT
BEGIN:VEVENT
DTSTART;TZID=UTC:20231123T080000
DTEND;TZID=UTC:20231130T170000
DTSTAMP:20260420T020223
CREATED:20230913T161514Z
LAST-MODIFIED:20230914T130722Z
UID:56495-1700726400-1701363600@magbaylodge.com
SUMMARY:Jed Lytle and friend
DESCRIPTION:Charter w/ MagBay Lodge SA de CV\ncustom package for only 2 people flyfishing on standard 7 nights 5 days fishing package from panga 3 offshore and 3 inshore.\nArrive 11/23 and depart 11/30\nIncludes lodging for 2 people at bed and breakfast.\nIncludes all meals and drinks (does not include alcoholic beverages)\nIncludes airport transfer from LTO
URL:https://magbaylodge.com/event/jed-lytle-and-friend/
CATEGORIES:Isabel,Panga
END:VEVENT
BEGIN:VEVENT
DTSTART;TZID=UTC:20231123T080000
DTEND;TZID=UTC:20231202T170000
DTSTAMP:20260420T020223
CREATED:20230104T020510Z
LAST-MODIFIED:20230104T020510Z
UID:6967-1700726400-1701536400@magbaylodge.com
SUMMARY:Tremor and crew
DESCRIPTION:8 days fishing on cape horn \narrive Nov 23 – depart Dec 2nd 2023 \nCharter w/ MagBay Lodge SA de CV\nArrive Nov 23 2023 Depart Dec 2 2023\n8 days fishing capehorn offshore / adjust for inshore days if decided or needed\ntransfer to and from loreto airport\n9 nights lodging at main house\nall breakfast and lunch plus 4 dinners (other dinners eat out) / drinks included for 2\ndoes not include alcoholic beverages
URL:https://magbaylodge.com/event/tremor-and-crew/
CATEGORIES:Cape Horn,Lodge
END:VEVENT
BEGIN:VEVENT
DTSTART;TZID=UTC:20231128T080000
DTEND;TZID=UTC:20231202T170000
DTSTAMP:20260420T020223
CREATED:20221125T220649Z
LAST-MODIFIED:20231021T235759Z
UID:6908-1701158400-1701536400@magbaylodge.com
SUMMARY:Don Girskis plus 2
DESCRIPTION:********This Trip Changed to arrive Nov 28th to LTO\, \nFish nov 29\,30\, and dec 1 on hydra sport depart Dec 2 stay at hotel \nCharter with Don plus 2 others\nHydrasport 3 days offshore main house (casona)\n4 nights all inclusive\narrive Oct 19th Depart oct 23d\npickup and return to loreto\ndiscount for 3 only \n  \nhydrasport and casona \noct 19-oct 23\, 2023 \n2 wahoo days 1 marlin day \n  \nCharter with Don plus 2 others\nHydrasport 3 days offshore main house (casona)\n4 nights all inclusive\narrive Oct 19th Depart oct 23d\npickup and return to loreto\ndiscount for 3 only
URL:https://magbaylodge.com/event/don-girskis-plus-2/
CATEGORIES:Isabel,KH
END:VEVENT
BEGIN:VEVENT
DTSTART;TZID=UTC:20231128T080000
DTEND;TZID=UTC:20231203T170000
DTSTAMP:20260420T020223
CREATED:20230404T030512Z
LAST-MODIFIED:20230404T030608Z
UID:56166-1701158400-1701622800@magbaylodge.com
SUMMARY:Toby Taylor and Crew
DESCRIPTION:Charter w/ MagBay Lodge SA de CV\nThis one for price on prokat\nThe 5 of us will arrive in Loreto 11-27-23 and stay at the Elmission that night. Pick us up morning of 11-28-23 for the ride to B & B  in San Carlos. Fish 4 days- 3 people on the CAT (fly fishing and inshore fishing) and 2 people on the Whaler (bait). Transport all 5 back to Loreto for a night and we will fly out 12-4-23 for home.\nWe would like to try the Isabela this year for another new experience. As we discussed this would be all inclusive except alcohol and Elmission stays. If you would reserve the rooms again at Elmision for 5 single occupancy for both days would be most appreciated. All 5 would send payment for Elmission separately.
URL:https://magbaylodge.com/event/toby-taylor-and-crew-2/
CATEGORIES:Boston Whaler,Lodge,ProCat
END:VEVENT
BEGIN:VEVENT
DTSTART;TZID=UTC:20231201T080000
DTEND;TZID=UTC:20231208T170000
DTSTAMP:20260420T020223
CREATED:20230111T175308Z
LAST-MODIFIED:20230111T175308Z
UID:6981-1701417600-1702054800@magbaylodge.com
SUMMARY:Lane Kenny
DESCRIPTION:Arriving 12/1/2023 \nDeparture 12/8/2023 \nTransportation to and from Loreto Airport \nStaying at Isabella’s \nFishing 12/2\, 12/3\, 12/4\, 12/5\, 12/6\, 12/7 \nCape Horn with Danny or Whaler Conquest with Aldo no exceptions \nMeals\, and Non Alcoholic drinks
URL:https://magbaylodge.com/event/lane-kenny/
CATEGORIES:Cape Horn,Conquest,Isabel
END:VEVENT
BEGIN:VEVENT
DTSTART;TZID=UTC:20231202T080000
DTEND;TZID=UTC:20231208T170000
DTSTAMP:20260420T020223
CREATED:20220818T154027Z
LAST-MODIFIED:20220907T012348Z
UID:6785-1701504000-1702054800@magbaylodge.com
SUMMARY:Mike Schwartz
DESCRIPTION:Arrival December 2\, 2023\nDeparture December 8\, 2023\nTransportation to and from Loreto\nProcat offshore and  Whaler Outrage (3 days fishing)\nRooster – 2 days inshore (1 Panga + procat )\nFishing 5 days\nFishing dates December 3\, 4\, 5\, 6\, 7\nIsland house\nMeals and drinks (non-alcoholic)\n\n 
URL:https://magbaylodge.com/event/mike-schwartz/
CATEGORIES:Boston Whaler,Island House,ProCat
END:VEVENT
BEGIN:VEVENT
DTSTART;TZID=UTC:20231203T080000
DTEND;TZID=UTC:20231209T170000
DTSTAMP:20260420T020223
CREATED:20230110T014737Z
LAST-MODIFIED:20230110T014737Z
UID:6973-1701590400-1702141200@magbaylodge.com
SUMMARY:James Redvine plus 3
DESCRIPTION:Arrive December 3\, 2023\nDeparture December 9\, 2023\nPick up Cabo in Cabo on 3rd return on the 9th\nFishing December 4\,5\,6\,7\,8\nFly Fishing package\n6 nights\, 5 days fishing 2 pangas each day (2/panga)\n3 days offshore / 2 days inshore\nMain House San Carlos
URL:https://magbaylodge.com/event/james-redvine-plus-3/
END:VEVENT
BEGIN:VEVENT
DTSTART;TZID=UTC:20231209T080000
DTEND;TZID=UTC:20231212T170000
DTSTAMP:20260420T020223
CREATED:20230224T172039Z
LAST-MODIFIED:20230224T172039Z
UID:56127-1702108800-1702400400@magbaylodge.com
SUMMARY:Kent Busek and Crew
DESCRIPTION:Charter w/ MagBay Lodge SA de CV\nArrive Dec 9\, 2023 and Depart Dec 12\, 2023\n3 days offshore fishing on ProKat on Dec 10\, 11th and 12th (depart the evening of 12 to loreto)\n2 rooms Stay at B&B\nAll meals\, drinks and lodging included (does not included alcoholic drinks)\nTransfer to and from Loreto Airport\nIncludes tackle and fish processing and freezing\n4 People
URL:https://magbaylodge.com/event/kent-busek-and-crew/
CATEGORIES:Isabel,ProCat
END:VEVENT
BEGIN:VEVENT
DTSTART;TZID=UTC:20231210T080000
DTEND;TZID=UTC:20231216T170000
DTSTAMP:20260420T020223
CREATED:20230223T181000Z
LAST-MODIFIED:20230223T181000Z
UID:56121-1702195200-1702746000@magbaylodge.com
SUMMARY:Daniel Fernandez and crew
DESCRIPTION:Charter w/ MagBay Lodge\nArrive Dec 10th and Depart Dec 16th\nall inclusive pickup and return loreto\, all meals\, lodging\, and fishing\nDoes not include alcohol or tips.\nMexican fishing license required.\nStay At Island House (First day stay at house in san carlos and head to island house after day 1 fishing)\n2 days offshore 1 day inshore fishing on kayaks 11th\,12th\,13 th (choose best wind days for the offshore) \, 2 days offshore prokat 14th and 15th\n5 people – 5 kayaks – 2 pangas (each day of the 3 days)
URL:https://magbaylodge.com/event/daniel-fernandez-and-crew/
CATEGORIES:Island House,ProCat
END:VEVENT
BEGIN:VEVENT
DTSTART;TZID=UTC:20231212T080000
DTEND;TZID=UTC:20231217T170000
DTSTAMP:20260420T020223
CREATED:20230522T164922Z
LAST-MODIFIED:20230815T192920Z
UID:56207-1702368000-1702832400@magbaylodge.com
SUMMARY:Scott Dykes
DESCRIPTION:Charter w/ MagBay Lodge SA de CV\nArrival December 12\nDeparture December 17\n5 Nights lodging\nHouse in San Carlos\nBoston Whaler – 3 days offshore fishing target striped marlin\n4 people\nAll meals and non alcoholic drinks included\nIncludes Pickup and Return to LTO airport
URL:https://magbaylodge.com/event/scott-dykes/
CATEGORIES:Boston Whaler,Lodge
END:VEVENT
BEGIN:VEVENT
DTSTART;TZID=UTC:20231218T080000
DTEND;TZID=UTC:20231223T170000
DTSTAMP:20260420T020223
CREATED:20230412T145008Z
LAST-MODIFIED:20230427T202203Z
UID:56172-1702886400-1703350800@magbaylodge.com
SUMMARY:Kenneth Seiter and Crew
DESCRIPTION:Charter w/ MagBay Lodge\n5-night/3 day offshore fishing\nstay at island house\narrive 12/18 depart 12/23 2023\n3 days offshore fishing on cape horn\npickup and return to lto\nall inclusive meals and lodging (does not include alcohol\, fishing license)
URL:https://magbaylodge.com/event/kenneth-seiter-and-crew/
CATEGORIES:Cape Horn,Island House
END:VEVENT
BEGIN:VEVENT
DTSTART;TZID=UTC:20231226T080000
DTEND;TZID=UTC:20231230T170000
DTSTAMP:20260420T020223
CREATED:20230508T220652Z
LAST-MODIFIED:20230508T221341Z
UID:56198-1703577600-1703955600@magbaylodge.com
SUMMARY:Scott Jennrich
DESCRIPTION:Charter w/ MagBay Lodge SA de CV\nArrive Dec 26th Depart Dec 30th\n2 days offshore on capehorn\n1 day inshore panga south to roosters if there\nincludes pickup and return to lto\nstay at house in san carlos\nall meals and drinks for 2 people (does not include alcohol)
URL:https://magbaylodge.com/event/scott-jennrich/
CATEGORIES:Cape Horn,Panga
END:VEVENT
BEGIN:VEVENT
DTSTART;TZID=UTC:20240103T080000
DTEND;TZID=UTC:20240108T170000
DTSTAMP:20260420T020223
CREATED:20240223T222309Z
LAST-MODIFIED:20240223T222309Z
UID:56778-1704268800-1704733200@magbaylodge.com
SUMMARY:Andy Bowen
DESCRIPTION:Charter w/ MagBay Lodge SA de CV \nWith Jeff\nArrive Jan 3 2025\nDepart Jan 8th 2025\n2 pangas 4 days fishing (2 days offshore and 2 days inshore\, maybe mouth for yellowtail and grouper)\npickup in cabo or los barriles\, on the 3rd\nstay at island house\nall meals\, transport\, fish processing and lodging included\ndoes not include alcohol – mexican fishing license is required
URL:https://magbaylodge.com/event/andy-bowen/
CATEGORIES:Fly Fishing,Island House
END:VEVENT
BEGIN:VEVENT
DTSTART;VALUE=DATE:20240104
DTEND;VALUE=DATE:20240110
DTSTAMP:20260420T020223
CREATED:20230801T213642Z
LAST-MODIFIED:20230801T213642Z
UID:56448-1704326400-1704844799@magbaylodge.com
SUMMARY:Colton Cunningham plus 3
DESCRIPTION:Pickup in La Paz on Jan 4th\, 2024\nFish Offshore ProKat 5\,6\,7th\nFish Inshore 8th\nReturn to La Paz on Jan 9th\, 2024\n4 people Includes\n-3 Days Offshore Fishing\n-1 Day Nearshore Jigging at the Mouth\n-5 Nights Lodging at the Island House\n-Pickup and Return\nD7350PD
URL:https://magbaylodge.com/event/colton-cunningham-plus-3/
CATEGORIES:Island House,ProCat
END:VEVENT
BEGIN:VEVENT
DTSTART;VALUE=DATE:20240105
DTEND;VALUE=DATE:20240110
DTSTAMP:20260420T020223
CREATED:20230804T212718Z
LAST-MODIFIED:20230804T212718Z
UID:56452-1704412800-1704844799@magbaylodge.com
SUMMARY:Carey Mcphee plus 2
DESCRIPTION:Pickup in La Paz on Jan 5th\, 2024\nFish Offshore Boston Whaler 6\,7\,8\nReturn to La Paz on Jan 9th\, 2024\nAll Inclusive for 3 People\n-3 Days Offshore Fishing\n-4 Nights Lodging at the Main House in Town\n-Pickup and Return to La Paz
URL:https://magbaylodge.com/event/carey-mcphee-plus-2/
CATEGORIES:Boston Whaler,Lodge
END:VEVENT
BEGIN:VEVENT
DTSTART;TZID=UTC:20240111T080000
DTEND;TZID=UTC:20240115T170000
DTSTAMP:20260420T020223
CREATED:20230930T133946Z
LAST-MODIFIED:20230930T133946Z
UID:56515-1704960000-1705338000@magbaylodge.com
SUMMARY:Catherine Chuateco
DESCRIPTION:Charter w/ MagBay Lodge SA de CV\nPickup LTO or La paz Jan 11\, 2024 Return Jan 15\, 2024\n2 Days offshore Fishing on Whaler\n5 People (price is standard 4 people)\nIsland House (4 nights)\nPickup La Paz or/ Loreto (confirm when flights booked)\nAll inclusive Meals and Lodging (does not include alcohol)\nAll fishing tackle\, fish processing and freezing \nCharter w/ MagBay Lodge SA de CV – add in an additional 1/2 day whaler to mouth yellowtail
URL:https://magbaylodge.com/event/catherine-chuateco/
CATEGORIES:Boston Whaler
END:VEVENT
BEGIN:VEVENT
DTSTART;TZID=UTC:20240113T080000
DTEND;TZID=UTC:20240119T170000
DTSTAMP:20260420T020223
CREATED:20231202T221203Z
LAST-MODIFIED:20231203T022359Z
UID:56647-1705132800-1705683600@magbaylodge.com
SUMMARY:Jim Loud and Wife
DESCRIPTION:Charter w/ MagBay Lodge\nArrive Jan 13\, 2024 and Jan Sep 19th 2024\nPickup and return to LTO\n1 Days Offshore Fishing on Panga\n4 Days Inshore Fishing Panga\n2 people 1 room at Isabellas for 6 Nights\nAll inclusive meals\, lodging\, and transfers\, for 2 people
URL:https://magbaylodge.com/event/jim-loud-and-wife/
CATEGORIES:Isabel,Panga
END:VEVENT
BEGIN:VEVENT
DTSTART;TZID=UTC:20240208T140000
DTEND;TZID=UTC:20240210T220000
DTSTAMP:20260420T020223
CREATED:20230731T175413Z
LAST-MODIFIED:20230731T175437Z
UID:56442-1707400800-1707602400@magbaylodge.com
SUMMARY:Greg Mueller Plus 3
DESCRIPTION:Greg Mueller (Party of 4) \nArriving by car Feb 8th 2024 at 2pm (Boat xfer to and from island) \nDeparting Feb 10th 2024 \nWhale watching\, Mangroves\, Bird Island Tours with Juan \nPDALL
URL:https://magbaylodge.com/event/greg-mueller-plus-3/
CATEGORIES:Bird Watching,Island House,Panga,Whale Watching
END:VEVENT
BEGIN:VEVENT
DTSTART;TZID=UTC:20240213T080000
DTEND;TZID=UTC:20240217T170000
DTSTAMP:20260420T020223
CREATED:20231004T150902Z
LAST-MODIFIED:20231004T150902Z
UID:56522-1707811200-1708189200@magbaylodge.com
SUMMARY:Janet and Crew
DESCRIPTION:House only whale details to come
URL:https://magbaylodge.com/event/janet-and-crew/
CATEGORIES:Island House
END:VEVENT
BEGIN:VEVENT
DTSTART;VALUE=DATE:20241004
DTEND;VALUE=DATE:20241010
DTSTAMP:20260420T020223
CREATED:20230823T142818Z
LAST-MODIFIED:20230823T142818Z
UID:56476-1728000000-1728518399@magbaylodge.com
SUMMARY:Matthew Hill Plus 2
DESCRIPTION:Arrive Friday Oct 4\, 2024\nDepart Wednesday Oct 9\, 2024\nFish Offshore on Cape Horn Oct 5\,6\,7 fish Inshore on Panga or Cape Horn Oct 8\nAll inclusive for 3 People:\nAirport Transfers to and from Loreto\, all Lodging\, Meals\, and dinks (non alcoholic) included. Also Includes all Conventional tackle\, fish processing and freezing.\nStay at Main House in San Carlos .. MagBay Lodge \nDPPD
URL:https://magbaylodge.com/event/matthew-hill-plus-2/
CATEGORIES:Cape Horn,Lodge,Panga
END:VEVENT
END:VCALENDAR