BEGIN:VCALENDAR
VERSION:2.0
PRODID:-//Mag Bay Sport Fishing Lodge - ECPv6.15.11//NONSGML v1.0//EN
CALSCALE:GREGORIAN
METHOD:PUBLISH
X-ORIGINAL-URL:https://magbaylodge.com
X-WR-CALDESC:Events for Mag Bay Sport Fishing Lodge
REFRESH-INTERVAL;VALUE=DURATION:PT1H
X-Robots-Tag:noindex
X-PUBLISHED-TTL:PT1H
BEGIN:VTIMEZONE
TZID:UTC
BEGIN:STANDARD
TZOFFSETFROM:+0000
TZOFFSETTO:+0000
TZNAME:UTC
DTSTART:20240101T000000
END:STANDARD
END:VTIMEZONE
BEGIN:VEVENT
DTSTART;TZID=UTC:20250102T080000
DTEND;TZID=UTC:20250106T170000
DTSTAMP:20260420T171237
CREATED:20240201T014120Z
LAST-MODIFIED:20240223T220657Z
UID:56742-1735804800-1736182800@magbaylodge.com
SUMMARY:Nolan Venable / 4 Nights @ Lodge & 3 Days Fly F  /  2 - 28' Sport Pangas
DESCRIPTION:ALL INCLUSIVE \nNOTE :  JEFF W/ GUIDE
URL:https://magbaylodge.com/event/nolan-venable-4-nights-lodge-3-days-fly-f-2-28-sport-pangas/
CATEGORIES:Lodge
END:VEVENT
END:VCALENDAR