BEGIN:VCALENDAR
VERSION:2.0
PRODID:-//Mag Bay Sport Fishing Lodge - ECPv6.15.11//NONSGML v1.0//EN
CALSCALE:GREGORIAN
METHOD:PUBLISH
X-WR-CALNAME:Mag Bay Sport Fishing Lodge
X-ORIGINAL-URL:https://magbaylodge.com
X-WR-CALDESC:Events for Mag Bay Sport Fishing Lodge
REFRESH-INTERVAL;VALUE=DURATION:PT1H
X-Robots-Tag:noindex
X-PUBLISHED-TTL:PT1H
BEGIN:VTIMEZONE
TZID:UTC
BEGIN:STANDARD
TZOFFSETFROM:+0000
TZOFFSETTO:+0000
TZNAME:UTC
DTSTART:20170101T000000
END:STANDARD
END:VTIMEZONE
BEGIN:VEVENT
DTSTART;TZID=UTC:20180906T080000
DTEND;TZID=UTC:20180911T170000
DTSTAMP:20260422T225603
CREATED:20180726T150118Z
LAST-MODIFIED:20180726T171538Z
UID:4818-1536220800-1536685200@magbaylodge.com
SUMMARY:Todd Zimmerman and Dan (2 Guys)
DESCRIPTION:New trip details \nPickup 2 Guys Loreto on the 6th \nLodging 6th\, 7th\, 8th\, 9th\, and 10th \n1 Day Inshore\, the 7th \n2 Days offshore 8th and 9th \nLeaving possibility open for the 10th \nReturn to Loreto on the 11th?
URL:https://magbaylodge.com/event/todd-zimmerman-and-dan-2-guys/
CATEGORIES:Cape Horn
END:VEVENT
BEGIN:VEVENT
DTSTART;TZID=UTC:20180904T080000
DTEND;TZID=UTC:20180904T170000
DTSTAMP:20260422T225603
CREATED:20180818T021506Z
LAST-MODIFIED:20180827T150422Z
UID:4827-1536048000-1536080400@magbaylodge.com
SUMMARY:Oscar Colmonero
DESCRIPTION:1 day capehorn offshore
URL:https://magbaylodge.com/event/oscar-colmonero/
CATEGORIES:Cape Horn
END:VEVENT
BEGIN:VEVENT
DTSTART;TZID=UTC:20180819T080000
DTEND;TZID=UTC:20180825T170000
DTSTAMP:20260422T225603
CREATED:20180413T030203Z
LAST-MODIFIED:20180608T140210Z
UID:4699-1534665600-1535216400@magbaylodge.com
SUMMARY:Drew and Crew
DESCRIPTION:5 Guys  Drew > 808 250 5243 \n  \n3 days 6 nights \nProKat
URL:https://magbaylodge.com/event/drew-and-crew/
CATEGORIES:ProCat
END:VEVENT
BEGIN:VEVENT
DTSTART;TZID=UTC:20180809T080000
DTEND;TZID=UTC:20180816T170000
DTSTAMP:20260422T225603
CREATED:20180325T165317Z
LAST-MODIFIED:20180804T154151Z
UID:4652-1533801600-1534438800@magbaylodge.com
SUMMARY:Toby Group
DESCRIPTION:
URL:https://magbaylodge.com/event/toby-group/
CATEGORIES:ProCat
END:VEVENT
BEGIN:VEVENT
DTSTART;TZID=UTC:20180719T080000
DTEND;TZID=UTC:20180722T170000
DTSTAMP:20260422T225603
CREATED:20180413T230446Z
LAST-MODIFIED:20180608T140425Z
UID:4701-1531987200-1532278800@magbaylodge.com
SUMMARY:Kevin Kline Group
DESCRIPTION:Hi Kevin\, your are all set:  You have paid in full details below for your charter in July.  Please review this email and confirm all looks correct to you: \nAll inclusive 3 people\, 2 days fishing\, 3 nights lodging\, pickup in loreto\, dropoff in loreto and la paz\, includes food and fish processing \nPickup in Loreto July 19th 2018 > please send flight details \nFish the 20th on ProKat \nFish the 21st on ProKat \nReturn the 22nd 2 guys to Loreto\, 1 to la paz \n  \nTrip does not include alcoholic beverages \nTips appreciated for crew and where deemed appropriate for lodge personnel/fish processing \nTerminal Tackle upon availability\, best to bring some basics \nPlease contact us 2 weeks prior to your trip\, for any last minutes questions\, concerns\, etc \n 
URL:https://magbaylodge.com/event/kevin-kline-group/
CATEGORIES:ProCat
END:VEVENT
END:VCALENDAR