BEGIN:VCALENDAR
VERSION:2.0
PRODID:-//Mag Bay Sport Fishing Lodge - ECPv6.15.11//NONSGML v1.0//EN
CALSCALE:GREGORIAN
METHOD:PUBLISH
X-WR-CALNAME:Mag Bay Sport Fishing Lodge
X-ORIGINAL-URL:https://magbaylodge.com
X-WR-CALDESC:Events for Mag Bay Sport Fishing Lodge
REFRESH-INTERVAL;VALUE=DURATION:PT1H
X-Robots-Tag:noindex
X-PUBLISHED-TTL:PT1H
BEGIN:VTIMEZONE
TZID:UTC
BEGIN:STANDARD
TZOFFSETFROM:+0000
TZOFFSETTO:+0000
TZNAME:UTC
DTSTART:20200101T000000
END:STANDARD
END:VTIMEZONE
BEGIN:VEVENT
DTSTART;TZID=UTC:20211210T080000
DTEND;TZID=UTC:20211214T170000
DTSTAMP:20260420T053223
CREATED:20211103T134238Z
LAST-MODIFIED:20211201T032153Z
UID:6296-1639123200-1639501200@magbaylodge.com
SUMMARY:Kyle Christiansen plus 5
DESCRIPTION:Pickup in Cabo on 12/10/2021  pickup other passenger in la paz on 12/11  – return all to cabo 12/14  – stay at island house 2 days offshore (pk) and 1 day inshore \nWe arrive Thursday 12/9 and we spend Thursday night in Cabo. We are staying at hotel Tesoro los Cabo’s and will be picked up Friday at 12 noon.  Travel to mag bay. It is my understanding we are staying on the island. 4 bedroom   There are 4 couples. \nWe will fish full day sat and Sunday. Pro cat offshore \n1/2 day inshore on Monday and travel back to Cabo that afternoon.  Hotel to be determined. Probably same one. \nFly out on Tuesday morning 12/14.
URL:https://magbaylodge.com/event/kyle-christiansen-plus-5/
CATEGORIES:ProCat
END:VEVENT
BEGIN:VEVENT
DTSTART;TZID=UTC:20211204T080000
DTEND;TZID=UTC:20211210T170000
DTSTAMP:20260420T053223
CREATED:20201028T200914Z
LAST-MODIFIED:20220119T215832Z
UID:5827-1638604800-1639155600@magbaylodge.com
SUMMARY:Toby Taylor + 6
DESCRIPTION:Pick up 11:00 am on 12/4/2021 Loreto \nDrop drop off La Mision hotel 12/10/2021 \n5 days offshore 3 boats 6 guests \nFishing offshore Dec 5\, 6\, 7\, 8\, 9 \nTOBY TALOR/JERRY HOLMANCO Prokat (fly fishing mostly) 2 guests \nMIKE WENZINGER/CHUCK CHESEMORE Boston Whaler- (bait fishing) 2 guests \nCHUCK BOOMER/JAKE BRUNS Conquest-( bait fishing and possible fly fishing) 2 guests \nall meals and transfers included \none guest dropped out 10/11/21 \ndeparting 12/10 \nLORETO AIRPORT\nToby Taylor Chuck Boomer Chuck Chesemore Mike Winzinger Jake Bruns \nCABO SAN LUCAS\nJerry Veenker and John Tammen go to Cabo \n(Jerry Veenker waiver signed)
URL:https://magbaylodge.com/event/toby-taylor-3/
LOCATION:Magdalena Bay Fishing\, San Carlos Lodge
CATEGORIES:Boston Whaler,Conquest,Lodge,ProCat
END:VEVENT
BEGIN:VEVENT
DTSTART;TZID=UTC:20211204T080000
DTEND;TZID=UTC:20211206T170000
DTSTAMP:20260420T053223
CREATED:20211104T203335Z
LAST-MODIFIED:20211104T220516Z
UID:6300-1638604800-1638810000@magbaylodge.com
SUMMARY:Timotoe
DESCRIPTION:
URL:https://magbaylodge.com/event/timotoe/
CATEGORIES:Conquest
END:VEVENT
BEGIN:VEVENT
DTSTART;TZID=UTC:20211130T080000
DTEND;TZID=UTC:20211205T170000
DTSTAMP:20260420T053223
CREATED:20210202T160608Z
LAST-MODIFIED:20211013T195027Z
UID:5918-1638259200-1638723600@magbaylodge.com
SUMMARY:Richard Remmer + 2
DESCRIPTION:Richard Remmer plus 2. All inclusive trip. Arriving on 11/30/2021 and departing on 12/5/2021. \nIncludes airport transfer\, fishing\, lodging\, meals and non alcoholic beverages. \nFishing Dec 1\,2\,3\,4 Cape Horn \nd0b6230
URL:https://magbaylodge.com/event/richard-remmer-2/
CATEGORIES:Cape Horn,Lodge
END:VEVENT
BEGIN:VEVENT
DTSTART;TZID=UTC:20211128T080000
DTEND;TZID=UTC:20211203T170000
DTSTAMP:20260420T053223
CREATED:20211027T153840Z
LAST-MODIFIED:20211027T153840Z
UID:6268-1638086400-1638550800@magbaylodge.com
SUMMARY:Deer Meat for Dinner
DESCRIPTION:Pickup Cabo Nov 28\nReturn Cabo Dec 3\nFishing offshore Conquest 2 days\nFishing Conquest other 2 days\n4 people @ Island House\nall inclusive meals/transport/fish processing \ntaking photos of lodge and drone video fishing
URL:https://magbaylodge.com/event/deer-meat-for-dinner-2/
CATEGORIES:Conquest,Island House
END:VEVENT
BEGIN:VEVENT
DTSTART;TZID=UTC:20211128T080000
DTEND;TZID=UTC:20211202T170000
DTSTAMP:20260420T053223
CREATED:20211027T153739Z
LAST-MODIFIED:20211027T153739Z
UID:6266-1638086400-1638464400@magbaylodge.com
SUMMARY:Jon Schwartz
DESCRIPTION:Pickup from Cabo Nov 28\nReturn to Cabo Dec 2\n2 days offshore 11/29 and 11/30 Cape Horn \nRest day Dec 1 \nStaying at hotel and no meals included
URL:https://magbaylodge.com/event/jon-schwartz/
CATEGORIES:Cape Horn
END:VEVENT
BEGIN:VEVENT
DTSTART;TZID=UTC:20211121T080000
DTEND;TZID=UTC:20211124T170000
DTSTAMP:20260420T053223
CREATED:20211027T174230Z
LAST-MODIFIED:20211027T174230Z
UID:6274-1637481600-1637773200@magbaylodge.com
SUMMARY:Yair
DESCRIPTION:Staying at B&B no meals included\nfishing offshore 1 day capehorn\ninshore one day panga\nlunch and drinks on boat\nfish processing and freezing
URL:https://magbaylodge.com/event/yair/
CATEGORIES:Panga
END:VEVENT
BEGIN:VEVENT
DTSTART;TZID=UTC:20211118T080000
DTEND;TZID=UTC:20211124T170000
DTSTAMP:20260420T053223
CREATED:20201029T204721Z
LAST-MODIFIED:20211122T172233Z
UID:5831-1637222400-1637773200@magbaylodge.com
SUMMARY:Chris Varjan and crew
DESCRIPTION:Arrive Nov 18th Cabo\nDepart Nov 24th Cabo\n5 days offshore ProKat and Cape Horn\nAll inclusive- lodging\, meals\, non-alcoholic drinks\nStaying at lodge but may move to island house
URL:https://magbaylodge.com/event/chris-varjan-and-crew/
CATEGORIES:Cape Horn,ProCat
END:VEVENT
BEGIN:VEVENT
DTSTART;TZID=UTC:20211115T080000
DTEND;TZID=UTC:20211122T170000
DTSTAMP:20260420T053223
CREATED:20190717T211326Z
LAST-MODIFIED:20211104T185219Z
UID:5073-1636963200-1637600400@magbaylodge.com
SUMMARY:Sportfishing Magazine and Hobie Kayaks
DESCRIPTION:Sportfishing Magazine and Hobie Kayaks
URL:https://magbaylodge.com/event/sportfishing-magazine-and-hobie-kayaks/
CATEGORIES:Panga
END:VEVENT
BEGIN:VEVENT
DTSTART;TZID=UTC:20211114T080000
DTEND;TZID=UTC:20211118T170000
DTSTAMP:20260420T053223
CREATED:20211105T174202Z
LAST-MODIFIED:20211105T174559Z
UID:6303-1636876800-1637254800@magbaylodge.com
SUMMARY:Gary Graham
DESCRIPTION:Gary Graham + 3 people\nDriving themselves\n4 nights lodging@ Lodge/meals\nInshore panga 15th\, 16th\, 17th
URL:https://magbaylodge.com/event/gary-graham/
LOCATION:Magdalena Bay Fishing\, San Carlos Lodge
CATEGORIES:Lodge,Panga
END:VEVENT
BEGIN:VEVENT
DTSTART;TZID=UTC:20211111T080000
DTEND;TZID=UTC:20211116T170000
DTSTAMP:20260420T053223
CREATED:20210210T172808Z
LAST-MODIFIED:20211025T191917Z
UID:5935-1636617600-1637082000@magbaylodge.com
SUMMARY:Joe Mclean + 3
DESCRIPTION:Nov 2021 Trip \nPickup in Loreto Nov 11th return the 16th \nAll inclusive meals\, lodging\, tackle\, etc 4 people\nCape Horn offshore 2 day\nPanga inshore 2 days
URL:https://magbaylodge.com/event/joe-mclean-3-2/
CATEGORIES:Cape Horn,Lodge
END:VEVENT
BEGIN:VEVENT
DTSTART;TZID=UTC:20211108T080000
DTEND;TZID=UTC:20211113T170000
DTSTAMP:20260420T053223
CREATED:20191105T150446Z
LAST-MODIFIED:20211104T184636Z
UID:5224-1636358400-1636822800@magbaylodge.com
SUMMARY:Zimmerman and Group
DESCRIPTION:5 Days lodging / 4 days fishing. \nall meals included \npickup nov 8 12:38 PM Loreto Airport \nregresa nov 13 a Loreto restaurant de palapa  Las 9 am
URL:https://magbaylodge.com/event/zimmerman-and-group-2/
CATEGORIES:KH,ProCat
END:VEVENT
BEGIN:VEVENT
DTSTART;TZID=UTC:20211108T080000
DTEND;TZID=UTC:20211108T170000
DTSTAMP:20260420T053223
CREATED:20211102T220731Z
LAST-MODIFIED:20211102T220738Z
UID:6294-1636358400-1636390800@magbaylodge.com
SUMMARY:Keneth and crew Boston conquest
DESCRIPTION:Boston Whaler Conquest Offshore\, includes lunch and drinks (non alcoholic) on boat\, depart dock at 6:15 AM – try to get bait the night before $100 if bait guy can fill 50 pcs\, customer arrives to Lodge at 6:00 AM\, 4 People – no gear on needed on boat. Deposit of $487.50 paid balance of $1462.50 due
URL:https://magbaylodge.com/event/keneth-and-crew-boston-conquest/
CATEGORIES:Boston Whaler
END:VEVENT
BEGIN:VEVENT
DTSTART;TZID=UTC:20211106T080000
DTEND;TZID=UTC:20211111T170000
DTSTAMP:20260420T053223
CREATED:20200714T150354Z
LAST-MODIFIED:20211018T174049Z
UID:5492-1636185600-1636650000@magbaylodge.com
SUMMARY:David Palmer +4 guests
DESCRIPTION:Nov 6th-Nov 11th Island House \narrive on November 6th in Loreto at 1:50pm \ndepart Loreto at 12:44 on November 11th.. \nAll inclusive meals\, RT transportation from Loreto\, fish processing and freezing \nfishing 4 offshore days 2 boats ProKat and Cape Horn. \n 
URL:https://magbaylodge.com/event/david-palmer-and-crew/
CATEGORIES:Cape Horn,Island House,ProCat
END:VEVENT
BEGIN:VEVENT
DTSTART;TZID=UTC:20211105T080000
DTEND;TZID=UTC:20211105T170000
DTSTAMP:20260420T053223
CREATED:20211027T210654Z
LAST-MODIFIED:20211027T210654Z
UID:6284-1636099200-1636131600@magbaylodge.com
SUMMARY:pickup at commercial dock at 8am
DESCRIPTION:3 guys go to airport with our clients tommy barnes > 949.553.4800
URL:https://magbaylodge.com/event/pickup-at-commercial-dock-at-8am/
END:VEVENT
BEGIN:VEVENT
DTSTART;TZID=UTC:20211101T080000
DTEND;TZID=UTC:20211107T170000
DTSTAMP:20260420T053223
CREATED:20191024T210006Z
LAST-MODIFIED:20211018T173229Z
UID:5206-1635753600-1636304400@magbaylodge.com
SUMMARY:Brett Florence + 2
DESCRIPTION:November 1 @ 8:00 am – November 7 @ 5:00 pm\nStaying at B&B with all meals and airport transfer\n3 days fishing on Cape Horn offshore\n2 day fishing Panga mangroves
URL:https://magbaylodge.com/event/brett-florence-2/
CATEGORIES:Cape Horn,KH
END:VEVENT
BEGIN:VEVENT
DTSTART;TZID=UTC:20211031T080000
DTEND;TZID=UTC:20211105T170000
DTSTAMP:20260420T053223
CREATED:20201024T182615Z
LAST-MODIFIED:20211018T172704Z
UID:5816-1635667200-1636131600@magbaylodge.com
SUMMARY:Tommy Barnes plus 2
DESCRIPTION:arrive oct 30th Depart Nov 4th 2021\nFish 2 days inshore panga\n2 days offshore Hydra Sport\nStaying at lodge\nAll-inclusive= meals+non-alcoholic drinks\, fish freezing\, process\, bait\, tackle\, rt transfers to airport \nOct 31 Loreto\nFlight 258 Arrive 1:28 pm \nNov 5 Loreto\nFlight 255 Depart 12:45 pm
URL:https://magbaylodge.com/event/tommy-barnes-plus-2/
CATEGORIES:Cape Horn
END:VEVENT
BEGIN:VEVENT
DTSTART;TZID=UTC:20211031T080000
DTEND;TZID=UTC:20211105T170000
DTSTAMP:20260420T053223
CREATED:20200314T145036Z
LAST-MODIFIED:20211028T221044Z
UID:5440-1635667200-1636131600@magbaylodge.com
SUMMARY:Marco & Cristy
DESCRIPTION:Pickup and drop off in Cabo \nArrive 10/31/2021 \nDepart 11/5/2021. \nAll inclusive includes airport transfer\, meals\, non alcoholic beverages\, lodging for 5 nights. \nFishing ProKat 3 days offshore
URL:https://magbaylodge.com/event/marco-cristy/
CATEGORIES:Island House,KH,ProCat
END:VEVENT
BEGIN:VEVENT
DTSTART;TZID=UTC:20211026T080000
DTEND;TZID=UTC:20211101T170000
DTSTAMP:20260420T053223
CREATED:20201231T215636Z
LAST-MODIFIED:20210829T022253Z
UID:5899-1635235200-1635786000@magbaylodge.com
SUMMARY:Hinkels&McKoy
DESCRIPTION:Flying into Loreto on Tues Oct. 26 \nPick up from Loreto Hotel on Oct.27  Shuttle van. \nFishing on ProKat + Center Console 28-29-30 \nFishing 3 pangas last day in mangroves. \nFlight departs Nov. 1st back to Loreto Airport 4:27 PM Volaris flight. \nStay at lodge \nMeals included and transportation. \nDeposit of 2k with SaltJunkies will collect more within month after holidays..
URL:https://magbaylodge.com/event/hinkelsmckoy/
CATEGORIES:Lodge,Panga,ProCat
END:VEVENT
BEGIN:VEVENT
DTSTART;TZID=UTC:20211025T080000
DTEND;TZID=UTC:20211030T170000
DTSTAMP:20260420T053223
CREATED:20200111T000930Z
LAST-MODIFIED:20211022T171018Z
UID:5317-1635148800-1635613200@magbaylodge.com
SUMMARY:Mike Monti
DESCRIPTION:Mike Monti – \nOctober 25th – 30th 2021 \nPickup at Hotel Posada de las Flores in Loreto \ncape horn 4 days offshore fishing \nIsland House \nadded meal plan all inclusive meals +non-alcoholic beverages \nadded RT transportation LTO airport \n  \n 
URL:https://magbaylodge.com/event/mike-monti/
CATEGORIES:Cape Horn,Profe House
END:VEVENT
BEGIN:VEVENT
DTSTART;TZID=UTC:20211020T080000
DTEND;TZID=UTC:20211025T170000
DTSTAMP:20260420T053223
CREATED:20201214T153720Z
LAST-MODIFIED:20211018T164724Z
UID:5885-1634716800-1635181200@magbaylodge.com
SUMMARY:Dennis Land + 3
DESCRIPTION: Dennis land and crew (4 anglers).\nAll inclusive Includes lodging\, meals\, fish processing.\nArrive October 20 2021\nDepart October 25th 2021\nFishing offshore ProKat Oct 21\, 22\, 23\nFishing offshore Boston Whaler Outrage Oct 24- already arranged with Capitan Marco \nWaiting on waivers and flight info \n  \npaid in full
URL:https://magbaylodge.com/event/dennis-land-3/
LOCATION:Casa Magdalena Island House\, Isla Magdalena\, ADOLFO LOPEZ MATEO\, Baja California Sur\, 23710\, Mexico
CATEGORIES:Boston Whaler,Island House,ProCat
END:VEVENT
BEGIN:VEVENT
DTSTART;TZID=UTC:20211016T080000
DTEND;TZID=UTC:20211020T170000
DTSTAMP:20260420T053223
CREATED:20210621T211002Z
LAST-MODIFIED:20210928T161850Z
UID:6073-1634371200-1634749200@magbaylodge.com
SUMMARY:Scott Wakefield
DESCRIPTION:No transport needed- driving selves\nFishing 17\,18\,19\, 20 on Boston Whaler Conquest\nDefinitely 3 guests but possibly 4\nLodging at Island House + meals for Oct-16th-20th\nWill drive home after fishing on 20th \n 
URL:https://magbaylodge.com/event/scott-wakefield-2/
LOCATION:Magdalena Bay Fishing\, San Carlos Lodge
CATEGORIES:Boston Whaler,Island House
END:VEVENT
BEGIN:VEVENT
DTSTART;TZID=UTC:20211016T080000
DTEND;TZID=UTC:20211020T170000
DTSTAMP:20260420T053223
CREATED:20200828T150849Z
LAST-MODIFIED:20211014T152837Z
UID:5533-1634371200-1634749200@magbaylodge.com
SUMMARY:Wahoo Junkies
DESCRIPTION:Tim Altman and Rob Widdows with Wahoo Junkies \nLate October 17th – 21st 2021
URL:https://magbaylodge.com/event/tim-altman-and-rob-widdows/
LOCATION:Magdalena Bay Fishing\, San Carlos Lodge
CATEGORIES:Lodge,ProCat
END:VEVENT
BEGIN:VEVENT
DTSTART;TZID=UTC:20211016T080000
DTEND;TZID=UTC:20211018T170000
DTSTAMP:20260420T053223
CREATED:20211011T213910Z
LAST-MODIFIED:20211011T213922Z
UID:6227-1634371200-1634576400@magbaylodge.com
SUMMARY:Jim Stewart + 3
DESCRIPTION:Arrive with own transportation\n2 rooms Isabella’s hotel\n4 people plus dog 🙂\nFish offshore Cape Horn 10/17
URL:https://magbaylodge.com/event/jim-stewart-3/
CATEGORIES:Cape Horn,Isabel
END:VEVENT
BEGIN:VEVENT
DTSTART;TZID=UTC:20211010T080000
DTEND;TZID=UTC:20211015T170000
DTSTAMP:20260420T053223
CREATED:20200926T232228Z
LAST-MODIFIED:20210818T045724Z
UID:5790-1633852800-1634317200@magbaylodge.com
SUMMARY:Eric Graff & group
DESCRIPTION:Eric Graff and Group \nstay @ lodge Oct 10 – oct 15th. Transport from Loreto 6 guys total fishing 11-14 \n2 days prokat offshore 2 days 2 pangas inshore \nmeals\, lodging \, non alcoholic beverages included \nJoseph/saltjunkies deposit \nVOLARIS AIR  TJ to LA PAZ  10/10/2021  Y4 580 arrives at 9:16 AM  \,  no luggage 4 passengers \nReturn on 10/15  To La Paz 10 am they are flying out next morning but don’t want to wake up early. \n 
URL:https://magbaylodge.com/event/5790/
CATEGORIES:Lodge,Panga,ProCat
END:VEVENT
BEGIN:VEVENT
DTSTART;TZID=UTC:20211009T080000
DTEND;TZID=UTC:20211016T170000
DTSTAMP:20260420T053223
CREATED:20191202T180554Z
LAST-MODIFIED:20210927T191548Z
UID:5261-1633766400-1634403600@magbaylodge.com
SUMMARY:Mason Wilner + 3
DESCRIPTION:Island House\nGuests are providing all food/meals- need stop at grocery store\n2 days Offshore Cape Horn\n2 days Inshore Cape Horn\n1 day x 4 kayaks personal use\nRT transport from Cabo \nSaturday Oct. 9 Arrive Cabo (SJD) at 2:34pm\nSaturday Oct. 16 Depart Magbay @ 7:00 am for flight Cabo (SJD) 1:20 pm
URL:https://magbaylodge.com/event/mason-wilner-3/
CATEGORIES:Cape Horn
END:VEVENT
BEGIN:VEVENT
DTSTART;TZID=UTC:20211002T080000
DTEND;TZID=UTC:20211007T170000
DTSTAMP:20260420T053223
CREATED:20210115T143546Z
LAST-MODIFIED:20210924T170514Z
UID:5907-1633161600-1633626000@magbaylodge.com
SUMMARY:Alan Semion plus 1
DESCRIPTION:Arrive October 2nd 2021 – Departing October 7th 2021. All inclusive trip including pickup and dropoff in Loreto\, \, All meals and non alcoholic beverages\, Tackle\, and fish processing. \n5 nights @ lodge with meals included \n3 days offshore fishing for 2 people on the Boston Conquest Oct 3\, 4\, 5\, Rest day Oct 6 \nSat\, Oct 02\nAmerican Airlines\nAA #3283\nCanadair CRJ-700 | Business Class\nLoreto (LTO)\n12:28 PM \nThu\, Oct 07 \nAmerican Airlines\nAA #3283\nCanadair CRJ-700 | Business Class\nLoreto (LTO)\n1:11 PM \n 
URL:https://magbaylodge.com/event/alan-semion-plus-1/
CATEGORIES:Cape Horn,Isabel
END:VEVENT
BEGIN:VEVENT
DTSTART;TZID=UTC:20210925T080000
DTEND;TZID=UTC:20211002T170000
DTSTAMP:20260420T053223
CREATED:20201221T152555Z
LAST-MODIFIED:20210930T212418Z
UID:5890-1632556800-1633194000@magbaylodge.com
SUMMARY:Barry Cooney and Crew
DESCRIPTION:Barry Cooney + 5 people arriving on September 25th and leaving October 2nd 2021. All inclusive trip. Includes airport transfers\, fish processing\, tackle and all meals. Does not include alcoholic beverages. Staying at Island House \n7 nights @ Island House. Fishing ProKat Offshore Sep 26\, 27\, 28\, 29\, 30. Rest day Oct 1. \nArrive September 25th LAX to Loreto\nLoreto Arrival 2:40 pm\n6 guests +luggage \nArrive Oct 2 Loreto departure 4 pm \n 
URL:https://magbaylodge.com/event/barry-cooney-and-crew/
CATEGORIES:Island House,ProCat
END:VEVENT
BEGIN:VEVENT
DTSTART;TZID=UTC:20210925T080000
DTEND;TZID=UTC:20210929T170000
DTSTAMP:20260420T053223
CREATED:20190916T142437Z
LAST-MODIFIED:20220301T143424Z
UID:5117-1632556800-1632934800@magbaylodge.com
SUMMARY:Michael Smith and Wife
DESCRIPTION:Sept 25 Arrive Alaska Flight #258 at 12:35 \nSept 29 depart to Loreto (day early) \n3 days offshore fishing Cape Horn Sep 26\, 27\, 28 lunch on boat \n5 nights share room @ house – transfer from airport \nMain House \nAdded meal plan- paying in cash upon arrival. All meals included NO MUSHROOMS \n  \n 
URL:https://magbaylodge.com/event/michael-smith-and-wife/
CATEGORIES:Cape Horn
END:VEVENT
BEGIN:VEVENT
DTSTART;TZID=UTC:20210918T080000
DTEND;TZID=UTC:20210925T170000
DTSTAMP:20260420T053223
CREATED:20201028T150252Z
LAST-MODIFIED:20210519T200835Z
UID:5824-1631952000-1632589200@magbaylodge.com
SUMMARY:Jack Preston and Crew
DESCRIPTION:Jack Preston and Crew arriving September 19th 2021 – Departing September 25th 2021 (pending adjustments due to flights) \nAll inclusive stay in lodge – 5 days fishing (3 days offshore\, 2 days inshore) on the Capehorn \n  \nd2655bl6195
URL:https://magbaylodge.com/event/jack-preston-and-crew/
LOCATION:Magdalena Bay Fishing\, San Carlos Lodge
CATEGORIES:Cape Horn,Lodge
END:VEVENT
END:VCALENDAR