BEGIN:VCALENDAR
VERSION:2.0
PRODID:-//Mag Bay Sport Fishing Lodge - ECPv6.15.11//NONSGML v1.0//EN
CALSCALE:GREGORIAN
METHOD:PUBLISH
X-WR-CALNAME:Mag Bay Sport Fishing Lodge
X-ORIGINAL-URL:https://magbaylodge.com
X-WR-CALDESC:Events for Mag Bay Sport Fishing Lodge
REFRESH-INTERVAL;VALUE=DURATION:PT1H
X-Robots-Tag:noindex
X-PUBLISHED-TTL:PT1H
BEGIN:VTIMEZONE
TZID:UTC
BEGIN:STANDARD
TZOFFSETFROM:+0000
TZOFFSETTO:+0000
TZNAME:UTC
DTSTART:20180101T000000
END:STANDARD
END:VTIMEZONE
BEGIN:VEVENT
DTSTART;TZID=UTC:20200217T080000
DTEND;TZID=UTC:20200221T170000
DTSTAMP:20260422T223037
CREATED:20200123T185610Z
LAST-MODIFIED:20200123T191157Z
UID:5363-1581926400-1582304400@magbaylodge.com
SUMMARY:Rafael plus 2
DESCRIPTION:casa
URL:https://magbaylodge.com/event/radael-plus-2/
CATEGORIES:KH
END:VEVENT
BEGIN:VEVENT
DTSTART;TZID=UTC:20200202T080000
DTEND;TZID=UTC:20200208T170000
DTSTAMP:20260422T223037
CREATED:20200123T185538Z
LAST-MODIFIED:20200123T185538Z
UID:5361-1580630400-1581181200@magbaylodge.com
SUMMARY:King Hom plus 6
DESCRIPTION:custom trip
URL:https://magbaylodge.com/event/king-hom-plus-6/
CATEGORIES:KH
END:VEVENT
BEGIN:VEVENT
DTSTART;TZID=UTC:20200201T080000
DTEND;TZID=UTC:20200202T170000
DTSTAMP:20260422T223037
CREATED:20200123T185452Z
LAST-MODIFIED:20200123T185452Z
UID:5359-1580544000-1580662800@magbaylodge.com
SUMMARY:mandy plus 6
DESCRIPTION:casa
URL:https://magbaylodge.com/event/mandy-plus-6/
CATEGORIES:KH
END:VEVENT
BEGIN:VEVENT
DTSTART;TZID=UTC:20191214T080000
DTEND;TZID=UTC:20191226T170000
DTSTAMP:20260422T223037
CREATED:20190419T204318Z
LAST-MODIFIED:20191127T201935Z
UID:5051-1576310400-1577379600@magbaylodge.com
SUMMARY:Janet and Group
DESCRIPTION:Fly Fishing \nSo the total price:\n12 nights Stay\n2 Days small boat fly-fishing mangroves (2 boats)\n3 days offshore fishing marlin\, tuna etc   – Cape Horn 27.\nTransfers to and from Airport  & Meals
URL:https://magbaylodge.com/event/janet-and-group/
CATEGORIES:Cape Horn,KH
END:VEVENT
BEGIN:VEVENT
DTSTART;TZID=UTC:20191206T080000
DTEND;TZID=UTC:20191206T170000
DTSTAMP:20260422T223037
CREATED:20191202T181219Z
LAST-MODIFIED:20191202T181235Z
UID:5263-1575619200-1575651600@magbaylodge.com
SUMMARY:Chase + 3
DESCRIPTION:pickup from the big yacht steadfast at isla magdalena channel 65a\n2 pangas\, collect $550\npickup at 7am from the yacht to fish inshore mangroves\nReturn to Yacht by 4  pm
URL:https://magbaylodge.com/event/chase-3/
CATEGORIES:Panga
END:VEVENT
BEGIN:VEVENT
DTSTART;TZID=UTC:20191202T080000
DTEND;TZID=UTC:20191208T170000
DTSTAMP:20260422T223037
CREATED:20191119T162552Z
LAST-MODIFIED:20191119T162552Z
UID:5239-1575273600-1575824400@magbaylodge.com
SUMMARY:April & Kenneth Black
DESCRIPTION:Arrive LTO Dec 2nd\nDepart Dec 8th\nall inclusive meals\, 3 days prokat offshore 1 day capehorn inshore \nPIF
URL:https://magbaylodge.com/event/april-kenneth-black/
CATEGORIES:ProCat
END:VEVENT
BEGIN:VEVENT
DTSTART;TZID=UTC:20191201T080000
DTEND;TZID=UTC:20191205T170000
DTSTAMP:20260422T223037
CREATED:20191111T160129Z
LAST-MODIFIED:20191111T160129Z
UID:5230-1575187200-1575565200@magbaylodge.com
SUMMARY:Jim + 2 or 3 Cape Horn
DESCRIPTION:No Transfers\, Arrive on the 1st\, fish 2nd\, 3rd\, and 4th – leave on the 5th \nAll inclusive no transfer include food and meals \nd2040b4760–aa
URL:https://magbaylodge.com/event/jim-2-or-3-cape-horn/
CATEGORIES:Cape Horn
END:VEVENT
BEGIN:VEVENT
DTSTART;TZID=UTC:20191129T080000
DTEND;TZID=UTC:20191202T170000
DTSTAMP:20260422T223037
CREATED:20191125T000057Z
LAST-MODIFIED:20191125T000652Z
UID:5242-1575014400-1575306000@magbaylodge.com
SUMMARY:Brian spearfishing panga plus 1
DESCRIPTION:arrives hotel brennan on 29th\np750bl750o950hoo
URL:https://magbaylodge.com/event/brian-spearfishing-panga-plus-1/
CATEGORIES:Panga
END:VEVENT
BEGIN:VEVENT
DTSTART;TZID=UTC:20191128T080000
DTEND;TZID=UTC:20191130T170000
DTSTAMP:20260422T223037
CREATED:20190920T164142Z
LAST-MODIFIED:20190920T164142Z
UID:5130-1574928000-1575133200@magbaylodge.com
SUMMARY:Maja crew
DESCRIPTION:same guys from prior trips arrive evening of 27
URL:https://magbaylodge.com/event/maja-crew/
CATEGORIES:ProCat
END:VEVENT
BEGIN:VEVENT
DTSTART;TZID=UTC:20191119T080000
DTEND;TZID=UTC:20191124T170000
DTSTAMP:20260422T223037
CREATED:20190418T214826Z
LAST-MODIFIED:20191002T203839Z
UID:5047-1574150400-1574614800@magbaylodge.com
SUMMARY:Stoked on Fishing
DESCRIPTION:
URL:https://magbaylodge.com/event/stoked-on-fishing/
CATEGORIES:Cape Horn,KH,ProCat
END:VEVENT
BEGIN:VEVENT
DTSTART;TZID=UTC:20191114T080000
DTEND;TZID=UTC:20191119T170000
DTSTAMP:20260422T223037
CREATED:20190124T050342Z
LAST-MODIFIED:20190913T014219Z
UID:5003-1573718400-1574182800@magbaylodge.com
SUMMARY:Kevin Renshaw Group
DESCRIPTION:Renshaw deposit in mail via Salt Junkies \nCalafia Flight #CFV 791 \nNov. 14 arrives 4:25 Loreto \nNov 19 Departs CFV 792 departs Loreto 4 PM \nKevin Renshaw\, Jeremy Lammers\, Kevin Williams\, Dave Gray and Robert Raymer.
URL:https://magbaylodge.com/event/kevin-renshaw-group-2/
CATEGORIES:ProCat
END:VEVENT
BEGIN:VEVENT
DTSTART;TZID=UTC:20191113T080000
DTEND;TZID=UTC:20191118T170000
DTSTAMP:20260422T223037
CREATED:20191104T000845Z
LAST-MODIFIED:20191104T000845Z
UID:5218-1573632000-1574096400@magbaylodge.com
SUMMARY:Theo Anest
DESCRIPTION:theo plus 2
URL:https://magbaylodge.com/event/theo-anest/
CATEGORIES:Cape Horn
END:VEVENT
BEGIN:VEVENT
DTSTART;TZID=UTC:20191110T080000
DTEND;TZID=UTC:20191110T170000
DTSTAMP:20260422T223037
CREATED:20191110T144842Z
LAST-MODIFIED:20191110T144842Z
UID:5227-1573372800-1573405200@magbaylodge.com
SUMMARY:Theo Anest & Crew
DESCRIPTION:Arriving the 13th. Fishing 14-18. Leaving the 19th. Fishing Cape Horn $1000 deposit w/Toby
URL:https://magbaylodge.com/event/theo-anest-crew/
CATEGORIES:Cape Horn
END:VEVENT
BEGIN:VEVENT
DTSTART;TZID=UTC:20191110T000000
DTEND;TZID=UTC:20191114T000000
DTSTAMP:20260422T223037
CREATED:20190812T181931Z
LAST-MODIFIED:20190822T200756Z
UID:5079-1573344000-1573689600@magbaylodge.com
SUMMARY:David and Crew
DESCRIPTION:fish\, 10th\, 11th\, 13th maybe 12th\, switch boats as avail – no food or housing boat only \n  \nprokat one day on capehorn use day \n  \nd1500b3400
URL:https://magbaylodge.com/event/david-and-crew/
CATEGORIES:Cape Horn,ProCat
END:VEVENT
BEGIN:VEVENT
DTSTART;TZID=UTC:20191107T160000
DTEND;TZID=UTC:20191111T113000
DTSTAMP:20260422T223037
CREATED:20181217T154943Z
LAST-MODIFIED:20191028T221749Z
UID:4955-1573142400-1573471800@magbaylodge.com
SUMMARY:Dom Reale and Crew
DESCRIPTION:Arrive Nov 7th (pickup at LTO) \nFish 8\, 9 \,10 on Capehorn \nReturn Nov 11th to LTO \n3 Anglers Staying at La Casa \n  \nSpecial Notes: \n\nWe’d like to eat dinner at 5:30 or 6 pm\nWe can’t eat food with any kind of hot pepper\, chili flakes\, or hot sauce\nWe should try to avoid dinner food that is oily/greasy\nJust for fun\, we’d like some kind of simple dessert\, as easy as cookies or ice cream\, with dinner.\n\nd1800bl4135
URL:https://magbaylodge.com/event/dom-reale-and-crew/
CATEGORIES:Cape Horn,KH
END:VEVENT
BEGIN:VEVENT
DTSTART;TZID=UTC:20191105T080000
DTEND;TZID=UTC:20191109T170000
DTSTAMP:20260422T223037
CREATED:20191028T164027Z
LAST-MODIFIED:20191028T221243Z
UID:5211-1572940800-1573318800@magbaylodge.com
SUMMARY:shival maharaj + 3
DESCRIPTION:arrive on the 5th\, pickup in loreto at 3:03 pm\, return on Sat Nov 9th (flight leaves at 4:05)
URL:https://magbaylodge.com/event/shival-maharaj-3/
CATEGORIES:ProCat
END:VEVENT
BEGIN:VEVENT
DTSTART;TZID=UTC:20191103T080000
DTEND;TZID=UTC:20191104T170000
DTSTAMP:20260422T223037
CREATED:20191010T221107Z
LAST-MODIFIED:20191016T173726Z
UID:5173-1572768000-1572886800@magbaylodge.com
SUMMARY:Polo and crew from Cabo in Tournament
DESCRIPTION:
URL:https://magbaylodge.com/event/polo-and-crew-from-cabo/
CATEGORIES:Cape Horn
END:VEVENT
BEGIN:VEVENT
DTSTART;TZID=UTC:20191101T080000
DTEND;TZID=UTC:20191102T170000
DTSTAMP:20260422T223037
CREATED:20190826T214518Z
LAST-MODIFIED:20190826T215033Z
UID:5093-1572595200-1572714000@magbaylodge.com
SUMMARY:Pat Ford
DESCRIPTION:Writer for Marlin Magazine – 2 days fishing dep received\nr500b1300
URL:https://magbaylodge.com/event/pat-ford/
CATEGORIES:Cape Horn
END:VEVENT
BEGIN:VEVENT
DTSTART;TZID=UTC:20191031T080000
DTEND;TZID=UTC:20191106T170000
DTSTAMP:20260422T223037
CREATED:20190115T174307Z
LAST-MODIFIED:20191008T230726Z
UID:4998-1572508800-1573059600@magbaylodge.com
SUMMARY:Tod Zimmerman Group
DESCRIPTION:Deposit paid via check Joseph \nplane lands 3:10 pm Loreto
URL:https://magbaylodge.com/event/joe-and-crew/
CATEGORIES:ProCat
END:VEVENT
BEGIN:VEVENT
DTSTART;TZID=UTC:20191026T080000
DTEND;TZID=UTC:20191029T170000
DTSTAMP:20260422T223037
CREATED:20191011T160344Z
LAST-MODIFIED:20191011T163216Z
UID:5176-1572076800-1572368400@magbaylodge.com
SUMMARY:orchids crew
DESCRIPTION:
URL:https://magbaylodge.com/event/orchids-crew/
CATEGORIES:Cape Horn
END:VEVENT
BEGIN:VEVENT
DTSTART;TZID=UTC:20191023T080000
DTEND;TZID=UTC:20191028T170000
DTSTAMP:20260422T223037
CREATED:20190910T231244Z
LAST-MODIFIED:20190911T193735Z
UID:5110-1571817600-1572282000@magbaylodge.com
SUMMARY:Marco and Cristella
DESCRIPTION:landing the 23rd  pickup cabo – return on the 28th  flight leaves at noon\nCristella Moly    9/18/1969\nMarco Castellanos  11/03/1967 \npd2300bl5368 \ndoes not include food\, just lodging\, transfer boat
URL:https://magbaylodge.com/event/marco-and-cristella/
CATEGORIES:KH,ProCat
END:VEVENT
BEGIN:VEVENT
DTSTART;TZID=UTC:20191023T080000
DTEND;TZID=UTC:20191024T170000
DTSTAMP:20260422T223037
CREATED:20191010T152910Z
LAST-MODIFIED:20191010T152910Z
UID:5158-1571817600-1571936400@magbaylodge.com
SUMMARY:Dan G and Crew
DESCRIPTION:
URL:https://magbaylodge.com/event/dan-g-and-crew/
CATEGORIES:Cape Horn,KH
END:VEVENT
BEGIN:VEVENT
DTSTART;TZID=UTC:20191021T080000
DTEND;TZID=UTC:20191022T170000
DTSTAMP:20260422T223037
CREATED:20191010T162656Z
LAST-MODIFIED:20191010T162656Z
UID:5160-1571644800-1571763600@magbaylodge.com
SUMMARY:Dougs crew from yacht
DESCRIPTION:
URL:https://magbaylodge.com/event/dougs-crew-from-yacht/
CATEGORIES:KH
END:VEVENT
BEGIN:VEVENT
DTSTART;TZID=UTC:20191020T080000
DTEND;TZID=UTC:20191022T170000
DTSTAMP:20260422T223037
CREATED:20191002T203942Z
LAST-MODIFIED:20191010T162627Z
UID:5140-1571558400-1571763600@magbaylodge.com
SUMMARY:Pickup Doug and Crew At airport
DESCRIPTION:doug and phil pickup on the 20th\nfish on 21st  (night of 21st 9 people staying at the house)\nfuel big boat diesel 500 gal (approx) boat evening of the 21st\ngroup arrives on the 21st
URL:https://magbaylodge.com/event/pickup-doug-and-crew-at-airport/
CATEGORIES:KH
END:VEVENT
BEGIN:VEVENT
DTSTART;TZID=UTC:20191016T080000
DTEND;TZID=UTC:20191019T170000
DTSTAMP:20260422T223037
CREATED:20190917T213448Z
LAST-MODIFIED:20191014T164241Z
UID:5119-1571212800-1571504400@magbaylodge.com
SUMMARY:Scott Wakefield
DESCRIPTION:3 days fishing on CapeHorn arrives on the 16th evening\, returns on the 19th after fishing to Loreto\nno transfers or food (other than boat)\npd1000bl2750
URL:https://magbaylodge.com/event/scott-wakefield/
CATEGORIES:Cape Horn,KH
END:VEVENT
BEGIN:VEVENT
DTSTART;TZID=UTC:20191012T080000
DTEND;TZID=UTC:20191017T170000
DTSTAMP:20260422T223037
CREATED:20190115T153503Z
LAST-MODIFIED:20190115T153503Z
UID:4996-1570867200-1571331600@magbaylodge.com
SUMMARY:Kristen and Crew
DESCRIPTION:
URL:https://magbaylodge.com/event/kristen-and-crew/
CATEGORIES:ProCat
END:VEVENT
BEGIN:VEVENT
DTSTART;TZID=UTC:20191005T080000
DTEND;TZID=UTC:20191012T170000
DTSTAMP:20260422T223037
CREATED:20190108T172215Z
LAST-MODIFIED:20191002T221534Z
UID:4966-1570262400-1570899600@magbaylodge.com
SUMMARY:Greg Walter + 2
DESCRIPTION:arrive Oct 5th Leave Oct 12th 2019 \n4 days offshore and 1 day inshore.  I am assuming all inclusive\, so all meals for the three guys. \nd2200bl5200l400l270bl4530
URL:https://magbaylodge.com/event/greg-walter-2/
CATEGORIES:Cape Horn,KH
END:VEVENT
BEGIN:VEVENT
DTSTART;TZID=UTC:20190927T080000
DTEND;TZID=UTC:20190927T170000
DTSTAMP:20260422T223037
CREATED:20190927T151329Z
LAST-MODIFIED:20191003T122811Z
UID:5134-1569571200-1569603600@magbaylodge.com
SUMMARY:Theo Anest and Friends
DESCRIPTION:Arrive Nov 13th to Fish 14-15-16-17-18-19 Depart 20th \nFishing Cape Horn \nDeposit via Salt Junkies Cash transferred 10/3 $1k
URL:https://magbaylodge.com/event/theo-anest-and-friends/
END:VEVENT
BEGIN:VEVENT
DTSTART;TZID=UTC:20190922T080000
DTEND;TZID=UTC:20190925T170000
DTSTAMP:20260422T223037
CREATED:20190906T214034Z
LAST-MODIFIED:20190906T214034Z
UID:5108-1569139200-1569430800@magbaylodge.com
SUMMARY:Mr Matt and Crew
DESCRIPTION:
URL:https://magbaylodge.com/event/mr-matt-and-crew/
CATEGORIES:ProCat
END:VEVENT
BEGIN:VEVENT
DTSTART;TZID=UTC:20190910T080000
DTEND;TZID=UTC:20190912T170000
DTSTAMP:20260422T223037
CREATED:20190716T191826Z
LAST-MODIFIED:20190716T192918Z
UID:5065-1568102400-1568307600@magbaylodge.com
SUMMARY:Gregg and crew Inshore Arrive 10th Depart 12th
DESCRIPTION:1 day inshore\, 2 nights at Lodge \narrives on the 10th fish 11th – leave 12th look for golden trevalle but all species good \n7074904393 \nd375bl875
URL:https://magbaylodge.com/event/gregg-and-crew-inshore-arrive-10th-depart-12th/
CATEGORIES:KH
END:VEVENT
END:VCALENDAR