BEGIN:VCALENDAR
VERSION:2.0
PRODID:-//Mag Bay Sport Fishing Lodge - ECPv6.15.11//NONSGML v1.0//EN
CALSCALE:GREGORIAN
METHOD:PUBLISH
X-WR-CALNAME:Mag Bay Sport Fishing Lodge
X-ORIGINAL-URL:https://magbaylodge.com
X-WR-CALDESC:Events for Mag Bay Sport Fishing Lodge
REFRESH-INTERVAL;VALUE=DURATION:PT1H
X-Robots-Tag:noindex
X-PUBLISHED-TTL:PT1H
BEGIN:VTIMEZONE
TZID:UTC
BEGIN:STANDARD
TZOFFSETFROM:+0000
TZOFFSETTO:+0000
TZNAME:UTC
DTSTART:20190101T000000
END:STANDARD
END:VTIMEZONE
BEGIN:VEVENT
DTSTART;TZID=UTC:20210724T080000
DTEND;TZID=UTC:20210730T170000
DTSTAMP:20260420T165258
CREATED:20210627T164809Z
LAST-MODIFIED:20210627T164809Z
UID:6082-1627113600-1627664400@magbaylodge.com
SUMMARY:BlueGabe July 24-30
DESCRIPTION:Roundtrip airport from Cabo \nPanga inshore \nIsland house
URL:https://magbaylodge.com/event/bluegabe-july-24-30/
END:VEVENT
BEGIN:VEVENT
DTSTART;TZID=UTC:20210715T080000
DTEND;TZID=UTC:20210720T170000
DTSTAMP:20260420T165258
CREATED:20210210T172545Z
LAST-MODIFIED:20210210T172545Z
UID:5933-1626336000-1626800400@magbaylodge.com
SUMMARY:Joe Mclean + 3
DESCRIPTION:pending dep \n1-2 days offshore\, 1-2 days inshore
URL:https://magbaylodge.com/event/joe-mclean-3/
CATEGORIES:Lodge,ProCat
END:VEVENT
BEGIN:VEVENT
DTSTART;TZID=UTC:20210710T080000
DTEND;TZID=UTC:20210711T170000
DTSTAMP:20260420T165258
CREATED:20210707T214619Z
LAST-MODIFIED:20210707T214619Z
UID:6098-1625904000-1626022800@magbaylodge.com
SUMMARY:Alberto Perez Jacome
DESCRIPTION:Offshore fishing panga 2 people@ 23 bank on July 10 only \nNo meals\, staying at Lores or other b&b \n  \n 
URL:https://magbaylodge.com/event/alberto-perez-jacome/
END:VEVENT
BEGIN:VEVENT
DTSTART;TZID=UTC:20210706T080000
DTEND;TZID=UTC:20210711T170000
DTSTAMP:20260420T165258
CREATED:20210218T221948Z
LAST-MODIFIED:20210702T155656Z
UID:5948-1625558400-1626022800@magbaylodge.com
SUMMARY:Steven Estabrooks and crew
DESCRIPTION:July 6th through July 11th 2021 – All inclusive fishing charter for 4 people. Includes transfer to and from LTO\, 3 days fishing inshore on 1 Panga and 5 days lodging\, meals and non alcoholic drinks included. \nWife VERY ALLERGIC to chicken and peanuts!  No peanuts or peanut products in the house please. Others can eat chicken but she cannot. Shelly es alérgica a los cacahuetes/mani\, no los tiene en la casa ni los usa para cocinar o ella MUERE. Ella no puede comer pollo pero otros invitados pueden. \npaid in full \n  \n 
URL:https://magbaylodge.com/event/steven-estabrooks-and-crew/
CATEGORIES:Lodge,Panga
END:VEVENT
BEGIN:VEVENT
DTSTART;TZID=UTC:20210702T080000
DTEND;TZID=UTC:20210705T170000
DTSTAMP:20260420T165258
CREATED:20210701T211615Z
LAST-MODIFIED:20210701T211650Z
UID:6091-1625212800-1625504400@magbaylodge.com
SUMMARY:Brian Watkins +1
DESCRIPTION:Driving themselves arrive Friday July 2 depart Monday July 5 \n2 days panga offshore – diving – 3 nights (no food or transfers) \nPaid in full
URL:https://magbaylodge.com/event/brian-watkins-1/
END:VEVENT
BEGIN:VEVENT
DTSTART;TZID=UTC:20210626T080000
DTEND;TZID=UTC:20210701T170000
DTSTAMP:20260420T165258
CREATED:20210507T162504Z
LAST-MODIFIED:20210621T220308Z
UID:5999-1624694400-1625158800@magbaylodge.com
SUMMARY:Jason Paret + 5 guests
DESCRIPTION:Arriving LTO Alaska Flight 258 Sat\, Jun 26\n01:00 PM \nDeparting LTO Alaska Flight 255 Thu\, Jul 01\n02:10 PM \n\n\n\n\nTransfer to and from Loreto\n3 Days Fishing Pangas Inshore\n5 Nights Lodging\nAll Food and Meals not including alcohol\n\n\n\n\npaid in full \n 
URL:https://magbaylodge.com/event/jason-paret-5-guests/
END:VEVENT
BEGIN:VEVENT
DTSTART;TZID=UTC:20210614T080000
DTEND;TZID=UTC:20210619T170000
DTSTAMP:20260420T165258
CREATED:20210507T161910Z
LAST-MODIFIED:20210519T195227Z
UID:5997-1623657600-1624122000@magbaylodge.com
SUMMARY:Kevin Reskey
DESCRIPTION:June 2021 trip 3 guys 3 days inshore all inclusive 5 nights June 14-19 included pickup and return \ngrouper\, jurel and white sea bass \nd1350bl3150
URL:https://magbaylodge.com/event/kevin-reskey/
LOCATION:Magdalena Bay Fishing\, San Carlos Lodge
END:VEVENT
BEGIN:VEVENT
DTSTART;TZID=UTC:20210612T080000
DTEND;TZID=UTC:20210617T170000
DTSTAMP:20260420T165258
CREATED:20210507T160330Z
LAST-MODIFIED:20210519T195150Z
UID:5995-1623484800-1623949200@magbaylodge.com
SUMMARY:David Brown plus guests
DESCRIPTION:David Brown plus 3 guests \n5 night Pro Cat 36′ Fishing Package\nSat Jun 12 2021 – Thu Jun 17 2021′ \nAlaska Flight: 258 Loreto\, GTO on Sat\, Jun 12\, 2021 12:45 PM\nAlaska Flight: 255Departs Loreto\, GTO on Thu\, Jun 17\, 2021 2:10 PM \nd3150bl11500
URL:https://magbaylodge.com/event/david-brown-plus-guests/
LOCATION:Magdalena Bay Fishing\, San Carlos Lodge
END:VEVENT
BEGIN:VEVENT
DTSTART;VALUE=DATE:20210228
DTEND;VALUE=DATE:20210301
DTSTAMP:20260420T165258
CREATED:20210210T145514Z
LAST-MODIFIED:20210210T145850Z
UID:5930-1614470400-1614556799@magbaylodge.com
SUMMARY:Carol Bigley plus 1 Whale Watching
DESCRIPTION:Whale Watching Excursion – Feb 28th 2021. \nd0b225
URL:https://magbaylodge.com/event/carol-bigley-plus-1-whale-watching/
END:VEVENT
BEGIN:VEVENT
DTSTART;TZID=UTC:20210214T080000
DTEND;TZID=UTC:20210218T170000
DTSTAMP:20260420T165258
CREATED:20201224T143030Z
LAST-MODIFIED:20210129T145906Z
UID:5893-1613289600-1613667600@magbaylodge.com
SUMMARY:Janet and Marty
DESCRIPTION:Arriving on 2/14/2021 and departing 2/18/2021. Whale watching 3 days with Juan. This trip includes airport transfer and lodging for the duration of the trip. \nd0bl0 \n  \n 
URL:https://magbaylodge.com/event/janet-and-marty-2/
CATEGORIES:Lodge
END:VEVENT
BEGIN:VEVENT
DTSTART;TZID=UTC:20210101T080000
DTEND;TZID=UTC:20210101T170000
DTSTAMP:20260420T165258
CREATED:20200311T221204Z
LAST-MODIFIED:20200714T212356Z
UID:5429-1609488000-1609520400@magbaylodge.com
SUMMARY:Richard and Bill +1
DESCRIPTION:Cape Horn – Pickup in Cabo Nov 22\, 2020\nAll Inclusive\, MagBay Lodge move to Profe Casa last Day\nFish 4 days\, return to airport on the 27th\, mostly fly fishing some conventional / spinning \nTRIP CANCELLED \nd2580bl6020
URL:https://magbaylodge.com/event/richard-and-bill-1/
END:VEVENT
BEGIN:VEVENT
DTSTART;TZID=UTC:20201226T080000
DTEND;TZID=UTC:20201231T170000
DTSTAMP:20260420T165258
CREATED:20200923T151723Z
LAST-MODIFIED:20200923T152239Z
UID:5786-1608969600-1609434000@magbaylodge.com
SUMMARY:Colton Cunningham +2
DESCRIPTION:arrive dec 26th\, depart 31st all inclusive\npickup in cabo included pending flight details \nFish Cape Horn 4 days (3 days offshore) 1 day inshore/mouth they choose \n  \nSome special food restrictions \ndep4137.50bl4137.50 \n 
URL:https://magbaylodge.com/event/colton-cunningham-2/
CATEGORIES:Cape Horn,KH
END:VEVENT
BEGIN:VEVENT
DTSTART;TZID=UTC:20201217T080000
DTEND;TZID=UTC:20201222T170000
DTSTAMP:20260420T165258
CREATED:20200531T162013Z
LAST-MODIFIED:20200811T171727Z
UID:5454-1608192000-1608656400@magbaylodge.com
SUMMARY:Hinkels & Mckoy Zach
DESCRIPTION:Arrive 17th pick up Loreto fish 2 days pro Kat and 2 days pangas depart 22nd \ntrans. Included.\n‘deposit received via Joseph/Salt Junkies \n 
URL:https://magbaylodge.com/event/hinkels-mckoy-zach/
CATEGORIES:Panga,ProCat
END:VEVENT
BEGIN:VEVENT
DTSTART;TZID=UTC:20201217T080000
DTEND;TZID=UTC:20201220T170000
DTSTAMP:20260420T165258
CREATED:20200820T225221Z
LAST-MODIFIED:20200820T225221Z
UID:5521-1608192000-1608483600@magbaylodge.com
SUMMARY:Cass Corsian and Crew
DESCRIPTION:Cass Corsian and crew -December 17th through 20th 2020
URL:https://magbaylodge.com/event/cass-corsian-and-crew/
CATEGORIES:Cape Horn
END:VEVENT
BEGIN:VEVENT
DTSTART;TZID=UTC:20201212T080000
DTEND;TZID=UTC:20201217T170000
DTSTAMP:20260420T165258
CREATED:20200305T165524Z
LAST-MODIFIED:20200305T165741Z
UID:5423-1607760000-1608224400@magbaylodge.com
SUMMARY:King Hom + 2
DESCRIPTION:3 days offshore 1 day inshore\nd2000bl3900
URL:https://magbaylodge.com/event/king-hom-2/
CATEGORIES:Cape Horn,KH
END:VEVENT
BEGIN:VEVENT
DTSTART;TZID=UTC:20201206T080000
DTEND;TZID=UTC:20201213T170000
DTSTAMP:20260420T165258
CREATED:20200701T023911Z
LAST-MODIFIED:20200701T023911Z
UID:5473-1607241600-1607878800@magbaylodge.com
SUMMARY:Tremor S.
DESCRIPTION:Tremor arrives December 6 and departs the 13th. \nFish Cape Horn 7-11 \nFish Panga 12 \ndeposit Joseph @saltjunkies
URL:https://magbaylodge.com/event/tremor-s/
CATEGORIES:Cape Horn,Fly Fishing,Panga,Profe House
END:VEVENT
BEGIN:VEVENT
DTSTART;TZID=UTC:20201206T080000
DTEND;TZID=UTC:20201212T170000
DTSTAMP:20260420T165258
CREATED:20200903T162718Z
LAST-MODIFIED:20200910T191923Z
UID:5763-1607241600-1607792400@magbaylodge.com
SUMMARY:Jim Petrella and crew
DESCRIPTION:Jim Petrella and Crew \nDecember 6 – 12th. All inclusive (meals and drinks included). 4 days inshore fishing Bay Hunter\, 6 nights lodging. Includes pick and return to LTO \nAlaska #258 arrives Loreto 2:46…..Dec 6 \nAlaska #255 departs 4:00……Dec12 \nd2362b2362
URL:https://magbaylodge.com/event/jim-petrella-and-crew/
CATEGORIES:Panga
END:VEVENT
BEGIN:VEVENT
DTSTART;TZID=UTC:20201205T080000
DTEND;TZID=UTC:20201211T170000
DTSTAMP:20260420T165258
CREATED:20200223T163437Z
LAST-MODIFIED:20201116T151422Z
UID:5411-1607155200-1607706000@magbaylodge.com
SUMMARY:April Black + 3
DESCRIPTION:Arrive on the 5th staying at local resort\, pickup in Loreto 6th\, all inclusive meals fish processing transfers and house for 5-6 nights 3 days offshore fishing depart the 11th or 12th pending \nd4230bl9870
URL:https://magbaylodge.com/event/april-black-5/
CATEGORIES:KH,ProCat
END:VEVENT
BEGIN:VEVENT
DTSTART;TZID=UTC:20201201T080000
DTEND;TZID=UTC:20201206T170000
DTSTAMP:20260420T165258
CREATED:20200627T233201Z
LAST-MODIFIED:20200627T233201Z
UID:5467-1606809600-1607274000@magbaylodge.com
SUMMARY:Adam Vallerie & Friend
DESCRIPTION:Adam and friend will arrive to Loreto on Dec 1st. Someone will have to pick them up from the airport. Take them to Profe’s place they will fish offshore 2 days and 2 days inshore/mangroves on the big panga. \nDeposit received via Joseph (Salt Junkies)
URL:https://magbaylodge.com/event/adam-vallerie-friend/
CATEGORIES:Fly Fishing,Panga,Profe House
END:VEVENT
BEGIN:VEVENT
DTSTART;TZID=UTC:20201126T080000
DTEND;TZID=UTC:20201206T170000
DTSTAMP:20260420T165258
CREATED:20191229T192107Z
LAST-MODIFIED:20201026T204402Z
UID:5301-1606377600-1607274000@magbaylodge.com
SUMMARY:Janet and Mary
DESCRIPTION:10 days meals and lodging plus airport pickup \n5 days offshore fishing cape horn \nd9200bl0-p \n 
URL:https://magbaylodge.com/event/janet-and-mary/
CATEGORIES:Cape Horn,KH
END:VEVENT
BEGIN:VEVENT
DTSTART;TZID=UTC:20201123T080000
DTEND;TZID=UTC:20201125T170000
DTSTAMP:20260420T165258
CREATED:20200810T164928Z
LAST-MODIFIED:20200810T165016Z
UID:5512-1606118400-1606323600@magbaylodge.com
SUMMARY:Greg and Crew 4 Divers - November
DESCRIPTION:Gregory Cain and crew of 4 divers. November 23\,24\,25. Staying in Santa Maria Bay. Includes pick up in Loreto\, Boat\, and food on boat only. \nAny additional nights 200 per \nD1575B3675
URL:https://magbaylodge.com/event/greg-and-crew-4-divers-november/
CATEGORIES:Lodge
END:VEVENT
BEGIN:VEVENT
DTSTART;TZID=UTC:20201116T080000
DTEND;TZID=UTC:20201121T170000
DTSTAMP:20260420T165258
CREATED:20191007T180123Z
LAST-MODIFIED:20200209T190659Z
UID:5150-1605513600-1605978000@magbaylodge.com
SUMMARY:Joseph Verdirame and crew
DESCRIPTION:Prokat – arrive 11/16 fish 4 days depart 11/21\nall inclusive \n  \nd4000bl9185–ai
URL:https://magbaylodge.com/event/joseph-verdirame-and-crew/
CATEGORIES:KH,ProCat
END:VEVENT
BEGIN:VEVENT
DTSTART;TZID=UTC:20201115T080000
DTEND;TZID=UTC:20201121T170000
DTSTAMP:20260420T165258
CREATED:20200910T150230Z
LAST-MODIFIED:20201109T150302Z
UID:5772-1605427200-1605978000@magbaylodge.com
SUMMARY:Patrick Vincent and Crew
DESCRIPTION:Patrick Vincent (2 crew members). All inclusive arriving November 15th and departing November 21st. Includes 3 days offshore fishing and 5 nights lodging (all meals\, fish processing and freezing). Includes pick up and return from LTO. Pricing for 2 guys\, 2 days inshore\, 3 days offshore fishing\, 6 nights Lodging\, pickup and return to Loreto. \nd3675b3675
URL:https://magbaylodge.com/event/patrick-vincent-and-crew/
CATEGORIES:Cape Horn,Lodge,Panga
END:VEVENT
BEGIN:VEVENT
DTSTART;TZID=UTC:20201114T080000
DTEND;TZID=UTC:20201121T170000
DTSTAMP:20260420T165258
CREATED:20201108T172616Z
LAST-MODIFIED:20201108T172616Z
UID:5850-1605340800-1605978000@magbaylodge.com
SUMMARY:Deer Meat For Dinner
DESCRIPTION:
URL:https://magbaylodge.com/event/deer-meat-for-dinner/
CATEGORIES:Panga
END:VEVENT
BEGIN:VEVENT
DTSTART;TZID=UTC:20201114T080000
DTEND;TZID=UTC:20201117T170000
DTSTAMP:20260420T165258
CREATED:20201105T172632Z
LAST-MODIFIED:20201106T003832Z
UID:5848-1605340800-1605632400@magbaylodge.com
SUMMARY:Jeff F & Friend
DESCRIPTION:Arrive Saturday 14th fish Cape Horn 15\,16 checkout 17 \nlunches / waters \nbooked with Joseph
URL:https://magbaylodge.com/event/jeff-f-friend/
CATEGORIES:Cape Horn,Fly Fishing,Isabel
END:VEVENT
BEGIN:VEVENT
DTSTART;TZID=UTC:20201109T080000
DTEND;TZID=UTC:20201109T170000
DTSTAMP:20260420T165258
CREATED:20201012T140412Z
LAST-MODIFIED:20201012T140412Z
UID:5800-1604908800-1604941200@magbaylodge.com
SUMMARY:Clint Arthur Offshore Fishing
DESCRIPTION:November 9th 2020 – Marlin Fishing on 27ft Panga – One Day Fishing \npd48750b48750
URL:https://magbaylodge.com/event/clint-arthur-offshore-fishing/
CATEGORIES:Panga
END:VEVENT
BEGIN:VEVENT
DTSTART;TZID=UTC:20201108T080000
DTEND;TZID=UTC:20201112T170000
DTSTAMP:20260420T165258
CREATED:20200102T195550Z
LAST-MODIFIED:20200110T201829Z
UID:5304-1604822400-1605200400@magbaylodge.com
SUMMARY:Rich and Randall
DESCRIPTION:Rich\nRichard Rygg \nflyfish marlin dordo capehorn\nd2106bl4914
URL:https://magbaylodge.com/event/5304/
CATEGORIES:Cape Horn,Profe House
END:VEVENT
BEGIN:VEVENT
DTSTART;TZID=UTC:20201106T080000
DTEND;TZID=UTC:20201111T170000
DTSTAMP:20260420T165258
CREATED:20200114T154037Z
LAST-MODIFIED:20200903T005311Z
UID:5344-1604649600-1605114000@magbaylodge.com
SUMMARY:Barry and Dom
DESCRIPTION:pickup loreto Nov 6\, fish 7\,8\,9\,  – Fish 3 days choose best weather days – see email trip details 3 days fishing all inclusive prokat \nd18900bl6510 \n  \n 
URL:https://magbaylodge.com/event/barry-and-dom/
CATEGORIES:ProCat,Profe House
END:VEVENT
BEGIN:VEVENT
DTSTART;TZID=UTC:20201104T080000
DTEND;TZID=UTC:20201107T170000
DTSTAMP:20260420T165258
CREATED:20201028T201342Z
LAST-MODIFIED:20201028T201342Z
UID:5829-1604476800-1604768400@magbaylodge.com
SUMMARY:Bobby + 2 spearfishing 2 days
DESCRIPTION:clients arrive 4th stay at house – no meals or drinks included \ndepart prokat on 5th sleep on prokat return on 6th – no meals or drinks included \nstay at house on 6th if available – no meals or drinks included \nd0bl3400
URL:https://magbaylodge.com/event/bobby-2-spearfishing-2-days/
CATEGORIES:ProCat
END:VEVENT
BEGIN:VEVENT
DTSTART;VALUE=DATE:20201030
DTEND;VALUE=DATE:20201104
DTSTAMP:20260420T165258
CREATED:20191205T163626Z
LAST-MODIFIED:20191208T190249Z
UID:5271-1604016000-1604447999@magbaylodge.com
SUMMARY:Carlos Gonzalez PR
DESCRIPTION:Arriving to Lodge Oct. 30 – Nov.3 Fishing Oct 31\, Nov 1\, Nov 2  on Cape Horn. \nPrice included Transportation to and fro Cabo.  Lodging\, meals and non-alcoholic drinks included. \n50 % deposit given via PayPal Salt Junkies NP yet MBL.\njhd4000bl4000
URL:https://magbaylodge.com/event/carlos-gonzalez-pr/
CATEGORIES:Cape Horn
END:VEVENT
END:VCALENDAR