BEGIN:VCALENDAR
VERSION:2.0
PRODID:-//Mag Bay Sport Fishing Lodge - ECPv6.15.11//NONSGML v1.0//EN
CALSCALE:GREGORIAN
METHOD:PUBLISH
X-WR-CALNAME:Mag Bay Sport Fishing Lodge
X-ORIGINAL-URL:https://magbaylodge.com
X-WR-CALDESC:Events for Mag Bay Sport Fishing Lodge
REFRESH-INTERVAL;VALUE=DURATION:PT1H
X-Robots-Tag:noindex
X-PUBLISHED-TTL:PT1H
BEGIN:VTIMEZONE
TZID:UTC
BEGIN:STANDARD
TZOFFSETFROM:+0000
TZOFFSETTO:+0000
TZNAME:UTC
DTSTART:20200101T000000
END:STANDARD
END:VTIMEZONE
BEGIN:VEVENT
DTSTART;TZID=UTC:20211227T080000
DTEND;TZID=UTC:20220101T170000
DTSTAMP:20260422T015841
CREATED:20210405T211942Z
LAST-MODIFIED:20211122T171208Z
UID:5968-1640592000-1641056400@magbaylodge.com
SUMMARY:Dave Zoby and crew
DESCRIPTION:5 Night Fishing Package \nCape Horn \nPanga Inshore \n3 guests\n2 days offshore Cape Horn\n1 day inshore Panga \n 
URL:https://magbaylodge.com/event/dave-zoby-and-crew/
END:VEVENT
BEGIN:VEVENT
DTSTART;TZID=UTC:20220108T080000
DTEND;TZID=UTC:20220110T170000
DTSTAMP:20260422T015841
CREATED:20211013T185656Z
LAST-MODIFIED:20211013T185708Z
UID:6229-1641628800-1641834000@magbaylodge.com
SUMMARY:Annette Dawson
DESCRIPTION:Whale Watching Trip\n4 guests\nStaying at Lodge with meals\n1 day whale watching excursion + private beach hike
URL:https://magbaylodge.com/event/annette-dawson/
LOCATION:Magdalena Bay Fishing\, San Carlos Lodge
CATEGORIES:Lodge,Panga
END:VEVENT
BEGIN:VEVENT
DTSTART;TZID=UTC:20220109T080000
DTEND;TZID=UTC:20220115T170000
DTSTAMP:20260422T015841
CREATED:20211203T201432Z
LAST-MODIFIED:20211203T201432Z
UID:6347-1641715200-1642266000@magbaylodge.com
SUMMARY:Toby Larocque
DESCRIPTION:
URL:https://magbaylodge.com/event/toby-larocque/
END:VEVENT
BEGIN:VEVENT
DTSTART;TZID=UTC:20220116T080000
DTEND;TZID=UTC:20220121T170000
DTSTAMP:20260422T015841
CREATED:20211208T022656Z
LAST-MODIFIED:20220124T181336Z
UID:6350-1642320000-1642784400@magbaylodge.com
SUMMARY:Mark Jones
DESCRIPTION:Capehorn/Boston whaler \nCharter w/ MagBay Lodge SA de CV : \nAll Inclusive trip for 2 people \nArrive Jan16 \nDepart Jan 21 2022 \nNo transfer required \nIncludes 5 nights lodging in the main house \n3 days offshore fishing cape horn or whaler \nMeals and drink. \nDoes not include alcoholic beverages or fish processing. \n3 days fishing- 17\,18\,19 \n(Mark and Gary have signed waivers) \nmjwyoming@live.com
URL:https://magbaylodge.com/event/mark-jones/
CATEGORIES:Boston Whaler,Cape Horn
END:VEVENT
END:VCALENDAR