BEGIN:VCALENDAR
VERSION:2.0
PRODID:-//Mag Bay Sport Fishing Lodge - ECPv6.15.11//NONSGML v1.0//EN
CALSCALE:GREGORIAN
METHOD:PUBLISH
X-WR-CALNAME:Mag Bay Sport Fishing Lodge
X-ORIGINAL-URL:https://magbaylodge.com
X-WR-CALDESC:Events for Mag Bay Sport Fishing Lodge
REFRESH-INTERVAL;VALUE=DURATION:PT1H
X-Robots-Tag:noindex
X-PUBLISHED-TTL:PT1H
BEGIN:VTIMEZONE
TZID:UTC
BEGIN:STANDARD
TZOFFSETFROM:+0000
TZOFFSETTO:+0000
TZNAME:UTC
DTSTART:20210101T000000
END:STANDARD
END:VTIMEZONE
BEGIN:VEVENT
DTSTART;TZID=UTC:20220618T080000
DTEND;TZID=UTC:20220623T170000
DTSTAMP:20260421T181913
CREATED:20211214T175144Z
LAST-MODIFIED:20220603T155823Z
UID:6357-1655539200-1656003600@magbaylodge.com
SUMMARY:Angelo Ponte
DESCRIPTION:Fly in: June 18th @ 12:36pm  \nFishing Days- June 19th\, 20\, 21\, 22 \nDeparture from Loreto Airport Thursday June 23 @ 1:28pm \nPick up in loreto \nAll-inclusive meals\, drinks (non-alcoholic) \n3 Days of procat and 2 pangas to roosterfish and dive. \n1 Day of Mangrove fishing 2 Pangas. \nParty of 7- Main house \n(all waivers signed) \n(Paid in full)
URL:https://magbaylodge.com/event/anelo-ponte/
CATEGORIES:Panga,ProCat
END:VEVENT
BEGIN:VEVENT
DTSTART;TZID=UTC:20220625T080000
DTEND;TZID=UTC:20220702T170000
DTSTAMP:20260421T181913
CREATED:20220603T233056Z
LAST-MODIFIED:20220609T005203Z
UID:6716-1656144000-1656781200@magbaylodge.com
SUMMARY:Francisco Aguayo
DESCRIPTION:Arrival June 25\, 2022 Lotero 13:30 \nDeparture July 2\, 2022 14:00 \ntransportation to and from airport \nFishing offshore June 26\, 27\, 28 Boston Whaler \nRest on June 29 \nFishing inshore June 30\, July 1 Cape Horn \nIsland House \nParty of 3
URL:https://magbaylodge.com/event/francisco-aguayo/
CATEGORIES:Boston Whaler,Cape Horn,Lodge
END:VEVENT
BEGIN:VEVENT
DTSTART;TZID=UTC:20220626T080000
DTEND;TZID=UTC:20220629T170000
DTSTAMP:20260421T181913
CREATED:20220301T184659Z
LAST-MODIFIED:20220301T185141Z
UID:6598-1656230400-1656522000@magbaylodge.com
SUMMARY:Mike and Party
DESCRIPTION:Arrival June 26th \nDeparture June 29th \nPick up and Drop off Loreto Airport \n2 days inshore fishing on June 27\, and June 28 \nProcat \nIsland House \nadd 350.00 per day if roosters is added \n 
URL:https://magbaylodge.com/event/mike-and-party/
CATEGORIES:ProCat
END:VEVENT
BEGIN:VEVENT
DTSTART;TZID=UTC:20220630T080000
DTEND;TZID=UTC:20220706T170000
DTSTAMP:20260421T181913
CREATED:20220407T153239Z
LAST-MODIFIED:20220610T023135Z
UID:6664-1656576000-1657126800@magbaylodge.com
SUMMARY:Christopher Shumway
DESCRIPTION:Arriving June 30\, 2022 (12:48 on american airlines flight 3185) \nDeparture Magbay July 6\, 2022 \nTransportation to and from Loreto Airport \n4 days fishing (will add a 5th not sure inshore or offshore will pay the difference when he decides) \nFishing off shore July 1\,2\, \nInshore fishing July 3\, 4 \nMeals and Drinks \nLodging Main house \nCape Horn \nParty of 2 (could be party of 4)
URL:https://magbaylodge.com/event/christopher-shumway/
CATEGORIES:Cape Horn
END:VEVENT
END:VCALENDAR