BEGIN:VCALENDAR
VERSION:2.0
PRODID:-//Mag Bay Sport Fishing Lodge - ECPv6.15.11//NONSGML v1.0//EN
CALSCALE:GREGORIAN
METHOD:PUBLISH
X-WR-CALNAME:Mag Bay Sport Fishing Lodge
X-ORIGINAL-URL:https://magbaylodge.com
X-WR-CALDESC:Events for Mag Bay Sport Fishing Lodge
REFRESH-INTERVAL;VALUE=DURATION:PT1H
X-Robots-Tag:noindex
X-PUBLISHED-TTL:PT1H
BEGIN:VTIMEZONE
TZID:UTC
BEGIN:STANDARD
TZOFFSETFROM:+0000
TZOFFSETTO:+0000
TZNAME:UTC
DTSTART:20210101T000000
END:STANDARD
END:VTIMEZONE
BEGIN:VEVENT
DTSTART;TZID=UTC:20220901T080000
DTEND;TZID=UTC:20220906T170000
DTSTAMP:20260421T134656
CREATED:20220127T212735Z
LAST-MODIFIED:20220127T212735Z
UID:6493-1662019200-1662483600@magbaylodge.com
SUMMARY:Stocked in Fishing
DESCRIPTION:3 boats \nBoth Island houses \n 
URL:https://magbaylodge.com/event/stocked-in-fishing/
CATEGORIES:Island House
END:VEVENT
BEGIN:VEVENT
DTSTART;TZID=UTC:20220914T080000
DTEND;TZID=UTC:20220919T170000
DTSTAMP:20260421T134656
CREATED:20220406T000224Z
LAST-MODIFIED:20220418T145830Z
UID:6661-1663142400-1663606800@magbaylodge.com
SUMMARY:Taylor Irwin
DESCRIPTION:Arriving September 14\, 2022 \nDeparture September 19\, 2022 \nTransportation to and from Loreto Airport \nFishing offshore on September 15\, 16\, and 17 \nParty of two \nCapehorn \nMain house \nAll-Inclusive \nMeals and drinks (non-alcoholic) \nFish packaging \n 
URL:https://magbaylodge.com/event/taylor-irwin/
END:VEVENT
BEGIN:VEVENT
DTSTART;TZID=UTC:20220922T080000
DTEND;TZID=UTC:20220929T170000
DTSTAMP:20260421T134656
CREATED:20220225T030018Z
LAST-MODIFIED:20220228T234833Z
UID:6583-1663833600-1664470800@magbaylodge.com
SUMMARY:Bob Ellis
DESCRIPTION:Arriving September 22\, 2022 \nDeparture September 29\, 2022 \nTransportation to and from Loreto airport \n7 nights 5 days fishing \nFishing on September 23\, 24\, 25\, 26\, and 27 \nBoston Whaler offshore \nPanga inshore 23\, 24\, 25\, 26\, and 27 \nAll-inclusive meals and drinks (non-alcoholic) \nLodging at Bed and Breakfast \n  \n 
URL:https://magbaylodge.com/event/bob-ellis/
CATEGORIES:Boston Whaler,Panga
END:VEVENT
END:VCALENDAR