BEGIN:VCALENDAR
VERSION:2.0
PRODID:-//Mag Bay Sport Fishing Lodge - ECPv6.15.11//NONSGML v1.0//EN
CALSCALE:GREGORIAN
METHOD:PUBLISH
X-ORIGINAL-URL:https://magbaylodge.com
X-WR-CALDESC:Events for Mag Bay Sport Fishing Lodge
REFRESH-INTERVAL;VALUE=DURATION:PT1H
X-Robots-Tag:noindex
X-PUBLISHED-TTL:PT1H
BEGIN:VTIMEZONE
TZID:UTC
BEGIN:STANDARD
TZOFFSETFROM:+0000
TZOFFSETTO:+0000
TZNAME:UTC
DTSTART:20210101T000000
END:STANDARD
END:VTIMEZONE
BEGIN:VEVENT
DTSTART;TZID=UTC:20221028T080000
DTEND;TZID=UTC:20221102T170000
DTSTAMP:20260421T104242
CREATED:20211230T180701Z
LAST-MODIFIED:20220301T212718Z
UID:6391-1666944000-1667408400@magbaylodge.com
SUMMARY:Jacobo
DESCRIPTION:Arriving on October 28\, 2022 \nDeparture November 2\, 2022 \n6-8 hours each day diving with Marlin \nIsland house
URL:https://magbaylodge.com/event/jacobo/
CATEGORIES:ProCat
END:VEVENT
BEGIN:VEVENT
DTSTART;TZID=UTC:20221028T080000
DTEND;TZID=UTC:20221103T170000
DTSTAMP:20260421T104242
CREATED:20221024T162223Z
LAST-MODIFIED:20221024T162223Z
UID:6850-1666944000-1667494800@magbaylodge.com
SUMMARY:Joe Mclean
DESCRIPTION:Arrival October 28\, 2022\nDeparture November 3\, 2022\nFishing 5 days total\n3 Days Offshore whaler\n1 day south Whaler\n1 days inshore mangroves panga\nStaying Bed n Breakfast\nGroup of 4 people\npickup in loreto on oct 28th – return on the nov 3nd\nincludes all meals and non alcoholic beverages
URL:https://magbaylodge.com/event/joe-mclean/
CATEGORIES:Boston Whaler
END:VEVENT
BEGIN:VEVENT
DTSTART;TZID=UTC:20221102T080000
DTEND;TZID=UTC:20221113T170000
DTSTAMP:20260421T104242
CREATED:20211027T154007Z
LAST-MODIFIED:20220301T151423Z
UID:6270-1667376000-1668358800@magbaylodge.com
SUMMARY:Big Dog Tackle
DESCRIPTION:Trae West 12 people \nBoth Island House \nWaiting on more details
URL:https://magbaylodge.com/event/big-dog-tackle/
CATEGORIES:Island House,ProCat
END:VEVENT
BEGIN:VEVENT
DTSTART;TZID=UTC:20221106T080000
DTEND;TZID=UTC:20221107T170000
DTSTAMP:20260421T104242
CREATED:20221031T203817Z
LAST-MODIFIED:20221031T203817Z
UID:6856-1667721600-1667840400@magbaylodge.com
SUMMARY:Tom Mclaughlin
DESCRIPTION:Charter w/ MagBay Lodge SA de CV – \nBed and Breakfast Isabellas Suite 2 nights \n  \nCharter w/ MagBay Lodge SA de CV – \nfishing south to Mangroves panga fishing bring gear and goofy jugs rapalas\, spoons\, etc \nDoes not include transportation or meals\, Does include drinks\, snacks and lunch on the boating day \ncustomer might stay one more night\, might fish one more day mangroves or south to roosters
URL:https://magbaylodge.com/event/tom-mclaughlin/
CATEGORIES:Isabel
END:VEVENT
BEGIN:VEVENT
DTSTART;TZID=UTC:20221112T080000
DTEND;TZID=UTC:20221119T170000
DTSTAMP:20260421T104242
CREATED:20220214T215118Z
LAST-MODIFIED:20220927T215014Z
UID:6521-1668240000-1668877200@magbaylodge.com
SUMMARY:Lane Kinney
DESCRIPTION:Arriving 11/12/2022 \nDeparture 11/19/2022 \nTransportatin to and from Loerto Airport \nStaying at Isabella’s \nFishing 11/13\, 11/14\, 11/15\, 11/16\, 11/17\, 11/18 \nCape Horn \nMeals\, and Non Alcholoic drinks \nArrive Loreto on November 12 at 2:15 Pm Alaska Airlines  flight #342 \nDepart Loreto on November 19 at 3:25 PM Alaska Airlines flight #1148
URL:https://magbaylodge.com/event/lahe-kenny/
END:VEVENT
BEGIN:VEVENT
DTSTART;TZID=UTC:20221113T080000
DTEND;TZID=UTC:20221118T170000
DTSTAMP:20260421T104242
CREATED:20220126T042258Z
LAST-MODIFIED:20220301T213545Z
UID:6483-1668326400-1668790800@magbaylodge.com
SUMMARY:Ray Hall and Party
DESCRIPTION:Arriving November 13\, 2022 \nDeparture November 18\, 2022 \nNeeds transportation from Loreto Airport \n3-4 people \n3 days offshore fishing \n1 day inshore fishing \nFishing offshore November 14\, 15\,16 \nFishing inshore November 17 \nHydra Sport \nMain House \nAll-inclusive (non-alcoholic drinks) \n  \nFlights -Alaska from LAX on Nov 13 flight number 342 landing in Loreto at 215pm. \nNo flights on the 18th so we will stay one night in Loreto and fly home on the 19th \n 
URL:https://magbaylodge.com/event/ray-hall-and-party/
CATEGORIES:Boston Whaler
END:VEVENT
BEGIN:VEVENT
DTSTART;TZID=UTC:20221114T080000
DTEND;TZID=UTC:20221119T170000
DTSTAMP:20260421T104242
CREATED:20210730T161228Z
LAST-MODIFIED:20220822T194019Z
UID:6131-1668412800-1668877200@magbaylodge.com
SUMMARY:Rusty Brown +3
DESCRIPTION:Russell Brown + 3 guests\n3 day fishing trip / 5 night lodging\nBoston Whaler \n\nIsland House \nallergies to Beef\, Eggs\, peanuts\, rice\, and broccoli. \nSon is allergic to beets/eggs/rice – Hijo tiene alergia a remolacha/huevos/arroz cuidado por salud por favor
URL:https://magbaylodge.com/event/rusty-brown-3/
CATEGORIES:Boston Whaler,Island House
END:VEVENT
BEGIN:VEVENT
DTSTART;TZID=UTC:20221117T080000
DTEND;TZID=UTC:20221123T170000
DTSTAMP:20260421T104242
CREATED:20211130T195449Z
LAST-MODIFIED:20220502T174827Z
UID:6331-1668672000-1669222800@magbaylodge.com
SUMMARY:Chris Varjan and Crew
DESCRIPTION:Arriving November 17\, 2022 \nDeparture November 23\, 2022 \nTransportation to and from Cabo (Needa early transport on the 23rd) \nProcat and Conquest 4  days fishing total – 3 pangas (2 days) \nOffshore Fishing on the 18\,19\,20\, \nInshore fishing on Procat 21\, and 22 with 3 pangas \nMain House \nFlight information \nDeparture flight \nAmerican Airlines \nAA2115 9:06am \n\n 
URL:https://magbaylodge.com/event/chris-varjan-and-crew-2/
CATEGORIES:Cape Horn,Conquest,ProCat
END:VEVENT
BEGIN:VEVENT
DTSTART;TZID=UTC:20221124T080000
DTEND;TZID=UTC:20221126T170000
DTSTAMP:20260421T104242
CREATED:20221001T180852Z
LAST-MODIFIED:20221001T180852Z
UID:6829-1669276800-1669482000@magbaylodge.com
SUMMARY:Tom Frudden
DESCRIPTION:Off Shore Fishing November 24\, 25\, 26 \nCape Horn \nIsland Glamping \nMarcos booked reservation
URL:https://magbaylodge.com/event/tom-frudden/
CATEGORIES:Cape Horn
END:VEVENT
BEGIN:VEVENT
DTSTART;TZID=UTC:20221127T080000
DTEND;TZID=UTC:20221204T170000
DTSTAMP:20260421T104242
CREATED:20211222T022238Z
LAST-MODIFIED:20211224T185904Z
UID:6372-1669536000-1670173200@magbaylodge.com
SUMMARY:Toby Taylor and Crew
DESCRIPTION:Arriving November 27  Departing December 4 \nPick up from Loreto airport and return to Loreto airport \nShuttle to the island houses \n3 Boats\, Both Boston Whalers\, and ProKat \n5 days of fishing on 11/28\, 11/29\, 11/30\, 12/1\, 12/2 \nBoth Island houses \nParty of 9 \nAll-inclusive\, meals\, drinks (non-alcoholic) \n  \n 
URL:https://magbaylodge.com/event/toby-taylor-and-crew/
CATEGORIES:Boston Whaler,Island House,ProCat
END:VEVENT
END:VCALENDAR